BEGIN:VCALENDAR
VERSION:2.0
PRODID:-//FBC Tampa - ECPv6.15.11//NONSGML v1.0//EN
CALSCALE:GREGORIAN
METHOD:PUBLISH
X-ORIGINAL-URL:https://fbctampa.org
X-WR-CALDESC:Events for FBC Tampa
REFRESH-INTERVAL;VALUE=DURATION:PT1H
X-Robots-Tag:noindex
X-PUBLISHED-TTL:PT1H
BEGIN:VTIMEZONE
TZID:America/New_York
BEGIN:DAYLIGHT
TZOFFSETFROM:-0500
TZOFFSETTO:-0400
TZNAME:EDT
DTSTART:20250309T070000
END:DAYLIGHT
BEGIN:STANDARD
TZOFFSETFROM:-0400
TZOFFSETTO:-0500
TZNAME:EST
DTSTART:20251102T060000
END:STANDARD
BEGIN:DAYLIGHT
TZOFFSETFROM:-0500
TZOFFSETTO:-0400
TZNAME:EDT
DTSTART:20260308T070000
END:DAYLIGHT
BEGIN:STANDARD
TZOFFSETFROM:-0400
TZOFFSETTO:-0500
TZNAME:EST
DTSTART:20261101T060000
END:STANDARD
BEGIN:DAYLIGHT
TZOFFSETFROM:-0500
TZOFFSETTO:-0400
TZNAME:EDT
DTSTART:20270314T070000
END:DAYLIGHT
BEGIN:STANDARD
TZOFFSETFROM:-0400
TZOFFSETTO:-0500
TZNAME:EST
DTSTART:20271107T060000
END:STANDARD
END:VTIMEZONE
BEGIN:VEVENT
DTSTART;TZID=America/New_York:20260702T190000
DTEND;TZID=America/New_York:20260702T210000
DTSTAMP:20260423T165418
CREATED:20260203T192840Z
LAST-MODIFIED:20260219T182337Z
UID:10014242-1783018800-1783026000@fbctampa.org
SUMMARY:Worship Band Practice
DESCRIPTION:The worship band gathers to rehearse in preparation for Sunday services.
URL:https://fbctampa.org/event/worship-band-practice-2/2026-07-02/
LOCATION:Sanctuary\, 302 W Kennedy Blvd\, Tampa\, FL\, 33606\, United States
ATTACH;FMTTYPE=image/jpeg:https://fbctampa.org/wp-content/uploads/2026/02/DSC05454-scaled.jpg
END:VEVENT
BEGIN:VEVENT
DTSTART;TZID=America/New_York:20260709T190000
DTEND;TZID=America/New_York:20260709T210000
DTSTAMP:20260423T165418
CREATED:20260203T192840Z
LAST-MODIFIED:20260219T182337Z
UID:10014243-1783623600-1783630800@fbctampa.org
SUMMARY:Worship Band Practice
DESCRIPTION:The worship band gathers to rehearse in preparation for Sunday services.
URL:https://fbctampa.org/event/worship-band-practice-2/2026-07-09/
LOCATION:Sanctuary\, 302 W Kennedy Blvd\, Tampa\, FL\, 33606\, United States
ATTACH;FMTTYPE=image/jpeg:https://fbctampa.org/wp-content/uploads/2026/02/DSC05454-scaled.jpg
END:VEVENT
BEGIN:VEVENT
DTSTART;TZID=America/New_York:20260716T190000
DTEND;TZID=America/New_York:20260716T210000
DTSTAMP:20260423T165418
CREATED:20260203T192840Z
LAST-MODIFIED:20260219T182337Z
UID:10014244-1784228400-1784235600@fbctampa.org
SUMMARY:Worship Band Practice
DESCRIPTION:The worship band gathers to rehearse in preparation for Sunday services.
URL:https://fbctampa.org/event/worship-band-practice-2/2026-07-16/
LOCATION:Sanctuary\, 302 W Kennedy Blvd\, Tampa\, FL\, 33606\, United States
ATTACH;FMTTYPE=image/jpeg:https://fbctampa.org/wp-content/uploads/2026/02/DSC05454-scaled.jpg
END:VEVENT
BEGIN:VEVENT
DTSTART;TZID=America/New_York:20260723T190000
DTEND;TZID=America/New_York:20260723T210000
DTSTAMP:20260423T165418
CREATED:20260203T192840Z
LAST-MODIFIED:20260219T182337Z
UID:10014245-1784833200-1784840400@fbctampa.org
SUMMARY:Worship Band Practice
DESCRIPTION:The worship band gathers to rehearse in preparation for Sunday services.
URL:https://fbctampa.org/event/worship-band-practice-2/2026-07-23/
LOCATION:Sanctuary\, 302 W Kennedy Blvd\, Tampa\, FL\, 33606\, United States
ATTACH;FMTTYPE=image/jpeg:https://fbctampa.org/wp-content/uploads/2026/02/DSC05454-scaled.jpg
END:VEVENT
BEGIN:VEVENT
DTSTART;TZID=America/New_York:20260730T190000
DTEND;TZID=America/New_York:20260730T210000
DTSTAMP:20260423T165418
CREATED:20260203T192840Z
LAST-MODIFIED:20260219T182337Z
UID:10014246-1785438000-1785445200@fbctampa.org
SUMMARY:Worship Band Practice
DESCRIPTION:The worship band gathers to rehearse in preparation for Sunday services.
URL:https://fbctampa.org/event/worship-band-practice-2/2026-07-30/
LOCATION:Sanctuary\, 302 W Kennedy Blvd\, Tampa\, FL\, 33606\, United States
ATTACH;FMTTYPE=image/jpeg:https://fbctampa.org/wp-content/uploads/2026/02/DSC05454-scaled.jpg
END:VEVENT
BEGIN:VEVENT
DTSTART;TZID=America/New_York:20260806T190000
DTEND;TZID=America/New_York:20260806T210000
DTSTAMP:20260423T165418
CREATED:20260203T192840Z
LAST-MODIFIED:20260219T182337Z
UID:10014247-1786042800-1786050000@fbctampa.org
SUMMARY:Worship Band Practice
DESCRIPTION:The worship band gathers to rehearse in preparation for Sunday services.
URL:https://fbctampa.org/event/worship-band-practice-2/2026-08-06/
LOCATION:Sanctuary\, 302 W Kennedy Blvd\, Tampa\, FL\, 33606\, United States
ATTACH;FMTTYPE=image/jpeg:https://fbctampa.org/wp-content/uploads/2026/02/DSC05454-scaled.jpg
END:VEVENT
BEGIN:VEVENT
DTSTART;TZID=America/New_York:20260813T190000
DTEND;TZID=America/New_York:20260813T210000
DTSTAMP:20260423T165418
CREATED:20260203T192840Z
LAST-MODIFIED:20260219T182337Z
UID:10014248-1786647600-1786654800@fbctampa.org
SUMMARY:Worship Band Practice
DESCRIPTION:The worship band gathers to rehearse in preparation for Sunday services.
URL:https://fbctampa.org/event/worship-band-practice-2/2026-08-13/
LOCATION:Sanctuary\, 302 W Kennedy Blvd\, Tampa\, FL\, 33606\, United States
ATTACH;FMTTYPE=image/jpeg:https://fbctampa.org/wp-content/uploads/2026/02/DSC05454-scaled.jpg
END:VEVENT
BEGIN:VEVENT
DTSTART;TZID=America/New_York:20260820T190000
DTEND;TZID=America/New_York:20260820T210000
DTSTAMP:20260423T165418
CREATED:20260203T192840Z
LAST-MODIFIED:20260219T182337Z
UID:10014249-1787252400-1787259600@fbctampa.org
SUMMARY:Worship Band Practice
DESCRIPTION:The worship band gathers to rehearse in preparation for Sunday services.
URL:https://fbctampa.org/event/worship-band-practice-2/2026-08-20/
LOCATION:Sanctuary\, 302 W Kennedy Blvd\, Tampa\, FL\, 33606\, United States
ATTACH;FMTTYPE=image/jpeg:https://fbctampa.org/wp-content/uploads/2026/02/DSC05454-scaled.jpg
END:VEVENT
BEGIN:VEVENT
DTSTART;TZID=America/New_York:20260827T190000
DTEND;TZID=America/New_York:20260827T210000
DTSTAMP:20260423T165418
CREATED:20260203T192840Z
LAST-MODIFIED:20260219T182337Z
UID:10014250-1787857200-1787864400@fbctampa.org
SUMMARY:Worship Band Practice
DESCRIPTION:The worship band gathers to rehearse in preparation for Sunday services.
URL:https://fbctampa.org/event/worship-band-practice-2/2026-08-27/
LOCATION:Sanctuary\, 302 W Kennedy Blvd\, Tampa\, FL\, 33606\, United States
ATTACH;FMTTYPE=image/jpeg:https://fbctampa.org/wp-content/uploads/2026/02/DSC05454-scaled.jpg
END:VEVENT
BEGIN:VEVENT
DTSTART;TZID=America/New_York:20260903T190000
DTEND;TZID=America/New_York:20260903T210000
DTSTAMP:20260423T165418
CREATED:20260203T192840Z
LAST-MODIFIED:20260219T182337Z
UID:10014251-1788462000-1788469200@fbctampa.org
SUMMARY:Worship Band Practice
DESCRIPTION:The worship band gathers to rehearse in preparation for Sunday services.
URL:https://fbctampa.org/event/worship-band-practice-2/2026-09-03/
LOCATION:Sanctuary\, 302 W Kennedy Blvd\, Tampa\, FL\, 33606\, United States
ATTACH;FMTTYPE=image/jpeg:https://fbctampa.org/wp-content/uploads/2026/02/DSC05454-scaled.jpg
END:VEVENT
BEGIN:VEVENT
DTSTART;TZID=America/New_York:20260910T190000
DTEND;TZID=America/New_York:20260910T210000
DTSTAMP:20260423T165418
CREATED:20260203T192840Z
LAST-MODIFIED:20260219T182337Z
UID:10014252-1789066800-1789074000@fbctampa.org
SUMMARY:Worship Band Practice
DESCRIPTION:The worship band gathers to rehearse in preparation for Sunday services.
URL:https://fbctampa.org/event/worship-band-practice-2/2026-09-10/
LOCATION:Sanctuary\, 302 W Kennedy Blvd\, Tampa\, FL\, 33606\, United States
ATTACH;FMTTYPE=image/jpeg:https://fbctampa.org/wp-content/uploads/2026/02/DSC05454-scaled.jpg
END:VEVENT
BEGIN:VEVENT
DTSTART;TZID=America/New_York:20260917T190000
DTEND;TZID=America/New_York:20260917T210000
DTSTAMP:20260423T165418
CREATED:20260203T192840Z
LAST-MODIFIED:20260219T182337Z
UID:10014253-1789671600-1789678800@fbctampa.org
SUMMARY:Worship Band Practice
DESCRIPTION:The worship band gathers to rehearse in preparation for Sunday services.
URL:https://fbctampa.org/event/worship-band-practice-2/2026-09-17/
LOCATION:Sanctuary\, 302 W Kennedy Blvd\, Tampa\, FL\, 33606\, United States
ATTACH;FMTTYPE=image/jpeg:https://fbctampa.org/wp-content/uploads/2026/02/DSC05454-scaled.jpg
END:VEVENT
BEGIN:VEVENT
DTSTART;TZID=America/New_York:20260924T190000
DTEND;TZID=America/New_York:20260924T210000
DTSTAMP:20260423T165418
CREATED:20260203T192840Z
LAST-MODIFIED:20260219T182337Z
UID:10014254-1790276400-1790283600@fbctampa.org
SUMMARY:Worship Band Practice
DESCRIPTION:The worship band gathers to rehearse in preparation for Sunday services.
URL:https://fbctampa.org/event/worship-band-practice-2/2026-09-24/
LOCATION:Sanctuary\, 302 W Kennedy Blvd\, Tampa\, FL\, 33606\, United States
ATTACH;FMTTYPE=image/jpeg:https://fbctampa.org/wp-content/uploads/2026/02/DSC05454-scaled.jpg
END:VEVENT
BEGIN:VEVENT
DTSTART;TZID=America/New_York:20261001T190000
DTEND;TZID=America/New_York:20261001T210000
DTSTAMP:20260423T165418
CREATED:20260203T192840Z
LAST-MODIFIED:20260219T182337Z
UID:10014255-1790881200-1790888400@fbctampa.org
SUMMARY:Worship Band Practice
DESCRIPTION:The worship band gathers to rehearse in preparation for Sunday services.
URL:https://fbctampa.org/event/worship-band-practice-2/2026-10-01/
LOCATION:Sanctuary\, 302 W Kennedy Blvd\, Tampa\, FL\, 33606\, United States
ATTACH;FMTTYPE=image/jpeg:https://fbctampa.org/wp-content/uploads/2026/02/DSC05454-scaled.jpg
END:VEVENT
BEGIN:VEVENT
DTSTART;TZID=America/New_York:20261008T190000
DTEND;TZID=America/New_York:20261008T210000
DTSTAMP:20260423T165418
CREATED:20260203T192840Z
LAST-MODIFIED:20260219T182337Z
UID:10014256-1791486000-1791493200@fbctampa.org
SUMMARY:Worship Band Practice
DESCRIPTION:The worship band gathers to rehearse in preparation for Sunday services.
URL:https://fbctampa.org/event/worship-band-practice-2/2026-10-08/
LOCATION:Sanctuary\, 302 W Kennedy Blvd\, Tampa\, FL\, 33606\, United States
ATTACH;FMTTYPE=image/jpeg:https://fbctampa.org/wp-content/uploads/2026/02/DSC05454-scaled.jpg
END:VEVENT
BEGIN:VEVENT
DTSTART;TZID=America/New_York:20261015T190000
DTEND;TZID=America/New_York:20261015T210000
DTSTAMP:20260423T165418
CREATED:20260203T192840Z
LAST-MODIFIED:20260219T182337Z
UID:10014257-1792090800-1792098000@fbctampa.org
SUMMARY:Worship Band Practice
DESCRIPTION:The worship band gathers to rehearse in preparation for Sunday services.
URL:https://fbctampa.org/event/worship-band-practice-2/2026-10-15/
LOCATION:Sanctuary\, 302 W Kennedy Blvd\, Tampa\, FL\, 33606\, United States
ATTACH;FMTTYPE=image/jpeg:https://fbctampa.org/wp-content/uploads/2026/02/DSC05454-scaled.jpg
END:VEVENT
BEGIN:VEVENT
DTSTART;TZID=America/New_York:20261022T190000
DTEND;TZID=America/New_York:20261022T210000
DTSTAMP:20260423T165418
CREATED:20260203T192840Z
LAST-MODIFIED:20260219T182337Z
UID:10014258-1792695600-1792702800@fbctampa.org
SUMMARY:Worship Band Practice
DESCRIPTION:The worship band gathers to rehearse in preparation for Sunday services.
URL:https://fbctampa.org/event/worship-band-practice-2/2026-10-22/
LOCATION:Sanctuary\, 302 W Kennedy Blvd\, Tampa\, FL\, 33606\, United States
ATTACH;FMTTYPE=image/jpeg:https://fbctampa.org/wp-content/uploads/2026/02/DSC05454-scaled.jpg
END:VEVENT
BEGIN:VEVENT
DTSTART;TZID=America/New_York:20261029T190000
DTEND;TZID=America/New_York:20261029T210000
DTSTAMP:20260423T165418
CREATED:20260203T192840Z
LAST-MODIFIED:20260219T182337Z
UID:10014259-1793300400-1793307600@fbctampa.org
SUMMARY:Worship Band Practice
DESCRIPTION:The worship band gathers to rehearse in preparation for Sunday services.
URL:https://fbctampa.org/event/worship-band-practice-2/2026-10-29/
LOCATION:Sanctuary\, 302 W Kennedy Blvd\, Tampa\, FL\, 33606\, United States
ATTACH;FMTTYPE=image/jpeg:https://fbctampa.org/wp-content/uploads/2026/02/DSC05454-scaled.jpg
END:VEVENT
BEGIN:VEVENT
DTSTART;TZID=America/New_York:20261105T190000
DTEND;TZID=America/New_York:20261105T210000
DTSTAMP:20260423T165418
CREATED:20260203T192840Z
LAST-MODIFIED:20260219T182337Z
UID:10014260-1793905200-1793912400@fbctampa.org
SUMMARY:Worship Band Practice
DESCRIPTION:The worship band gathers to rehearse in preparation for Sunday services.
URL:https://fbctampa.org/event/worship-band-practice-2/2026-11-05/
LOCATION:Sanctuary\, 302 W Kennedy Blvd\, Tampa\, FL\, 33606\, United States
ATTACH;FMTTYPE=image/jpeg:https://fbctampa.org/wp-content/uploads/2026/02/DSC05454-scaled.jpg
END:VEVENT
BEGIN:VEVENT
DTSTART;TZID=America/New_York:20261112T190000
DTEND;TZID=America/New_York:20261112T210000
DTSTAMP:20260423T165418
CREATED:20260203T192840Z
LAST-MODIFIED:20260219T182337Z
UID:10014261-1794510000-1794517200@fbctampa.org
SUMMARY:Worship Band Practice
DESCRIPTION:The worship band gathers to rehearse in preparation for Sunday services.
URL:https://fbctampa.org/event/worship-band-practice-2/2026-11-12/
LOCATION:Sanctuary\, 302 W Kennedy Blvd\, Tampa\, FL\, 33606\, United States
ATTACH;FMTTYPE=image/jpeg:https://fbctampa.org/wp-content/uploads/2026/02/DSC05454-scaled.jpg
END:VEVENT
BEGIN:VEVENT
DTSTART;TZID=America/New_York:20261119T190000
DTEND;TZID=America/New_York:20261119T210000
DTSTAMP:20260423T165418
CREATED:20260203T192840Z
LAST-MODIFIED:20260219T182337Z
UID:10014262-1795114800-1795122000@fbctampa.org
SUMMARY:Worship Band Practice
DESCRIPTION:The worship band gathers to rehearse in preparation for Sunday services.
URL:https://fbctampa.org/event/worship-band-practice-2/2026-11-19/
LOCATION:Sanctuary\, 302 W Kennedy Blvd\, Tampa\, FL\, 33606\, United States
ATTACH;FMTTYPE=image/jpeg:https://fbctampa.org/wp-content/uploads/2026/02/DSC05454-scaled.jpg
END:VEVENT
BEGIN:VEVENT
DTSTART;TZID=America/New_York:20261126T190000
DTEND;TZID=America/New_York:20261126T210000
DTSTAMP:20260423T165418
CREATED:20260203T192840Z
LAST-MODIFIED:20260219T182337Z
UID:10014263-1795719600-1795726800@fbctampa.org
SUMMARY:Worship Band Practice
DESCRIPTION:The worship band gathers to rehearse in preparation for Sunday services.
URL:https://fbctampa.org/event/worship-band-practice-2/2026-11-26/
LOCATION:Sanctuary\, 302 W Kennedy Blvd\, Tampa\, FL\, 33606\, United States
ATTACH;FMTTYPE=image/jpeg:https://fbctampa.org/wp-content/uploads/2026/02/DSC05454-scaled.jpg
END:VEVENT
BEGIN:VEVENT
DTSTART;TZID=America/New_York:20261203T190000
DTEND;TZID=America/New_York:20261203T210000
DTSTAMP:20260423T165418
CREATED:20260203T192840Z
LAST-MODIFIED:20260219T182337Z
UID:10014264-1796324400-1796331600@fbctampa.org
SUMMARY:Worship Band Practice
DESCRIPTION:The worship band gathers to rehearse in preparation for Sunday services.
URL:https://fbctampa.org/event/worship-band-practice-2/2026-12-03/
LOCATION:Sanctuary\, 302 W Kennedy Blvd\, Tampa\, FL\, 33606\, United States
ATTACH;FMTTYPE=image/jpeg:https://fbctampa.org/wp-content/uploads/2026/02/DSC05454-scaled.jpg
END:VEVENT
BEGIN:VEVENT
DTSTART;TZID=America/New_York:20261210T190000
DTEND;TZID=America/New_York:20261210T210000
DTSTAMP:20260423T165418
CREATED:20260203T192840Z
LAST-MODIFIED:20260219T182337Z
UID:10014265-1796929200-1796936400@fbctampa.org
SUMMARY:Worship Band Practice
DESCRIPTION:The worship band gathers to rehearse in preparation for Sunday services.
URL:https://fbctampa.org/event/worship-band-practice-2/2026-12-10/
LOCATION:Sanctuary\, 302 W Kennedy Blvd\, Tampa\, FL\, 33606\, United States
ATTACH;FMTTYPE=image/jpeg:https://fbctampa.org/wp-content/uploads/2026/02/DSC05454-scaled.jpg
END:VEVENT
BEGIN:VEVENT
DTSTART;TZID=America/New_York:20261217T190000
DTEND;TZID=America/New_York:20261217T210000
DTSTAMP:20260423T165418
CREATED:20260203T192840Z
LAST-MODIFIED:20260219T182337Z
UID:10014266-1797534000-1797541200@fbctampa.org
SUMMARY:Worship Band Practice
DESCRIPTION:The worship band gathers to rehearse in preparation for Sunday services.
URL:https://fbctampa.org/event/worship-band-practice-2/2026-12-17/
LOCATION:Sanctuary\, 302 W Kennedy Blvd\, Tampa\, FL\, 33606\, United States
ATTACH;FMTTYPE=image/jpeg:https://fbctampa.org/wp-content/uploads/2026/02/DSC05454-scaled.jpg
END:VEVENT
END:VCALENDAR