BEGIN:VCALENDAR
VERSION:2.0
PRODID:-//FBC Tampa - ECPv6.15.11//NONSGML v1.0//EN
CALSCALE:GREGORIAN
METHOD:PUBLISH
X-WR-CALNAME:FBC Tampa
X-ORIGINAL-URL:https://fbctampa.org
X-WR-CALDESC:Events for FBC Tampa
REFRESH-INTERVAL;VALUE=DURATION:PT1H
X-Robots-Tag:noindex
X-PUBLISHED-TTL:PT1H
BEGIN:VTIMEZONE
TZID:America/New_York
BEGIN:DAYLIGHT
TZOFFSETFROM:-0500
TZOFFSETTO:-0400
TZNAME:EDT
DTSTART:20250309T070000
END:DAYLIGHT
BEGIN:STANDARD
TZOFFSETFROM:-0400
TZOFFSETTO:-0500
TZNAME:EST
DTSTART:20251102T060000
END:STANDARD
BEGIN:DAYLIGHT
TZOFFSETFROM:-0500
TZOFFSETTO:-0400
TZNAME:EDT
DTSTART:20260308T070000
END:DAYLIGHT
BEGIN:STANDARD
TZOFFSETFROM:-0400
TZOFFSETTO:-0500
TZNAME:EST
DTSTART:20261101T060000
END:STANDARD
BEGIN:DAYLIGHT
TZOFFSETFROM:-0500
TZOFFSETTO:-0400
TZNAME:EDT
DTSTART:20270314T070000
END:DAYLIGHT
BEGIN:STANDARD
TZOFFSETFROM:-0400
TZOFFSETTO:-0500
TZNAME:EST
DTSTART:20271107T060000
END:STANDARD
END:VTIMEZONE
BEGIN:VEVENT
DTSTART;TZID=America/New_York:20260426T121500
DTEND;TZID=America/New_York:20260426T140000
DTSTAMP:20260424T024021
CREATED:20250313T151521Z
LAST-MODIFIED:20260122T201733Z
UID:10002214-1777205700-1777212000@fbctampa.org
SUMMARY:VBS Training
DESCRIPTION:Join us for an essential training session as part of the VBS – Illumination Station event! This is a mandatory training designed to prepare you for a successful and impactful experience. Whether you’re a volunteer\, teen volunteer\, or staff member this session will equip you with the tools and knowledge needed to make the event a success.
URL:https://fbctampa.org/event/vbs-magnified-mandatory-training/
LOCATION:Dining Room\, 302 W Kennedy Blvd\, Tampa\, 33606\, United States
END:VEVENT
BEGIN:VEVENT
DTSTART;TZID=America/New_York:20260429T170000
DTEND;TZID=America/New_York:20260429T181500
DTSTAMP:20260424T024021
CREATED:20251211T160222Z
LAST-MODIFIED:20251211T160831Z
UID:10012961-1777482000-1777486500@fbctampa.org
SUMMARY:Wednesday Night Supper
DESCRIPTION:We offer delicious meals at an affordable price every Wednesday night\, making it easy for individuals and families to join our Midweek Ministries. This includes Discipleship Classes\, AWANA for children\, N1NE youth ministry\, and choir practice later in the evening. Our Midweek Ministries are a great opportunity to nourish both body and spirit!
URL:https://fbctampa.org/event/wednesday-night-supper-2-2/2026-04-29/
LOCATION:Dining Room\, 302 W Kennedy Blvd\, Tampa\, 33606\, United States
ATTACH;FMTTYPE=image/jpeg:https://fbctampa.org/wp-content/uploads/2025/02/dinner-fellowship-header.jpg
END:VEVENT
BEGIN:VEVENT
DTSTART;TZID=America/New_York:20260506T170000
DTEND;TZID=America/New_York:20260506T181500
DTSTAMP:20260424T024021
CREATED:20251211T160222Z
LAST-MODIFIED:20251211T160831Z
UID:10012962-1778086800-1778091300@fbctampa.org
SUMMARY:Wednesday Night Supper
DESCRIPTION:We offer delicious meals at an affordable price every Wednesday night\, making it easy for individuals and families to join our Midweek Ministries. This includes Discipleship Classes\, AWANA for children\, N1NE youth ministry\, and choir practice later in the evening. Our Midweek Ministries are a great opportunity to nourish both body and spirit!
URL:https://fbctampa.org/event/wednesday-night-supper-2-2/2026-05-06/
LOCATION:Dining Room\, 302 W Kennedy Blvd\, Tampa\, 33606\, United States
ATTACH;FMTTYPE=image/jpeg:https://fbctampa.org/wp-content/uploads/2025/02/dinner-fellowship-header.jpg
END:VEVENT
BEGIN:VEVENT
DTSTART;TZID=America/New_York:20260513T170000
DTEND;TZID=America/New_York:20260513T181500
DTSTAMP:20260424T024021
CREATED:20251211T160222Z
LAST-MODIFIED:20251211T160831Z
UID:10012963-1778691600-1778696100@fbctampa.org
SUMMARY:Wednesday Night Supper
DESCRIPTION:We offer delicious meals at an affordable price every Wednesday night\, making it easy for individuals and families to join our Midweek Ministries. This includes Discipleship Classes\, AWANA for children\, N1NE youth ministry\, and choir practice later in the evening. Our Midweek Ministries are a great opportunity to nourish both body and spirit!
URL:https://fbctampa.org/event/wednesday-night-supper-2-2/2026-05-13/
LOCATION:Dining Room\, 302 W Kennedy Blvd\, Tampa\, 33606\, United States
ATTACH;FMTTYPE=image/jpeg:https://fbctampa.org/wp-content/uploads/2025/02/dinner-fellowship-header.jpg
END:VEVENT
BEGIN:VEVENT
DTSTART;TZID=America/New_York:20260516T103000
DTEND;TZID=America/New_York:20260516T123000
DTSTAMP:20260424T024021
CREATED:20251028T173317Z
LAST-MODIFIED:20260406T145923Z
UID:10009939-1778927400-1778934600@fbctampa.org
SUMMARY:Women's Tea
DESCRIPTION:Please join us for a Women’s Tea on May 16\, 2025\, at 10:30 AM in the Dining Hall. Daughters in 3rd grade and older are welcome to attend. It’s sure to be a lovely time of tea and fellowship—we hope to see you there!
URL:https://fbctampa.org/event/womens-tea-floral-arranging/
LOCATION:Dining Room\, 302 W Kennedy Blvd\, Tampa\, 33606\, United States
ATTACH;FMTTYPE=image/jpeg:https://fbctampa.org/wp-content/uploads/2025/10/Untitled-design-8.jpg
END:VEVENT
BEGIN:VEVENT
DTSTART;TZID=America/New_York:20260517T120000
DTEND;TZID=America/New_York:20260517T140000
DTSTAMP:20260424T024021
CREATED:20260407T163049Z
LAST-MODIFIED:20260416T160711Z
UID:10015020-1779019200-1779026400@fbctampa.org
SUMMARY:Graduation Celebration
DESCRIPTION:Come join us in celebrating the 2026 high school\, college\, and career graduates! \nJoin us in the church dining room from 12:00 PM to 2:00 PM as we honor their hard work\, dedication\, and achievements. Let’s come together to congratulate them and wish them the Lord’s blessings as they step into their bright futures.
URL:https://fbctampa.org/event/graduation-celebration/
LOCATION:Dining Room\, 302 W Kennedy Blvd\, Tampa\, 33606\, United States
ATTACH;FMTTYPE=image/jpeg:https://fbctampa.org/wp-content/uploads/2026/04/Untitled-design-9.jpg
END:VEVENT
BEGIN:VEVENT
DTSTART;TZID=America/New_York:20260520T170000
DTEND;TZID=America/New_York:20260520T181500
DTSTAMP:20260424T024021
CREATED:20251211T160222Z
LAST-MODIFIED:20251211T160831Z
UID:10012964-1779296400-1779300900@fbctampa.org
SUMMARY:Wednesday Night Supper
DESCRIPTION:We offer delicious meals at an affordable price every Wednesday night\, making it easy for individuals and families to join our Midweek Ministries. This includes Discipleship Classes\, AWANA for children\, N1NE youth ministry\, and choir practice later in the evening. Our Midweek Ministries are a great opportunity to nourish both body and spirit!
URL:https://fbctampa.org/event/wednesday-night-supper-2-2/2026-05-20/
LOCATION:Dining Room\, 302 W Kennedy Blvd\, Tampa\, 33606\, United States
ATTACH;FMTTYPE=image/jpeg:https://fbctampa.org/wp-content/uploads/2025/02/dinner-fellowship-header.jpg
END:VEVENT
BEGIN:VEVENT
DTSTART;TZID=America/New_York:20260527T170000
DTEND;TZID=America/New_York:20260527T181500
DTSTAMP:20260424T024021
CREATED:20251211T160222Z
LAST-MODIFIED:20251211T160831Z
UID:10012965-1779901200-1779905700@fbctampa.org
SUMMARY:Wednesday Night Supper
DESCRIPTION:We offer delicious meals at an affordable price every Wednesday night\, making it easy for individuals and families to join our Midweek Ministries. This includes Discipleship Classes\, AWANA for children\, N1NE youth ministry\, and choir practice later in the evening. Our Midweek Ministries are a great opportunity to nourish both body and spirit!
URL:https://fbctampa.org/event/wednesday-night-supper-2-2/2026-05-27/
LOCATION:Dining Room\, 302 W Kennedy Blvd\, Tampa\, 33606\, United States
ATTACH;FMTTYPE=image/jpeg:https://fbctampa.org/wp-content/uploads/2025/02/dinner-fellowship-header.jpg
END:VEVENT
BEGIN:VEVENT
DTSTART;TZID=America/New_York:20260527T183000
DTEND;TZID=America/New_York:20260527T193000
DTSTAMP:20260424T024021
CREATED:20260107T170125Z
LAST-MODIFIED:20260107T174441Z
UID:10014050-1779906600-1779910200@fbctampa.org
SUMMARY:Quarterly Member's Meeting
DESCRIPTION:Join us for our Quarterly Member’s Meeting where we’ll review church updates\, financial reports\, and discuss upcoming plans. This is a time to stay informed and engaged in the life of our church community.
URL:https://fbctampa.org/event/members-meeting-2/
LOCATION:Dining Room\, 302 W Kennedy Blvd\, Tampa\, 33606\, United States
ATTACH;FMTTYPE=image/png:https://fbctampa.org/wp-content/uploads/2025/02/Members-Meeting-2.png
END:VEVENT
BEGIN:VEVENT
DTSTART;TZID=America/New_York:20261007T183000
DTEND;TZID=America/New_York:20261007T193000
DTSTAMP:20260424T024021
CREATED:20260107T170414Z
LAST-MODIFIED:20260107T174407Z
UID:10014051-1791397800-1791401400@fbctampa.org
SUMMARY:Quarterly Member's Meeting
DESCRIPTION:Join us for our Quarterly Member’s Meeting where we’ll review church updates\, financial reports\, and discuss upcoming plans. This is a time to stay informed and engaged in the life of our church community.
URL:https://fbctampa.org/event/members-meeting-3/
LOCATION:Dining Room\, 302 W Kennedy Blvd\, Tampa\, 33606\, United States
ATTACH;FMTTYPE=image/png:https://fbctampa.org/wp-content/uploads/2025/02/Members-Meeting-2.png
END:VEVENT
BEGIN:VEVENT
DTSTART;TZID=America/New_York:20261202T183000
DTEND;TZID=America/New_York:20261202T193000
DTSTAMP:20260424T024021
CREATED:20260107T174821Z
LAST-MODIFIED:20260107T174821Z
UID:10014166-1796236200-1796239800@fbctampa.org
SUMMARY:Annual Member's Meeting
DESCRIPTION:Join us for our Annual Member’s Meeting where we’ll review church updates\, financial reports\, and discuss upcoming plans. This is a time to stay informed and engaged in the life of our church community.
URL:https://fbctampa.org/event/annual-members-meeting/
LOCATION:Dining Room\, 302 W Kennedy Blvd\, Tampa\, 33606\, United States
END:VEVENT
END:VCALENDAR