BEGIN:VCALENDAR
VERSION:2.0
PRODID:-//FBC Tampa - ECPv6.15.11//NONSGML v1.0//EN
CALSCALE:GREGORIAN
METHOD:PUBLISH
X-WR-CALNAME:FBC Tampa
X-ORIGINAL-URL:https://fbctampa.org
X-WR-CALDESC:Events for FBC Tampa
REFRESH-INTERVAL;VALUE=DURATION:PT1H
X-Robots-Tag:noindex
X-PUBLISHED-TTL:PT1H
BEGIN:VTIMEZONE
TZID:America/New_York
BEGIN:DAYLIGHT
TZOFFSETFROM:-0500
TZOFFSETTO:-0400
TZNAME:EDT
DTSTART:20250309T070000
END:DAYLIGHT
BEGIN:STANDARD
TZOFFSETFROM:-0400
TZOFFSETTO:-0500
TZNAME:EST
DTSTART:20251102T060000
END:STANDARD
BEGIN:DAYLIGHT
TZOFFSETFROM:-0500
TZOFFSETTO:-0400
TZNAME:EDT
DTSTART:20260308T070000
END:DAYLIGHT
BEGIN:STANDARD
TZOFFSETFROM:-0400
TZOFFSETTO:-0500
TZNAME:EST
DTSTART:20261101T060000
END:STANDARD
BEGIN:DAYLIGHT
TZOFFSETFROM:-0500
TZOFFSETTO:-0400
TZNAME:EDT
DTSTART:20270314T070000
END:DAYLIGHT
BEGIN:STANDARD
TZOFFSETFROM:-0400
TZOFFSETTO:-0500
TZNAME:EST
DTSTART:20271107T060000
END:STANDARD
END:VTIMEZONE
BEGIN:VEVENT
DTSTART;TZID=America/New_York:20260624T193000
DTEND;TZID=America/New_York:20260624T203000
DTSTAMP:20260423T192251
CREATED:20250217T181132Z
LAST-MODIFIED:20260107T172114Z
UID:10014054-1782329400-1782333000@fbctampa.org
SUMMARY:Property Committee Meeting
DESCRIPTION:The Property Committee will meet to discuss the maintenance\, improvements\, and needs of the church property.
URL:https://fbctampa.org/event/property-committee-meeting/2026-06-24/
LOCATION:4th Floor Loft\, 302 W Kennedy Blvd\, Tampa\, FL\, 33606\, United States
ATTACH;FMTTYPE=image/png:https://fbctampa.org/wp-content/uploads/2025/02/Untitled-design-55.png
END:VEVENT
BEGIN:VEVENT
DTSTART;TZID=America/New_York:20260701T193000
DTEND;TZID=America/New_York:20260701T203000
DTSTAMP:20260423T192251
CREATED:20260105T200509Z
LAST-MODIFIED:20260107T164349Z
UID:10014042-1782934200-1782937800@fbctampa.org
SUMMARY:Deacon's Meeting
DESCRIPTION:The Deacons will meet to discuss church needs\, support efforts\, and ministry opportunities. This time is dedicated to serving and caring for the congregation and community.
URL:https://fbctampa.org/event/deacons-meeting-2/2026-07-01/
LOCATION:4th Floor Loft\, 302 W Kennedy Blvd\, Tampa\, FL\, 33606\, United States
ATTACH;FMTTYPE=image/jpeg:https://fbctampa.org/wp-content/uploads/2025/02/DeaconsMeeting-750x500-1.jpg
END:VEVENT
BEGIN:VEVENT
DTSTART;TZID=America/New_York:20260708T193000
DTEND;TZID=America/New_York:20260708T203000
DTSTAMP:20260423T192252
CREATED:20250730T172357Z
LAST-MODIFIED:20260105T194326Z
UID:10013985-1783539000-1783542600@fbctampa.org
SUMMARY:Missions Committee
DESCRIPTION:The Missions Committee will meet to discuss upcoming mission projects\, outreach opportunities\, and ways to support both local and global ministries.
URL:https://fbctampa.org/event/missions-committee-3/2026-07-08/
LOCATION:4th Floor Loft\, 302 W Kennedy Blvd\, Tampa\, FL\, 33606\, United States
ATTACH;FMTTYPE=image/png:https://fbctampa.org/wp-content/uploads/2025/02/Untitled-design-55.png
END:VEVENT
BEGIN:VEVENT
DTSTART;TZID=America/New_York:20260714T103000
DTEND;TZID=America/New_York:20260714T113000
DTSTAMP:20260423T192252
CREATED:20251103T164913Z
LAST-MODIFIED:20251103T164913Z
UID:10010592-1784025000-1784028600@fbctampa.org
SUMMARY:Women On Mission
DESCRIPTION:The Women on Mission meet to focus on missions\, outreach\, and service opportunities. Join us as we come together to pray\, plan\, and support local and global mission efforts.
URL:https://fbctampa.org/event/women-on-mission-3-2-2/2026-07-14/
LOCATION:4th Floor Loft\, 302 W Kennedy Blvd\, Tampa\, FL\, 33606\, United States
ATTACH;FMTTYPE=image/png:https://fbctampa.org/wp-content/uploads/2025/02/NewWOMSlide25.png
END:VEVENT
BEGIN:VEVENT
DTSTART;TZID=America/New_York:20260715T193000
DTEND;TZID=America/New_York:20260715T203000
DTSTAMP:20260423T192252
CREATED:20250217T170633Z
LAST-MODIFIED:20260105T195023Z
UID:10013998-1784143800-1784147400@fbctampa.org
SUMMARY:Personnel Committee Meeting
DESCRIPTION:The Personnel Committee meeting will be held to discuss staffing\, volunteer needs\, and any other personnel matters.
URL:https://fbctampa.org/event/personnel-committee-meeting/2026-07-15/
LOCATION:4th Floor Loft\, 302 W Kennedy Blvd\, Tampa\, FL\, 33606\, United States
ATTACH;FMTTYPE=image/png:https://fbctampa.org/wp-content/uploads/2025/02/Untitled-design-55.png
END:VEVENT
BEGIN:VEVENT
DTSTART;TZID=America/New_York:20260719T123000
DTEND;TZID=America/New_York:20260719T133000
DTSTAMP:20260423T192252
CREATED:20250730T172542Z
LAST-MODIFIED:20260105T195812Z
UID:10014017-1784464200-1784467800@fbctampa.org
SUMMARY:Stewardship Committee
DESCRIPTION:The Stewardship Committee will meet to discuss financial planning\, budgeting\, and ways to encourage faithful giving and stewardship within the church.
URL:https://fbctampa.org/event/stewardship-committee-2/2026-07-19/
LOCATION:4th Floor Loft\, 302 W Kennedy Blvd\, Tampa\, FL\, 33606\, United States
ATTACH;FMTTYPE=image/png:https://fbctampa.org/wp-content/uploads/2025/02/Untitled-design-55.png
END:VEVENT
BEGIN:VEVENT
DTSTART;TZID=America/New_York:20260722T193000
DTEND;TZID=America/New_York:20260722T203000
DTSTAMP:20260423T192252
CREATED:20260107T173441Z
LAST-MODIFIED:20260107T173920Z
UID:10014139-1784748600-1784752200@fbctampa.org
SUMMARY:320 Building Committe Meeting
DESCRIPTION:The 320 Committee Building will meet to discuss the maintenance\, improvements\, and needs of the property.
URL:https://fbctampa.org/event/320-building-committe-meeting-2/2026-07-22/
LOCATION:4th Floor Loft\, 302 W Kennedy Blvd\, Tampa\, FL\, 33606\, United States
END:VEVENT
BEGIN:VEVENT
DTSTART;TZID=America/New_York:20260805T193000
DTEND;TZID=America/New_York:20260805T203000
DTSTAMP:20260423T192252
CREATED:20260105T200509Z
LAST-MODIFIED:20260107T164349Z
UID:10014043-1785958200-1785961800@fbctampa.org
SUMMARY:Deacon's Meeting
DESCRIPTION:The Deacons will meet to discuss church needs\, support efforts\, and ministry opportunities. This time is dedicated to serving and caring for the congregation and community.
URL:https://fbctampa.org/event/deacons-meeting-2/2026-08-05/
LOCATION:4th Floor Loft\, 302 W Kennedy Blvd\, Tampa\, FL\, 33606\, United States
ATTACH;FMTTYPE=image/jpeg:https://fbctampa.org/wp-content/uploads/2025/02/DeaconsMeeting-750x500-1.jpg
END:VEVENT
BEGIN:VEVENT
DTSTART;TZID=America/New_York:20260811T103000
DTEND;TZID=America/New_York:20260811T113000
DTSTAMP:20260423T192252
CREATED:20251103T164913Z
LAST-MODIFIED:20251103T164913Z
UID:10010593-1786444200-1786447800@fbctampa.org
SUMMARY:Women On Mission
DESCRIPTION:The Women on Mission meet to focus on missions\, outreach\, and service opportunities. Join us as we come together to pray\, plan\, and support local and global mission efforts.
URL:https://fbctampa.org/event/women-on-mission-3-2-2/2026-08-11/
LOCATION:4th Floor Loft\, 302 W Kennedy Blvd\, Tampa\, FL\, 33606\, United States
ATTACH;FMTTYPE=image/png:https://fbctampa.org/wp-content/uploads/2025/02/NewWOMSlide25.png
END:VEVENT
BEGIN:VEVENT
DTSTART;TZID=America/New_York:20260812T193000
DTEND;TZID=America/New_York:20260812T203000
DTSTAMP:20260423T192252
CREATED:20250730T172357Z
LAST-MODIFIED:20260105T194326Z
UID:10013986-1786563000-1786566600@fbctampa.org
SUMMARY:Missions Committee
DESCRIPTION:The Missions Committee will meet to discuss upcoming mission projects\, outreach opportunities\, and ways to support both local and global ministries.
URL:https://fbctampa.org/event/missions-committee-3/2026-08-12/
LOCATION:4th Floor Loft\, 302 W Kennedy Blvd\, Tampa\, FL\, 33606\, United States
ATTACH;FMTTYPE=image/png:https://fbctampa.org/wp-content/uploads/2025/02/Untitled-design-55.png
END:VEVENT
BEGIN:VEVENT
DTSTART;TZID=America/New_York:20260816T123000
DTEND;TZID=America/New_York:20260816T133000
DTSTAMP:20260423T192252
CREATED:20250730T172542Z
LAST-MODIFIED:20260105T195812Z
UID:10014018-1786883400-1786887000@fbctampa.org
SUMMARY:Stewardship Committee
DESCRIPTION:The Stewardship Committee will meet to discuss financial planning\, budgeting\, and ways to encourage faithful giving and stewardship within the church.
URL:https://fbctampa.org/event/stewardship-committee-2/2026-08-16/
LOCATION:4th Floor Loft\, 302 W Kennedy Blvd\, Tampa\, FL\, 33606\, United States
ATTACH;FMTTYPE=image/png:https://fbctampa.org/wp-content/uploads/2025/02/Untitled-design-55.png
END:VEVENT
BEGIN:VEVENT
DTSTART;TZID=America/New_York:20260819T193000
DTEND;TZID=America/New_York:20260819T203000
DTSTAMP:20260423T192252
CREATED:20250217T170633Z
LAST-MODIFIED:20260105T195023Z
UID:10013999-1787167800-1787171400@fbctampa.org
SUMMARY:Personnel Committee Meeting
DESCRIPTION:The Personnel Committee meeting will be held to discuss staffing\, volunteer needs\, and any other personnel matters.
URL:https://fbctampa.org/event/personnel-committee-meeting/2026-08-19/
LOCATION:4th Floor Loft\, 302 W Kennedy Blvd\, Tampa\, FL\, 33606\, United States
ATTACH;FMTTYPE=image/png:https://fbctampa.org/wp-content/uploads/2025/02/Untitled-design-55.png
END:VEVENT
BEGIN:VEVENT
DTSTART;TZID=America/New_York:20260826T193000
DTEND;TZID=America/New_York:20260826T203000
DTSTAMP:20260423T192252
CREATED:20250217T181132Z
LAST-MODIFIED:20260107T172114Z
UID:10014055-1787772600-1787776200@fbctampa.org
SUMMARY:Property Committee Meeting
DESCRIPTION:The Property Committee will meet to discuss the maintenance\, improvements\, and needs of the church property.
URL:https://fbctampa.org/event/property-committee-meeting/2026-08-26/
LOCATION:4th Floor Loft\, 302 W Kennedy Blvd\, Tampa\, FL\, 33606\, United States
ATTACH;FMTTYPE=image/png:https://fbctampa.org/wp-content/uploads/2025/02/Untitled-design-55.png
END:VEVENT
BEGIN:VEVENT
DTSTART;TZID=America/New_York:20260902T193000
DTEND;TZID=America/New_York:20260902T203000
DTSTAMP:20260423T192252
CREATED:20260105T200509Z
LAST-MODIFIED:20260107T164349Z
UID:10014044-1788377400-1788381000@fbctampa.org
SUMMARY:Deacon's Meeting
DESCRIPTION:The Deacons will meet to discuss church needs\, support efforts\, and ministry opportunities. This time is dedicated to serving and caring for the congregation and community.
URL:https://fbctampa.org/event/deacons-meeting-2/2026-09-02/
LOCATION:4th Floor Loft\, 302 W Kennedy Blvd\, Tampa\, FL\, 33606\, United States
ATTACH;FMTTYPE=image/jpeg:https://fbctampa.org/wp-content/uploads/2025/02/DeaconsMeeting-750x500-1.jpg
END:VEVENT
BEGIN:VEVENT
DTSTART;TZID=America/New_York:20260908T103000
DTEND;TZID=America/New_York:20260908T113000
DTSTAMP:20260423T192252
CREATED:20251103T164913Z
LAST-MODIFIED:20251103T164913Z
UID:10010594-1788863400-1788867000@fbctampa.org
SUMMARY:Women On Mission
DESCRIPTION:The Women on Mission meet to focus on missions\, outreach\, and service opportunities. Join us as we come together to pray\, plan\, and support local and global mission efforts.
URL:https://fbctampa.org/event/women-on-mission-3-2-2/2026-09-08/
LOCATION:4th Floor Loft\, 302 W Kennedy Blvd\, Tampa\, FL\, 33606\, United States
ATTACH;FMTTYPE=image/png:https://fbctampa.org/wp-content/uploads/2025/02/NewWOMSlide25.png
END:VEVENT
BEGIN:VEVENT
DTSTART;TZID=America/New_York:20260909T193000
DTEND;TZID=America/New_York:20260909T203000
DTSTAMP:20260423T192252
CREATED:20250730T172357Z
LAST-MODIFIED:20260105T194326Z
UID:10013987-1788982200-1788985800@fbctampa.org
SUMMARY:Missions Committee
DESCRIPTION:The Missions Committee will meet to discuss upcoming mission projects\, outreach opportunities\, and ways to support both local and global ministries.
URL:https://fbctampa.org/event/missions-committee-3/2026-09-09/
LOCATION:4th Floor Loft\, 302 W Kennedy Blvd\, Tampa\, FL\, 33606\, United States
ATTACH;FMTTYPE=image/png:https://fbctampa.org/wp-content/uploads/2025/02/Untitled-design-55.png
END:VEVENT
BEGIN:VEVENT
DTSTART;TZID=America/New_York:20260916T193000
DTEND;TZID=America/New_York:20260916T203000
DTSTAMP:20260423T192252
CREATED:20250217T170633Z
LAST-MODIFIED:20260105T195023Z
UID:10014000-1789587000-1789590600@fbctampa.org
SUMMARY:Personnel Committee Meeting
DESCRIPTION:The Personnel Committee meeting will be held to discuss staffing\, volunteer needs\, and any other personnel matters.
URL:https://fbctampa.org/event/personnel-committee-meeting/2026-09-16/
LOCATION:4th Floor Loft\, 302 W Kennedy Blvd\, Tampa\, FL\, 33606\, United States
ATTACH;FMTTYPE=image/png:https://fbctampa.org/wp-content/uploads/2025/02/Untitled-design-55.png
END:VEVENT
BEGIN:VEVENT
DTSTART;TZID=America/New_York:20260920T123000
DTEND;TZID=America/New_York:20260920T133000
DTSTAMP:20260423T192252
CREATED:20250730T172542Z
LAST-MODIFIED:20260105T195812Z
UID:10014019-1789907400-1789911000@fbctampa.org
SUMMARY:Stewardship Committee
DESCRIPTION:The Stewardship Committee will meet to discuss financial planning\, budgeting\, and ways to encourage faithful giving and stewardship within the church.
URL:https://fbctampa.org/event/stewardship-committee-2/2026-09-20/
LOCATION:4th Floor Loft\, 302 W Kennedy Blvd\, Tampa\, FL\, 33606\, United States
ATTACH;FMTTYPE=image/png:https://fbctampa.org/wp-content/uploads/2025/02/Untitled-design-55.png
END:VEVENT
BEGIN:VEVENT
DTSTART;TZID=America/New_York:20260923T193000
DTEND;TZID=America/New_York:20260923T203000
DTSTAMP:20260423T192252
CREATED:20260107T173441Z
LAST-MODIFIED:20260107T173920Z
UID:10014140-1790191800-1790195400@fbctampa.org
SUMMARY:320 Building Committe Meeting
DESCRIPTION:The 320 Committee Building will meet to discuss the maintenance\, improvements\, and needs of the property.
URL:https://fbctampa.org/event/320-building-committe-meeting-2/2026-09-23/
LOCATION:4th Floor Loft\, 302 W Kennedy Blvd\, Tampa\, FL\, 33606\, United States
END:VEVENT
BEGIN:VEVENT
DTSTART;TZID=America/New_York:20261007T193000
DTEND;TZID=America/New_York:20261007T203000
DTSTAMP:20260423T192252
CREATED:20260105T200509Z
LAST-MODIFIED:20260107T164349Z
UID:10014045-1791401400-1791405000@fbctampa.org
SUMMARY:Deacon's Meeting
DESCRIPTION:The Deacons will meet to discuss church needs\, support efforts\, and ministry opportunities. This time is dedicated to serving and caring for the congregation and community.
URL:https://fbctampa.org/event/deacons-meeting-2/2026-10-07/
LOCATION:4th Floor Loft\, 302 W Kennedy Blvd\, Tampa\, FL\, 33606\, United States
ATTACH;FMTTYPE=image/jpeg:https://fbctampa.org/wp-content/uploads/2025/02/DeaconsMeeting-750x500-1.jpg
END:VEVENT
BEGIN:VEVENT
DTSTART;TZID=America/New_York:20261013T103000
DTEND;TZID=America/New_York:20261013T113000
DTSTAMP:20260423T192252
CREATED:20251103T164913Z
LAST-MODIFIED:20251103T164913Z
UID:10010595-1791887400-1791891000@fbctampa.org
SUMMARY:Women On Mission
DESCRIPTION:The Women on Mission meet to focus on missions\, outreach\, and service opportunities. Join us as we come together to pray\, plan\, and support local and global mission efforts.
URL:https://fbctampa.org/event/women-on-mission-3-2-2/2026-10-13/
LOCATION:4th Floor Loft\, 302 W Kennedy Blvd\, Tampa\, FL\, 33606\, United States
ATTACH;FMTTYPE=image/png:https://fbctampa.org/wp-content/uploads/2025/02/NewWOMSlide25.png
END:VEVENT
BEGIN:VEVENT
DTSTART;TZID=America/New_York:20261014T193000
DTEND;TZID=America/New_York:20261014T203000
DTSTAMP:20260423T192252
CREATED:20250730T172357Z
LAST-MODIFIED:20260105T194326Z
UID:10013988-1792006200-1792009800@fbctampa.org
SUMMARY:Missions Committee
DESCRIPTION:The Missions Committee will meet to discuss upcoming mission projects\, outreach opportunities\, and ways to support both local and global ministries.
URL:https://fbctampa.org/event/missions-committee-3/2026-10-14/
LOCATION:4th Floor Loft\, 302 W Kennedy Blvd\, Tampa\, FL\, 33606\, United States
ATTACH;FMTTYPE=image/png:https://fbctampa.org/wp-content/uploads/2025/02/Untitled-design-55.png
END:VEVENT
BEGIN:VEVENT
DTSTART;TZID=America/New_York:20261018T123000
DTEND;TZID=America/New_York:20261018T133000
DTSTAMP:20260423T192252
CREATED:20250730T172542Z
LAST-MODIFIED:20260105T195812Z
UID:10014020-1792326600-1792330200@fbctampa.org
SUMMARY:Stewardship Committee
DESCRIPTION:The Stewardship Committee will meet to discuss financial planning\, budgeting\, and ways to encourage faithful giving and stewardship within the church.
URL:https://fbctampa.org/event/stewardship-committee-2/2026-10-18/
LOCATION:4th Floor Loft\, 302 W Kennedy Blvd\, Tampa\, FL\, 33606\, United States
ATTACH;FMTTYPE=image/png:https://fbctampa.org/wp-content/uploads/2025/02/Untitled-design-55.png
END:VEVENT
BEGIN:VEVENT
DTSTART;TZID=America/New_York:20261021T193000
DTEND;TZID=America/New_York:20261021T203000
DTSTAMP:20260423T192252
CREATED:20250217T170633Z
LAST-MODIFIED:20260105T195023Z
UID:10014001-1792611000-1792614600@fbctampa.org
SUMMARY:Personnel Committee Meeting
DESCRIPTION:The Personnel Committee meeting will be held to discuss staffing\, volunteer needs\, and any other personnel matters.
URL:https://fbctampa.org/event/personnel-committee-meeting/2026-10-21/
LOCATION:4th Floor Loft\, 302 W Kennedy Blvd\, Tampa\, FL\, 33606\, United States
ATTACH;FMTTYPE=image/png:https://fbctampa.org/wp-content/uploads/2025/02/Untitled-design-55.png
END:VEVENT
BEGIN:VEVENT
DTSTART;TZID=America/New_York:20261028T193000
DTEND;TZID=America/New_York:20261028T203000
DTSTAMP:20260423T192252
CREATED:20250217T181132Z
LAST-MODIFIED:20260107T172114Z
UID:10014056-1793215800-1793219400@fbctampa.org
SUMMARY:Property Committee Meeting
DESCRIPTION:The Property Committee will meet to discuss the maintenance\, improvements\, and needs of the church property.
URL:https://fbctampa.org/event/property-committee-meeting/2026-10-28/
LOCATION:4th Floor Loft\, 302 W Kennedy Blvd\, Tampa\, FL\, 33606\, United States
ATTACH;FMTTYPE=image/png:https://fbctampa.org/wp-content/uploads/2025/02/Untitled-design-55.png
END:VEVENT
BEGIN:VEVENT
DTSTART;TZID=America/New_York:20261104T193000
DTEND;TZID=America/New_York:20261104T203000
DTSTAMP:20260423T192252
CREATED:20260105T200509Z
LAST-MODIFIED:20260107T164349Z
UID:10014046-1793820600-1793824200@fbctampa.org
SUMMARY:Deacon's Meeting
DESCRIPTION:The Deacons will meet to discuss church needs\, support efforts\, and ministry opportunities. This time is dedicated to serving and caring for the congregation and community.
URL:https://fbctampa.org/event/deacons-meeting-2/2026-11-04/
LOCATION:4th Floor Loft\, 302 W Kennedy Blvd\, Tampa\, FL\, 33606\, United States
ATTACH;FMTTYPE=image/jpeg:https://fbctampa.org/wp-content/uploads/2025/02/DeaconsMeeting-750x500-1.jpg
END:VEVENT
BEGIN:VEVENT
DTSTART;TZID=America/New_York:20261110T103000
DTEND;TZID=America/New_York:20261110T113000
DTSTAMP:20260423T192252
CREATED:20251103T164913Z
LAST-MODIFIED:20251103T164913Z
UID:10010596-1794306600-1794310200@fbctampa.org
SUMMARY:Women On Mission
DESCRIPTION:The Women on Mission meet to focus on missions\, outreach\, and service opportunities. Join us as we come together to pray\, plan\, and support local and global mission efforts.
URL:https://fbctampa.org/event/women-on-mission-3-2-2/2026-11-10/
LOCATION:4th Floor Loft\, 302 W Kennedy Blvd\, Tampa\, FL\, 33606\, United States
ATTACH;FMTTYPE=image/png:https://fbctampa.org/wp-content/uploads/2025/02/NewWOMSlide25.png
END:VEVENT
BEGIN:VEVENT
DTSTART;TZID=America/New_York:20261111T193000
DTEND;TZID=America/New_York:20261111T203000
DTSTAMP:20260423T192252
CREATED:20250730T172357Z
LAST-MODIFIED:20260105T194326Z
UID:10013989-1794425400-1794429000@fbctampa.org
SUMMARY:Missions Committee
DESCRIPTION:The Missions Committee will meet to discuss upcoming mission projects\, outreach opportunities\, and ways to support both local and global ministries.
URL:https://fbctampa.org/event/missions-committee-3/2026-11-11/
LOCATION:4th Floor Loft\, 302 W Kennedy Blvd\, Tampa\, FL\, 33606\, United States
ATTACH;FMTTYPE=image/png:https://fbctampa.org/wp-content/uploads/2025/02/Untitled-design-55.png
END:VEVENT
BEGIN:VEVENT
DTSTART;TZID=America/New_York:20261115T123000
DTEND;TZID=America/New_York:20261115T133000
DTSTAMP:20260423T192252
CREATED:20250730T172542Z
LAST-MODIFIED:20260105T195812Z
UID:10014021-1794745800-1794749400@fbctampa.org
SUMMARY:Stewardship Committee
DESCRIPTION:The Stewardship Committee will meet to discuss financial planning\, budgeting\, and ways to encourage faithful giving and stewardship within the church.
URL:https://fbctampa.org/event/stewardship-committee-2/2026-11-15/
LOCATION:4th Floor Loft\, 302 W Kennedy Blvd\, Tampa\, FL\, 33606\, United States
ATTACH;FMTTYPE=image/png:https://fbctampa.org/wp-content/uploads/2025/02/Untitled-design-55.png
END:VEVENT
BEGIN:VEVENT
DTSTART;TZID=America/New_York:20261118T193000
DTEND;TZID=America/New_York:20261118T203000
DTSTAMP:20260423T192252
CREATED:20250217T170633Z
LAST-MODIFIED:20260105T195023Z
UID:10014002-1795030200-1795033800@fbctampa.org
SUMMARY:Personnel Committee Meeting
DESCRIPTION:The Personnel Committee meeting will be held to discuss staffing\, volunteer needs\, and any other personnel matters.
URL:https://fbctampa.org/event/personnel-committee-meeting/2026-11-18/
LOCATION:4th Floor Loft\, 302 W Kennedy Blvd\, Tampa\, FL\, 33606\, United States
ATTACH;FMTTYPE=image/png:https://fbctampa.org/wp-content/uploads/2025/02/Untitled-design-55.png
END:VEVENT
END:VCALENDAR