BEGIN:VCALENDAR
VERSION:2.0
PRODID:-//FBC Tampa - ECPv6.15.11//NONSGML v1.0//EN
CALSCALE:GREGORIAN
METHOD:PUBLISH
X-WR-CALNAME:FBC Tampa
X-ORIGINAL-URL:https://fbctampa.org
X-WR-CALDESC:Events for FBC Tampa
REFRESH-INTERVAL;VALUE=DURATION:PT1H
X-Robots-Tag:noindex
X-PUBLISHED-TTL:PT1H
BEGIN:VTIMEZONE
TZID:America/New_York
BEGIN:DAYLIGHT
TZOFFSETFROM:-0500
TZOFFSETTO:-0400
TZNAME:EDT
DTSTART:20280312T070000
END:DAYLIGHT
BEGIN:STANDARD
TZOFFSETFROM:-0400
TZOFFSETTO:-0500
TZNAME:EST
DTSTART:20281105T060000
END:STANDARD
BEGIN:DAYLIGHT
TZOFFSETFROM:-0500
TZOFFSETTO:-0400
TZNAME:EDT
DTSTART:20290311T070000
END:DAYLIGHT
BEGIN:STANDARD
TZOFFSETFROM:-0400
TZOFFSETTO:-0500
TZNAME:EST
DTSTART:20291104T060000
END:STANDARD
BEGIN:DAYLIGHT
TZOFFSETFROM:-0500
TZOFFSETTO:-0400
TZNAME:EDT
DTSTART:20300310T070000
END:DAYLIGHT
BEGIN:STANDARD
TZOFFSETFROM:-0400
TZOFFSETTO:-0500
TZNAME:EST
DTSTART:20301103T060000
END:STANDARD
BEGIN:DAYLIGHT
TZOFFSETFROM:-0500
TZOFFSETTO:-0400
TZNAME:EDT
DTSTART:20310309T070000
END:DAYLIGHT
BEGIN:STANDARD
TZOFFSETFROM:-0400
TZOFFSETTO:-0500
TZNAME:EST
DTSTART:20311102T060000
END:STANDARD
END:VTIMEZONE
BEGIN:VEVENT
DTSTART;TZID=America/New_York:20290725T193000
DTEND;TZID=America/New_York:20290725T203000
DTSTAMP:20260424T214840
CREATED:20260107T173441Z
LAST-MODIFIED:20260107T173920Z
UID:10014157-1879702200-1879705800@fbctampa.org
SUMMARY:320 Building Committe Meeting
DESCRIPTION:The 320 Committee Building will meet to discuss the maintenance\, improvements\, and needs of the property.
URL:https://fbctampa.org/event/320-building-committe-meeting-2/2029-07-25/
LOCATION:4th Floor Loft\, 302 W Kennedy Blvd\, Tampa\, FL\, 33606\, United States
END:VEVENT
BEGIN:VEVENT
DTSTART;TZID=America/New_York:20290814T103000
DTEND;TZID=America/New_York:20290814T113000
DTSTAMP:20260424T214840
CREATED:20251103T164913Z
LAST-MODIFIED:20251103T164913Z
UID:10010629-1881397800-1881401400@fbctampa.org
SUMMARY:Women On Mission
DESCRIPTION:The Women on Mission meet to focus on missions\, outreach\, and service opportunities. Join us as we come together to pray\, plan\, and support local and global mission efforts.
URL:https://fbctampa.org/event/women-on-mission-3-2-2/2029-08-14/
LOCATION:4th Floor Loft\, 302 W Kennedy Blvd\, Tampa\, FL\, 33606\, United States
ATTACH;FMTTYPE=image/png:https://fbctampa.org/wp-content/uploads/2025/02/NewWOMSlide25.png
END:VEVENT
BEGIN:VEVENT
DTSTART;TZID=America/New_York:20290822T193000
DTEND;TZID=America/New_York:20290822T203000
DTSTAMP:20260424T214840
CREATED:20250217T181132Z
LAST-MODIFIED:20260107T172114Z
UID:10014088-1882121400-1882125000@fbctampa.org
SUMMARY:Property Committee Meeting
DESCRIPTION:The Property Committee will meet to discuss the maintenance\, improvements\, and needs of the church property.
URL:https://fbctampa.org/event/property-committee-meeting/2029-08-22/
LOCATION:4th Floor Loft\, 302 W Kennedy Blvd\, Tampa\, FL\, 33606\, United States
ATTACH;FMTTYPE=image/png:https://fbctampa.org/wp-content/uploads/2025/02/Untitled-design-55.png
END:VEVENT
BEGIN:VEVENT
DTSTART;TZID=America/New_York:20290911T103000
DTEND;TZID=America/New_York:20290911T113000
DTSTAMP:20260424T214840
CREATED:20251103T164913Z
LAST-MODIFIED:20251103T164913Z
UID:10010630-1883817000-1883820600@fbctampa.org
SUMMARY:Women On Mission
DESCRIPTION:The Women on Mission meet to focus on missions\, outreach\, and service opportunities. Join us as we come together to pray\, plan\, and support local and global mission efforts.
URL:https://fbctampa.org/event/women-on-mission-3-2-2/2029-09-11/
LOCATION:4th Floor Loft\, 302 W Kennedy Blvd\, Tampa\, FL\, 33606\, United States
ATTACH;FMTTYPE=image/png:https://fbctampa.org/wp-content/uploads/2025/02/NewWOMSlide25.png
END:VEVENT
BEGIN:VEVENT
DTSTART;TZID=America/New_York:20290926T193000
DTEND;TZID=America/New_York:20290926T203000
DTSTAMP:20260424T214840
CREATED:20260107T173441Z
LAST-MODIFIED:20260107T173920Z
UID:10014158-1885145400-1885149000@fbctampa.org
SUMMARY:320 Building Committe Meeting
DESCRIPTION:The 320 Committee Building will meet to discuss the maintenance\, improvements\, and needs of the property.
URL:https://fbctampa.org/event/320-building-committe-meeting-2/2029-09-26/
LOCATION:4th Floor Loft\, 302 W Kennedy Blvd\, Tampa\, FL\, 33606\, United States
END:VEVENT
BEGIN:VEVENT
DTSTART;TZID=America/New_York:20291009T103000
DTEND;TZID=America/New_York:20291009T113000
DTSTAMP:20260424T214840
CREATED:20251103T164913Z
LAST-MODIFIED:20251103T164913Z
UID:10010631-1886236200-1886239800@fbctampa.org
SUMMARY:Women On Mission
DESCRIPTION:The Women on Mission meet to focus on missions\, outreach\, and service opportunities. Join us as we come together to pray\, plan\, and support local and global mission efforts.
URL:https://fbctampa.org/event/women-on-mission-3-2-2/2029-10-09/
LOCATION:4th Floor Loft\, 302 W Kennedy Blvd\, Tampa\, FL\, 33606\, United States
ATTACH;FMTTYPE=image/png:https://fbctampa.org/wp-content/uploads/2025/02/NewWOMSlide25.png
END:VEVENT
BEGIN:VEVENT
DTSTART;TZID=America/New_York:20291024T193000
DTEND;TZID=America/New_York:20291024T203000
DTSTAMP:20260424T214840
CREATED:20250217T181132Z
LAST-MODIFIED:20260107T172114Z
UID:10014090-1887564600-1887568200@fbctampa.org
SUMMARY:Property Committee Meeting
DESCRIPTION:The Property Committee will meet to discuss the maintenance\, improvements\, and needs of the church property.
URL:https://fbctampa.org/event/property-committee-meeting/2029-10-24/
LOCATION:4th Floor Loft\, 302 W Kennedy Blvd\, Tampa\, FL\, 33606\, United States
ATTACH;FMTTYPE=image/png:https://fbctampa.org/wp-content/uploads/2025/02/Untitled-design-55.png
END:VEVENT
BEGIN:VEVENT
DTSTART;TZID=America/New_York:20291113T103000
DTEND;TZID=America/New_York:20291113T113000
DTSTAMP:20260424T214840
CREATED:20251103T164913Z
LAST-MODIFIED:20251103T164913Z
UID:10010632-1889260200-1889263800@fbctampa.org
SUMMARY:Women On Mission
DESCRIPTION:The Women on Mission meet to focus on missions\, outreach\, and service opportunities. Join us as we come together to pray\, plan\, and support local and global mission efforts.
URL:https://fbctampa.org/event/women-on-mission-3-2-2/2029-11-13/
LOCATION:4th Floor Loft\, 302 W Kennedy Blvd\, Tampa\, FL\, 33606\, United States
ATTACH;FMTTYPE=image/png:https://fbctampa.org/wp-content/uploads/2025/02/NewWOMSlide25.png
END:VEVENT
BEGIN:VEVENT
DTSTART;TZID=America/New_York:20291128T193000
DTEND;TZID=America/New_York:20291128T203000
DTSTAMP:20260424T214840
CREATED:20260107T173441Z
LAST-MODIFIED:20260107T173920Z
UID:10014159-1890588600-1890592200@fbctampa.org
SUMMARY:320 Building Committe Meeting
DESCRIPTION:The 320 Committee Building will meet to discuss the maintenance\, improvements\, and needs of the property.
URL:https://fbctampa.org/event/320-building-committe-meeting-2/2029-11-28/
LOCATION:4th Floor Loft\, 302 W Kennedy Blvd\, Tampa\, FL\, 33606\, United States
END:VEVENT
BEGIN:VEVENT
DTSTART;TZID=America/New_York:20291211T103000
DTEND;TZID=America/New_York:20291211T113000
DTSTAMP:20260424T214840
CREATED:20251103T164913Z
LAST-MODIFIED:20251103T164913Z
UID:10010633-1891679400-1891683000@fbctampa.org
SUMMARY:Women On Mission
DESCRIPTION:The Women on Mission meet to focus on missions\, outreach\, and service opportunities. Join us as we come together to pray\, plan\, and support local and global mission efforts.
URL:https://fbctampa.org/event/women-on-mission-3-2-2/2029-12-11/
LOCATION:4th Floor Loft\, 302 W Kennedy Blvd\, Tampa\, FL\, 33606\, United States
ATTACH;FMTTYPE=image/png:https://fbctampa.org/wp-content/uploads/2025/02/NewWOMSlide25.png
END:VEVENT
BEGIN:VEVENT
DTSTART;TZID=America/New_York:20291226T193000
DTEND;TZID=America/New_York:20291226T203000
DTSTAMP:20260424T214840
CREATED:20250217T181132Z
LAST-MODIFIED:20260107T172114Z
UID:10014092-1893007800-1893011400@fbctampa.org
SUMMARY:Property Committee Meeting
DESCRIPTION:The Property Committee will meet to discuss the maintenance\, improvements\, and needs of the church property.
URL:https://fbctampa.org/event/property-committee-meeting/2029-12-26/
LOCATION:4th Floor Loft\, 302 W Kennedy Blvd\, Tampa\, FL\, 33606\, United States
ATTACH;FMTTYPE=image/png:https://fbctampa.org/wp-content/uploads/2025/02/Untitled-design-55.png
END:VEVENT
BEGIN:VEVENT
DTSTART;TZID=America/New_York:20300108T103000
DTEND;TZID=America/New_York:20300108T113000
DTSTAMP:20260424T214840
CREATED:20251103T164913Z
LAST-MODIFIED:20251103T164913Z
UID:10010634-1894098600-1894102200@fbctampa.org
SUMMARY:Women On Mission
DESCRIPTION:The Women on Mission meet to focus on missions\, outreach\, and service opportunities. Join us as we come together to pray\, plan\, and support local and global mission efforts.
URL:https://fbctampa.org/event/women-on-mission-3-2-2/2030-01-08/
LOCATION:4th Floor Loft\, 302 W Kennedy Blvd\, Tampa\, FL\, 33606\, United States
ATTACH;FMTTYPE=image/png:https://fbctampa.org/wp-content/uploads/2025/02/NewWOMSlide25.png
END:VEVENT
BEGIN:VEVENT
DTSTART;TZID=America/New_York:20300123T193000
DTEND;TZID=America/New_York:20300123T203000
DTSTAMP:20260424T214840
CREATED:20260107T173441Z
LAST-MODIFIED:20260107T173920Z
UID:10014160-1895427000-1895430600@fbctampa.org
SUMMARY:320 Building Committe Meeting
DESCRIPTION:The 320 Committee Building will meet to discuss the maintenance\, improvements\, and needs of the property.
URL:https://fbctampa.org/event/320-building-committe-meeting-2/2030-01-23/
LOCATION:4th Floor Loft\, 302 W Kennedy Blvd\, Tampa\, FL\, 33606\, United States
END:VEVENT
BEGIN:VEVENT
DTSTART;TZID=America/New_York:20300212T103000
DTEND;TZID=America/New_York:20300212T113000
DTSTAMP:20260424T214840
CREATED:20251103T164913Z
LAST-MODIFIED:20251103T164913Z
UID:10010635-1897122600-1897126200@fbctampa.org
SUMMARY:Women On Mission
DESCRIPTION:The Women on Mission meet to focus on missions\, outreach\, and service opportunities. Join us as we come together to pray\, plan\, and support local and global mission efforts.
URL:https://fbctampa.org/event/women-on-mission-3-2-2/2030-02-12/
LOCATION:4th Floor Loft\, 302 W Kennedy Blvd\, Tampa\, FL\, 33606\, United States
ATTACH;FMTTYPE=image/png:https://fbctampa.org/wp-content/uploads/2025/02/NewWOMSlide25.png
END:VEVENT
BEGIN:VEVENT
DTSTART;TZID=America/New_York:20300227T193000
DTEND;TZID=America/New_York:20300227T203000
DTSTAMP:20260424T214840
CREATED:20250217T181132Z
LAST-MODIFIED:20260107T172114Z
UID:10014094-1898451000-1898454600@fbctampa.org
SUMMARY:Property Committee Meeting
DESCRIPTION:The Property Committee will meet to discuss the maintenance\, improvements\, and needs of the church property.
URL:https://fbctampa.org/event/property-committee-meeting/2030-02-27/
LOCATION:4th Floor Loft\, 302 W Kennedy Blvd\, Tampa\, FL\, 33606\, United States
ATTACH;FMTTYPE=image/png:https://fbctampa.org/wp-content/uploads/2025/02/Untitled-design-55.png
END:VEVENT
BEGIN:VEVENT
DTSTART;TZID=America/New_York:20300312T103000
DTEND;TZID=America/New_York:20300312T113000
DTSTAMP:20260424T214840
CREATED:20251103T164913Z
LAST-MODIFIED:20251103T164913Z
UID:10010636-1899541800-1899545400@fbctampa.org
SUMMARY:Women On Mission
DESCRIPTION:The Women on Mission meet to focus on missions\, outreach\, and service opportunities. Join us as we come together to pray\, plan\, and support local and global mission efforts.
URL:https://fbctampa.org/event/women-on-mission-3-2-2/2030-03-12/
LOCATION:4th Floor Loft\, 302 W Kennedy Blvd\, Tampa\, FL\, 33606\, United States
ATTACH;FMTTYPE=image/png:https://fbctampa.org/wp-content/uploads/2025/02/NewWOMSlide25.png
END:VEVENT
BEGIN:VEVENT
DTSTART;TZID=America/New_York:20300327T193000
DTEND;TZID=America/New_York:20300327T203000
DTSTAMP:20260424T214840
CREATED:20260107T173441Z
LAST-MODIFIED:20260107T173920Z
UID:10014161-1900870200-1900873800@fbctampa.org
SUMMARY:320 Building Committe Meeting
DESCRIPTION:The 320 Committee Building will meet to discuss the maintenance\, improvements\, and needs of the property.
URL:https://fbctampa.org/event/320-building-committe-meeting-2/2030-03-27/
LOCATION:4th Floor Loft\, 302 W Kennedy Blvd\, Tampa\, FL\, 33606\, United States
END:VEVENT
BEGIN:VEVENT
DTSTART;TZID=America/New_York:20300409T103000
DTEND;TZID=America/New_York:20300409T113000
DTSTAMP:20260424T214840
CREATED:20251103T164913Z
LAST-MODIFIED:20251103T164913Z
UID:10010637-1901961000-1901964600@fbctampa.org
SUMMARY:Women On Mission
DESCRIPTION:The Women on Mission meet to focus on missions\, outreach\, and service opportunities. Join us as we come together to pray\, plan\, and support local and global mission efforts.
URL:https://fbctampa.org/event/women-on-mission-3-2-2/2030-04-09/
LOCATION:4th Floor Loft\, 302 W Kennedy Blvd\, Tampa\, FL\, 33606\, United States
ATTACH;FMTTYPE=image/png:https://fbctampa.org/wp-content/uploads/2025/02/NewWOMSlide25.png
END:VEVENT
BEGIN:VEVENT
DTSTART;TZID=America/New_York:20300424T193000
DTEND;TZID=America/New_York:20300424T203000
DTSTAMP:20260424T214840
CREATED:20250217T181132Z
LAST-MODIFIED:20260107T172114Z
UID:10014096-1903289400-1903293000@fbctampa.org
SUMMARY:Property Committee Meeting
DESCRIPTION:The Property Committee will meet to discuss the maintenance\, improvements\, and needs of the church property.
URL:https://fbctampa.org/event/property-committee-meeting/2030-04-24/
LOCATION:4th Floor Loft\, 302 W Kennedy Blvd\, Tampa\, FL\, 33606\, United States
ATTACH;FMTTYPE=image/png:https://fbctampa.org/wp-content/uploads/2025/02/Untitled-design-55.png
END:VEVENT
BEGIN:VEVENT
DTSTART;TZID=America/New_York:20300514T103000
DTEND;TZID=America/New_York:20300514T113000
DTSTAMP:20260424T214840
CREATED:20251103T164913Z
LAST-MODIFIED:20251103T164913Z
UID:10010638-1904985000-1904988600@fbctampa.org
SUMMARY:Women On Mission
DESCRIPTION:The Women on Mission meet to focus on missions\, outreach\, and service opportunities. Join us as we come together to pray\, plan\, and support local and global mission efforts.
URL:https://fbctampa.org/event/women-on-mission-3-2-2/2030-05-14/
LOCATION:4th Floor Loft\, 302 W Kennedy Blvd\, Tampa\, FL\, 33606\, United States
ATTACH;FMTTYPE=image/png:https://fbctampa.org/wp-content/uploads/2025/02/NewWOMSlide25.png
END:VEVENT
BEGIN:VEVENT
DTSTART;TZID=America/New_York:20300522T193000
DTEND;TZID=America/New_York:20300522T203000
DTSTAMP:20260424T214840
CREATED:20260107T173441Z
LAST-MODIFIED:20260107T173920Z
UID:10014162-1905708600-1905712200@fbctampa.org
SUMMARY:320 Building Committe Meeting
DESCRIPTION:The 320 Committee Building will meet to discuss the maintenance\, improvements\, and needs of the property.
URL:https://fbctampa.org/event/320-building-committe-meeting-2/2030-05-22/
LOCATION:4th Floor Loft\, 302 W Kennedy Blvd\, Tampa\, FL\, 33606\, United States
END:VEVENT
BEGIN:VEVENT
DTSTART;TZID=America/New_York:20300611T103000
DTEND;TZID=America/New_York:20300611T113000
DTSTAMP:20260424T214840
CREATED:20251103T164913Z
LAST-MODIFIED:20251103T164913Z
UID:10010639-1907404200-1907407800@fbctampa.org
SUMMARY:Women On Mission
DESCRIPTION:The Women on Mission meet to focus on missions\, outreach\, and service opportunities. Join us as we come together to pray\, plan\, and support local and global mission efforts.
URL:https://fbctampa.org/event/women-on-mission-3-2-2/2030-06-11/
LOCATION:4th Floor Loft\, 302 W Kennedy Blvd\, Tampa\, FL\, 33606\, United States
ATTACH;FMTTYPE=image/png:https://fbctampa.org/wp-content/uploads/2025/02/NewWOMSlide25.png
END:VEVENT
BEGIN:VEVENT
DTSTART;TZID=America/New_York:20300626T193000
DTEND;TZID=America/New_York:20300626T203000
DTSTAMP:20260424T214840
CREATED:20250217T181132Z
LAST-MODIFIED:20260107T172114Z
UID:10014098-1908732600-1908736200@fbctampa.org
SUMMARY:Property Committee Meeting
DESCRIPTION:The Property Committee will meet to discuss the maintenance\, improvements\, and needs of the church property.
URL:https://fbctampa.org/event/property-committee-meeting/2030-06-26/
LOCATION:4th Floor Loft\, 302 W Kennedy Blvd\, Tampa\, FL\, 33606\, United States
ATTACH;FMTTYPE=image/png:https://fbctampa.org/wp-content/uploads/2025/02/Untitled-design-55.png
END:VEVENT
BEGIN:VEVENT
DTSTART;TZID=America/New_York:20300709T103000
DTEND;TZID=America/New_York:20300709T113000
DTSTAMP:20260424T214840
CREATED:20251103T164913Z
LAST-MODIFIED:20251103T164913Z
UID:10010640-1909823400-1909827000@fbctampa.org
SUMMARY:Women On Mission
DESCRIPTION:The Women on Mission meet to focus on missions\, outreach\, and service opportunities. Join us as we come together to pray\, plan\, and support local and global mission efforts.
URL:https://fbctampa.org/event/women-on-mission-3-2-2/2030-07-09/
LOCATION:4th Floor Loft\, 302 W Kennedy Blvd\, Tampa\, FL\, 33606\, United States
ATTACH;FMTTYPE=image/png:https://fbctampa.org/wp-content/uploads/2025/02/NewWOMSlide25.png
END:VEVENT
BEGIN:VEVENT
DTSTART;TZID=America/New_York:20300724T193000
DTEND;TZID=America/New_York:20300724T203000
DTSTAMP:20260424T214840
CREATED:20260107T173441Z
LAST-MODIFIED:20260107T173920Z
UID:10014163-1911151800-1911155400@fbctampa.org
SUMMARY:320 Building Committe Meeting
DESCRIPTION:The 320 Committee Building will meet to discuss the maintenance\, improvements\, and needs of the property.
URL:https://fbctampa.org/event/320-building-committe-meeting-2/2030-07-24/
LOCATION:4th Floor Loft\, 302 W Kennedy Blvd\, Tampa\, FL\, 33606\, United States
END:VEVENT
BEGIN:VEVENT
DTSTART;TZID=America/New_York:20300813T103000
DTEND;TZID=America/New_York:20300813T113000
DTSTAMP:20260424T214840
CREATED:20251103T164913Z
LAST-MODIFIED:20251103T164913Z
UID:10010641-1912847400-1912851000@fbctampa.org
SUMMARY:Women On Mission
DESCRIPTION:The Women on Mission meet to focus on missions\, outreach\, and service opportunities. Join us as we come together to pray\, plan\, and support local and global mission efforts.
URL:https://fbctampa.org/event/women-on-mission-3-2-2/2030-08-13/
LOCATION:4th Floor Loft\, 302 W Kennedy Blvd\, Tampa\, FL\, 33606\, United States
ATTACH;FMTTYPE=image/png:https://fbctampa.org/wp-content/uploads/2025/02/NewWOMSlide25.png
END:VEVENT
BEGIN:VEVENT
DTSTART;TZID=America/New_York:20300828T193000
DTEND;TZID=America/New_York:20300828T203000
DTSTAMP:20260424T214840
CREATED:20250217T181132Z
LAST-MODIFIED:20260107T172114Z
UID:10014100-1914175800-1914179400@fbctampa.org
SUMMARY:Property Committee Meeting
DESCRIPTION:The Property Committee will meet to discuss the maintenance\, improvements\, and needs of the church property.
URL:https://fbctampa.org/event/property-committee-meeting/2030-08-28/
LOCATION:4th Floor Loft\, 302 W Kennedy Blvd\, Tampa\, FL\, 33606\, United States
ATTACH;FMTTYPE=image/png:https://fbctampa.org/wp-content/uploads/2025/02/Untitled-design-55.png
END:VEVENT
BEGIN:VEVENT
DTSTART;TZID=America/New_York:20300910T103000
DTEND;TZID=America/New_York:20300910T113000
DTSTAMP:20260424T214840
CREATED:20251103T164913Z
LAST-MODIFIED:20251103T164913Z
UID:10010642-1915266600-1915270200@fbctampa.org
SUMMARY:Women On Mission
DESCRIPTION:The Women on Mission meet to focus on missions\, outreach\, and service opportunities. Join us as we come together to pray\, plan\, and support local and global mission efforts.
URL:https://fbctampa.org/event/women-on-mission-3-2-2/2030-09-10/
LOCATION:4th Floor Loft\, 302 W Kennedy Blvd\, Tampa\, FL\, 33606\, United States
ATTACH;FMTTYPE=image/png:https://fbctampa.org/wp-content/uploads/2025/02/NewWOMSlide25.png
END:VEVENT
BEGIN:VEVENT
DTSTART;TZID=America/New_York:20300925T193000
DTEND;TZID=America/New_York:20300925T203000
DTSTAMP:20260424T214840
CREATED:20260107T173441Z
LAST-MODIFIED:20260107T173920Z
UID:10014164-1916595000-1916598600@fbctampa.org
SUMMARY:320 Building Committe Meeting
DESCRIPTION:The 320 Committee Building will meet to discuss the maintenance\, improvements\, and needs of the property.
URL:https://fbctampa.org/event/320-building-committe-meeting-2/2030-09-25/
LOCATION:4th Floor Loft\, 302 W Kennedy Blvd\, Tampa\, FL\, 33606\, United States
END:VEVENT
BEGIN:VEVENT
DTSTART;TZID=America/New_York:20301008T103000
DTEND;TZID=America/New_York:20301008T113000
DTSTAMP:20260424T214840
CREATED:20251103T164913Z
LAST-MODIFIED:20251103T164913Z
UID:10010643-1917685800-1917689400@fbctampa.org
SUMMARY:Women On Mission
DESCRIPTION:The Women on Mission meet to focus on missions\, outreach\, and service opportunities. Join us as we come together to pray\, plan\, and support local and global mission efforts.
URL:https://fbctampa.org/event/women-on-mission-3-2-2/2030-10-08/
LOCATION:4th Floor Loft\, 302 W Kennedy Blvd\, Tampa\, FL\, 33606\, United States
ATTACH;FMTTYPE=image/png:https://fbctampa.org/wp-content/uploads/2025/02/NewWOMSlide25.png
END:VEVENT
END:VCALENDAR