BEGIN:VCALENDAR
VERSION:2.0
PRODID:-//FBC Tampa - ECPv6.15.11//NONSGML v1.0//EN
CALSCALE:GREGORIAN
METHOD:PUBLISH
X-ORIGINAL-URL:https://fbctampa.org
X-WR-CALDESC:Events for FBC Tampa
REFRESH-INTERVAL;VALUE=DURATION:PT1H
X-Robots-Tag:noindex
X-PUBLISHED-TTL:PT1H
BEGIN:VTIMEZONE
TZID:America/New_York
BEGIN:DAYLIGHT
TZOFFSETFROM:-0500
TZOFFSETTO:-0400
TZNAME:EDT
DTSTART:20250309T070000
END:DAYLIGHT
BEGIN:STANDARD
TZOFFSETFROM:-0400
TZOFFSETTO:-0500
TZNAME:EST
DTSTART:20251102T060000
END:STANDARD
BEGIN:DAYLIGHT
TZOFFSETFROM:-0500
TZOFFSETTO:-0400
TZNAME:EDT
DTSTART:20260308T070000
END:DAYLIGHT
BEGIN:STANDARD
TZOFFSETFROM:-0400
TZOFFSETTO:-0500
TZNAME:EST
DTSTART:20261101T060000
END:STANDARD
BEGIN:DAYLIGHT
TZOFFSETFROM:-0500
TZOFFSETTO:-0400
TZNAME:EDT
DTSTART:20270314T070000
END:DAYLIGHT
BEGIN:STANDARD
TZOFFSETFROM:-0400
TZOFFSETTO:-0500
TZNAME:EST
DTSTART:20271107T060000
END:STANDARD
END:VTIMEZONE
BEGIN:VEVENT
DTSTART;TZID=America/New_York:20260426T190000
DTEND;TZID=America/New_York:20260426T210000
DTSTAMP:20260423T134945
CREATED:20260420T160645Z
LAST-MODIFIED:20260420T160645Z
UID:10015025-1777230000-1777237200@fbctampa.org
SUMMARY:The Collective:  Worship & Waffle Night
DESCRIPTION:Join us on April 26th for some yummy waffles and fellowship from 7:00–9:00 PM! Call the church for location – 813.251.2425
URL:https://fbctampa.org/event/the-collective-worship-waffle-night/
LOCATION:FL
CATEGORIES:Popular
ATTACH;FMTTYPE=image/jpeg:https://fbctampa.org/wp-content/uploads/2026/02/waffles.jpg
END:VEVENT
BEGIN:VEVENT
DTSTART;TZID=America/New_York:20260427T180000
DTEND;TZID=America/New_York:20260427T200000
DTSTAMP:20260423T134945
CREATED:20260203T190207Z
LAST-MODIFIED:20260305T185340Z
UID:10013951-1777312800-1777320000@fbctampa.org
SUMMARY:Basketball for Adults
DESCRIPTION:Come out and join us for a fun\, friendly game of pickup basketball! This is a great chance for adults to get active\, enjoy some friendly competition\, and build community. All skill levels welcome!
URL:https://fbctampa.org/event/basketball-for-adults-2/2026-04-27/
LOCATION:FL
ATTACH;FMTTYPE=image/png:https://fbctampa.org/wp-content/uploads/2026/02/For-adults-18-x-24-in-Presentation-2.png
END:VEVENT
BEGIN:VEVENT
DTSTART;TZID=America/New_York:20260428T190000
DTEND;TZID=America/New_York:20260428T203000
DTSTAMP:20260423T134945
CREATED:20251217T195203Z
LAST-MODIFIED:20260312T184840Z
UID:10014956-1777402800-1777408200@fbctampa.org
SUMMARY:The Collective - Young Adult Worship
DESCRIPTION:The Collective on Tuesday nights is a gathering for young adults to worship\, dive into the Word\, and grow in fellowship. We also host guest Q&A sessions to deepen our faith and understanding. If you’re college-aged (18-26)\, come join us at 7pm as we seek to grow in Christ together!
URL:https://fbctampa.org/event/the-collective-tuesday-nights-2-2/2026-04-28/
LOCATION:FL
ATTACH;FMTTYPE=image/png:https://fbctampa.org/wp-content/uploads/2025/02/TheCollectiveCollage.png
END:VEVENT
BEGIN:VEVENT
DTSTART;TZID=America/New_York:20260429T170000
DTEND;TZID=America/New_York:20260429T181500
DTSTAMP:20260423T134945
CREATED:20251211T160222Z
LAST-MODIFIED:20251211T160831Z
UID:10012961-1777482000-1777486500@fbctampa.org
SUMMARY:Wednesday Night Supper
DESCRIPTION:We offer delicious meals at an affordable price every Wednesday night\, making it easy for individuals and families to join our Midweek Ministries. This includes Discipleship Classes\, AWANA for children\, N1NE youth ministry\, and choir practice later in the evening. Our Midweek Ministries are a great opportunity to nourish both body and spirit!
URL:https://fbctampa.org/event/wednesday-night-supper-2-2/2026-04-29/
LOCATION:Dining Room\, 302 W Kennedy Blvd\, Tampa\, 33606\, United States
ATTACH;FMTTYPE=image/jpeg:https://fbctampa.org/wp-content/uploads/2025/02/dinner-fellowship-header.jpg
END:VEVENT
BEGIN:VEVENT
DTSTART;TZID=America/New_York:20260429T181500
DTEND;TZID=America/New_York:20260429T193000
DTSTAMP:20260423T134945
CREATED:20260309T152517Z
LAST-MODIFIED:20260309T152517Z
UID:10014887-1777486500-1777491000@fbctampa.org
SUMMARY:Awana
DESCRIPTION:AWANA is a fun and engaging discipleship program for kids that helps them grow in their faith through Bible memorization\, interactive lessons\, and exciting games. At our church\, AWANA meets on Wednesday nights at 6:15 PM\, providing a structured yet energetic environment where children can learn about God’s Word\, build friendships\, and develop a strong foundation in Christ. Our program is designed to equip kids with biblical knowledge while encouraging them to live out their faith in everyday life.
URL:https://fbctampa.org/event/awana-3/2026-04-29/
LOCATION:Gymnasium / Elementary Area / Kid Zone – All PreK Area / Suite 300\, 302 W Kennedy Blvd\, Tampa\, FL\, 33606\, United States
ATTACH;FMTTYPE=image/jpeg:https://fbctampa.org/wp-content/uploads/2026/02/Sermon-Slide-Announcement-2.jpg
END:VEVENT
BEGIN:VEVENT
DTSTART;TZID=America/New_York:20260429T181900
DTEND;TZID=America/New_York:20260429T193500
DTSTAMP:20260423T134945
CREATED:20251210T153015Z
LAST-MODIFIED:20260317T160240Z
UID:10002011-1777486740-1777491300@fbctampa.org
SUMMARY:N1NE Student Worship
DESCRIPTION:N1NE Student Worship is a vibrant\, high-energy gathering where students come together to worship\, connect\, and grow in their faith. Through passionate music\, relevant teaching\, and a welcoming community\, N1NE creates a space for 6th-12th graders to encounter God and deepen their relationship with Him. Join us as we lift up our voices and hearts in worship\, building a strong foundation for the next generation of believers.
URL:https://fbctampa.org/event/n1ne-student-worship-2/2026-04-29/
LOCATION:FL
ATTACH;FMTTYPE=image/jpeg:https://fbctampa.org/wp-content/uploads/2025/03/20250219-IMG_6071-2-scaled.jpg
END:VEVENT
BEGIN:VEVENT
DTSTART;TZID=America/New_York:20260429T183000
DTEND;TZID=America/New_York:20260429T193000
DTSTAMP:20260423T134945
CREATED:20260302T194523Z
LAST-MODIFIED:20260309T150450Z
UID:10014810-1777487400-1777491000@fbctampa.org
SUMMARY:Discipleship Classes
DESCRIPTION:Our discipleship classes meet Wednesdays at 6:30 PM\, offering biblical teaching and practical guidance to help you grow in your faith. With classes for all ages and spiritual levels\, we encourage deeper study\, community\, and discipleship in Christ. To see what classes we have available\, follow the link below! \nDiscipleship Classes
URL:https://fbctampa.org/event/discipleship-classes/2026-04-29/
LOCATION:FL
ATTACH;FMTTYPE=image/jpeg:https://fbctampa.org/wp-content/uploads/2025/02/wed-night-discipleship.jpg
END:VEVENT
BEGIN:VEVENT
DTSTART;TZID=America/New_York:20260430T190000
DTEND;TZID=America/New_York:20260430T210000
DTSTAMP:20260423T134945
CREATED:20260203T192840Z
LAST-MODIFIED:20260219T182337Z
UID:10014233-1777575600-1777582800@fbctampa.org
SUMMARY:Worship Band Practice
DESCRIPTION:The worship band gathers to rehearse in preparation for Sunday services.
URL:https://fbctampa.org/event/worship-band-practice-2/2026-04-30/
LOCATION:Sanctuary\, 302 W Kennedy Blvd\, Tampa\, FL\, 33606\, United States
ATTACH;FMTTYPE=image/jpeg:https://fbctampa.org/wp-content/uploads/2026/02/DSC05454-scaled.jpg
END:VEVENT
END:VCALENDAR