BEGIN:VCALENDAR
VERSION:2.0
PRODID:-//FBC Tampa - ECPv6.15.11//NONSGML v1.0//EN
CALSCALE:GREGORIAN
METHOD:PUBLISH
X-WR-CALNAME:FBC Tampa
X-ORIGINAL-URL:https://fbctampa.org
X-WR-CALDESC:Events for FBC Tampa
REFRESH-INTERVAL;VALUE=DURATION:PT1H
X-Robots-Tag:noindex
X-PUBLISHED-TTL:PT1H
BEGIN:VTIMEZONE
TZID:America/New_York
BEGIN:DAYLIGHT
TZOFFSETFROM:-0500
TZOFFSETTO:-0400
TZNAME:EDT
DTSTART:20250309T070000
END:DAYLIGHT
BEGIN:STANDARD
TZOFFSETFROM:-0400
TZOFFSETTO:-0500
TZNAME:EST
DTSTART:20251102T060000
END:STANDARD
BEGIN:DAYLIGHT
TZOFFSETFROM:-0500
TZOFFSETTO:-0400
TZNAME:EDT
DTSTART:20260308T070000
END:DAYLIGHT
BEGIN:STANDARD
TZOFFSETFROM:-0400
TZOFFSETTO:-0500
TZNAME:EST
DTSTART:20261101T060000
END:STANDARD
BEGIN:DAYLIGHT
TZOFFSETFROM:-0500
TZOFFSETTO:-0400
TZNAME:EDT
DTSTART:20270314T070000
END:DAYLIGHT
BEGIN:STANDARD
TZOFFSETFROM:-0400
TZOFFSETTO:-0500
TZNAME:EST
DTSTART:20271107T060000
END:STANDARD
BEGIN:DAYLIGHT
TZOFFSETFROM:-0500
TZOFFSETTO:-0400
TZNAME:EDT
DTSTART:20280312T070000
END:DAYLIGHT
BEGIN:STANDARD
TZOFFSETFROM:-0400
TZOFFSETTO:-0500
TZNAME:EST
DTSTART:20281105T060000
END:STANDARD
BEGIN:DAYLIGHT
TZOFFSETFROM:-0500
TZOFFSETTO:-0400
TZNAME:EDT
DTSTART:20290311T070000
END:DAYLIGHT
BEGIN:STANDARD
TZOFFSETFROM:-0400
TZOFFSETTO:-0500
TZNAME:EST
DTSTART:20291104T060000
END:STANDARD
BEGIN:DAYLIGHT
TZOFFSETFROM:-0500
TZOFFSETTO:-0400
TZNAME:EDT
DTSTART:20300310T070000
END:DAYLIGHT
BEGIN:STANDARD
TZOFFSETFROM:-0400
TZOFFSETTO:-0500
TZNAME:EST
DTSTART:20301103T060000
END:STANDARD
BEGIN:DAYLIGHT
TZOFFSETFROM:-0500
TZOFFSETTO:-0400
TZNAME:EDT
DTSTART:20310309T070000
END:DAYLIGHT
BEGIN:STANDARD
TZOFFSETFROM:-0400
TZOFFSETTO:-0500
TZNAME:EST
DTSTART:20311102T060000
END:STANDARD
END:VTIMEZONE
BEGIN:VEVENT
DTSTART;TZID=America/New_York:20260527T193000
DTEND;TZID=America/New_York:20260527T203000
DTSTAMP:20260423T163307
CREATED:20260107T173441Z
LAST-MODIFIED:20260107T173920Z
UID:10014138-1779910200-1779913800@fbctampa.org
SUMMARY:320 Building Committe Meeting
DESCRIPTION:The 320 Committee Building will meet to discuss the maintenance\, improvements\, and needs of the property.
URL:https://fbctampa.org/event/320-building-committe-meeting-2/2026-05-27/
LOCATION:4th Floor Loft\, 302 W Kennedy Blvd\, Tampa\, FL\, 33606\, United States
END:VEVENT
BEGIN:VEVENT
DTSTART;TZID=America/New_York:20260722T193000
DTEND;TZID=America/New_York:20260722T203000
DTSTAMP:20260423T163307
CREATED:20260107T173441Z
LAST-MODIFIED:20260107T173920Z
UID:10014139-1784748600-1784752200@fbctampa.org
SUMMARY:320 Building Committe Meeting
DESCRIPTION:The 320 Committee Building will meet to discuss the maintenance\, improvements\, and needs of the property.
URL:https://fbctampa.org/event/320-building-committe-meeting-2/2026-07-22/
LOCATION:4th Floor Loft\, 302 W Kennedy Blvd\, Tampa\, FL\, 33606\, United States
END:VEVENT
BEGIN:VEVENT
DTSTART;TZID=America/New_York:20260923T193000
DTEND;TZID=America/New_York:20260923T203000
DTSTAMP:20260423T163307
CREATED:20260107T173441Z
LAST-MODIFIED:20260107T173920Z
UID:10014140-1790191800-1790195400@fbctampa.org
SUMMARY:320 Building Committe Meeting
DESCRIPTION:The 320 Committee Building will meet to discuss the maintenance\, improvements\, and needs of the property.
URL:https://fbctampa.org/event/320-building-committe-meeting-2/2026-09-23/
LOCATION:4th Floor Loft\, 302 W Kennedy Blvd\, Tampa\, FL\, 33606\, United States
END:VEVENT
BEGIN:VEVENT
DTSTART;TZID=America/New_York:20261125T193000
DTEND;TZID=America/New_York:20261125T203000
DTSTAMP:20260423T163307
CREATED:20260107T173441Z
LAST-MODIFIED:20260107T173920Z
UID:10014141-1795635000-1795638600@fbctampa.org
SUMMARY:320 Building Committe Meeting
DESCRIPTION:The 320 Committee Building will meet to discuss the maintenance\, improvements\, and needs of the property.
URL:https://fbctampa.org/event/320-building-committe-meeting-2/2026-11-25/
LOCATION:4th Floor Loft\, 302 W Kennedy Blvd\, Tampa\, FL\, 33606\, United States
END:VEVENT
BEGIN:VEVENT
DTSTART;TZID=America/New_York:20270127T193000
DTEND;TZID=America/New_York:20270127T203000
DTSTAMP:20260423T163307
CREATED:20260107T173441Z
LAST-MODIFIED:20260107T173920Z
UID:10014142-1801078200-1801081800@fbctampa.org
SUMMARY:320 Building Committe Meeting
DESCRIPTION:The 320 Committee Building will meet to discuss the maintenance\, improvements\, and needs of the property.
URL:https://fbctampa.org/event/320-building-committe-meeting-2/2027-01-27/
LOCATION:4th Floor Loft\, 302 W Kennedy Blvd\, Tampa\, FL\, 33606\, United States
END:VEVENT
BEGIN:VEVENT
DTSTART;TZID=America/New_York:20270324T193000
DTEND;TZID=America/New_York:20270324T203000
DTSTAMP:20260423T163307
CREATED:20260107T173441Z
LAST-MODIFIED:20260107T173920Z
UID:10014143-1805916600-1805920200@fbctampa.org
SUMMARY:320 Building Committe Meeting
DESCRIPTION:The 320 Committee Building will meet to discuss the maintenance\, improvements\, and needs of the property.
URL:https://fbctampa.org/event/320-building-committe-meeting-2/2027-03-24/
LOCATION:4th Floor Loft\, 302 W Kennedy Blvd\, Tampa\, FL\, 33606\, United States
END:VEVENT
BEGIN:VEVENT
DTSTART;TZID=America/New_York:20270526T193000
DTEND;TZID=America/New_York:20270526T203000
DTSTAMP:20260423T163307
CREATED:20260107T173441Z
LAST-MODIFIED:20260107T173920Z
UID:10014144-1811359800-1811363400@fbctampa.org
SUMMARY:320 Building Committe Meeting
DESCRIPTION:The 320 Committee Building will meet to discuss the maintenance\, improvements\, and needs of the property.
URL:https://fbctampa.org/event/320-building-committe-meeting-2/2027-05-26/
LOCATION:4th Floor Loft\, 302 W Kennedy Blvd\, Tampa\, FL\, 33606\, United States
END:VEVENT
BEGIN:VEVENT
DTSTART;TZID=America/New_York:20270728T193000
DTEND;TZID=America/New_York:20270728T203000
DTSTAMP:20260423T163307
CREATED:20260107T173441Z
LAST-MODIFIED:20260107T173920Z
UID:10014145-1816803000-1816806600@fbctampa.org
SUMMARY:320 Building Committe Meeting
DESCRIPTION:The 320 Committee Building will meet to discuss the maintenance\, improvements\, and needs of the property.
URL:https://fbctampa.org/event/320-building-committe-meeting-2/2027-07-28/
LOCATION:4th Floor Loft\, 302 W Kennedy Blvd\, Tampa\, FL\, 33606\, United States
END:VEVENT
BEGIN:VEVENT
DTSTART;TZID=America/New_York:20270922T193000
DTEND;TZID=America/New_York:20270922T203000
DTSTAMP:20260423T163307
CREATED:20260107T173441Z
LAST-MODIFIED:20260107T173920Z
UID:10014146-1821641400-1821645000@fbctampa.org
SUMMARY:320 Building Committe Meeting
DESCRIPTION:The 320 Committee Building will meet to discuss the maintenance\, improvements\, and needs of the property.
URL:https://fbctampa.org/event/320-building-committe-meeting-2/2027-09-22/
LOCATION:4th Floor Loft\, 302 W Kennedy Blvd\, Tampa\, FL\, 33606\, United States
END:VEVENT
BEGIN:VEVENT
DTSTART;TZID=America/New_York:20271124T193000
DTEND;TZID=America/New_York:20271124T203000
DTSTAMP:20260423T163307
CREATED:20260107T173441Z
LAST-MODIFIED:20260107T173920Z
UID:10014147-1827084600-1827088200@fbctampa.org
SUMMARY:320 Building Committe Meeting
DESCRIPTION:The 320 Committee Building will meet to discuss the maintenance\, improvements\, and needs of the property.
URL:https://fbctampa.org/event/320-building-committe-meeting-2/2027-11-24/
LOCATION:4th Floor Loft\, 302 W Kennedy Blvd\, Tampa\, FL\, 33606\, United States
END:VEVENT
BEGIN:VEVENT
DTSTART;TZID=America/New_York:20280126T193000
DTEND;TZID=America/New_York:20280126T203000
DTSTAMP:20260423T163307
CREATED:20260107T173441Z
LAST-MODIFIED:20260107T173920Z
UID:10014148-1832527800-1832531400@fbctampa.org
SUMMARY:320 Building Committe Meeting
DESCRIPTION:The 320 Committee Building will meet to discuss the maintenance\, improvements\, and needs of the property.
URL:https://fbctampa.org/event/320-building-committe-meeting-2/2028-01-26/
LOCATION:4th Floor Loft\, 302 W Kennedy Blvd\, Tampa\, FL\, 33606\, United States
END:VEVENT
BEGIN:VEVENT
DTSTART;TZID=America/New_York:20280322T193000
DTEND;TZID=America/New_York:20280322T203000
DTSTAMP:20260423T163307
CREATED:20260107T173441Z
LAST-MODIFIED:20260107T173920Z
UID:10014149-1837366200-1837369800@fbctampa.org
SUMMARY:320 Building Committe Meeting
DESCRIPTION:The 320 Committee Building will meet to discuss the maintenance\, improvements\, and needs of the property.
URL:https://fbctampa.org/event/320-building-committe-meeting-2/2028-03-22/
LOCATION:4th Floor Loft\, 302 W Kennedy Blvd\, Tampa\, FL\, 33606\, United States
END:VEVENT
BEGIN:VEVENT
DTSTART;TZID=America/New_York:20280524T193000
DTEND;TZID=America/New_York:20280524T203000
DTSTAMP:20260423T163307
CREATED:20260107T173441Z
LAST-MODIFIED:20260107T173920Z
UID:10014150-1842809400-1842813000@fbctampa.org
SUMMARY:320 Building Committe Meeting
DESCRIPTION:The 320 Committee Building will meet to discuss the maintenance\, improvements\, and needs of the property.
URL:https://fbctampa.org/event/320-building-committe-meeting-2/2028-05-24/
LOCATION:4th Floor Loft\, 302 W Kennedy Blvd\, Tampa\, FL\, 33606\, United States
END:VEVENT
BEGIN:VEVENT
DTSTART;TZID=America/New_York:20280726T193000
DTEND;TZID=America/New_York:20280726T203000
DTSTAMP:20260423T163307
CREATED:20260107T173441Z
LAST-MODIFIED:20260107T173920Z
UID:10014151-1848252600-1848256200@fbctampa.org
SUMMARY:320 Building Committe Meeting
DESCRIPTION:The 320 Committee Building will meet to discuss the maintenance\, improvements\, and needs of the property.
URL:https://fbctampa.org/event/320-building-committe-meeting-2/2028-07-26/
LOCATION:4th Floor Loft\, 302 W Kennedy Blvd\, Tampa\, FL\, 33606\, United States
END:VEVENT
BEGIN:VEVENT
DTSTART;TZID=America/New_York:20280927T193000
DTEND;TZID=America/New_York:20280927T203000
DTSTAMP:20260423T163307
CREATED:20260107T173441Z
LAST-MODIFIED:20260107T173920Z
UID:10014152-1853695800-1853699400@fbctampa.org
SUMMARY:320 Building Committe Meeting
DESCRIPTION:The 320 Committee Building will meet to discuss the maintenance\, improvements\, and needs of the property.
URL:https://fbctampa.org/event/320-building-committe-meeting-2/2028-09-27/
LOCATION:4th Floor Loft\, 302 W Kennedy Blvd\, Tampa\, FL\, 33606\, United States
END:VEVENT
BEGIN:VEVENT
DTSTART;TZID=America/New_York:20281122T193000
DTEND;TZID=America/New_York:20281122T203000
DTSTAMP:20260423T163307
CREATED:20260107T173441Z
LAST-MODIFIED:20260107T173920Z
UID:10014153-1858534200-1858537800@fbctampa.org
SUMMARY:320 Building Committe Meeting
DESCRIPTION:The 320 Committee Building will meet to discuss the maintenance\, improvements\, and needs of the property.
URL:https://fbctampa.org/event/320-building-committe-meeting-2/2028-11-22/
LOCATION:4th Floor Loft\, 302 W Kennedy Blvd\, Tampa\, FL\, 33606\, United States
END:VEVENT
BEGIN:VEVENT
DTSTART;TZID=America/New_York:20290124T193000
DTEND;TZID=America/New_York:20290124T203000
DTSTAMP:20260423T163307
CREATED:20260107T173441Z
LAST-MODIFIED:20260107T173920Z
UID:10014154-1863977400-1863981000@fbctampa.org
SUMMARY:320 Building Committe Meeting
DESCRIPTION:The 320 Committee Building will meet to discuss the maintenance\, improvements\, and needs of the property.
URL:https://fbctampa.org/event/320-building-committe-meeting-2/2029-01-24/
LOCATION:4th Floor Loft\, 302 W Kennedy Blvd\, Tampa\, FL\, 33606\, United States
END:VEVENT
BEGIN:VEVENT
DTSTART;TZID=America/New_York:20290328T193000
DTEND;TZID=America/New_York:20290328T203000
DTSTAMP:20260423T163307
CREATED:20260107T173441Z
LAST-MODIFIED:20260107T173920Z
UID:10014155-1869420600-1869424200@fbctampa.org
SUMMARY:320 Building Committe Meeting
DESCRIPTION:The 320 Committee Building will meet to discuss the maintenance\, improvements\, and needs of the property.
URL:https://fbctampa.org/event/320-building-committe-meeting-2/2029-03-28/
LOCATION:4th Floor Loft\, 302 W Kennedy Blvd\, Tampa\, FL\, 33606\, United States
END:VEVENT
BEGIN:VEVENT
DTSTART;TZID=America/New_York:20290523T193000
DTEND;TZID=America/New_York:20290523T203000
DTSTAMP:20260423T163307
CREATED:20260107T173441Z
LAST-MODIFIED:20260107T173920Z
UID:10014156-1874259000-1874262600@fbctampa.org
SUMMARY:320 Building Committe Meeting
DESCRIPTION:The 320 Committee Building will meet to discuss the maintenance\, improvements\, and needs of the property.
URL:https://fbctampa.org/event/320-building-committe-meeting-2/2029-05-23/
LOCATION:4th Floor Loft\, 302 W Kennedy Blvd\, Tampa\, FL\, 33606\, United States
END:VEVENT
BEGIN:VEVENT
DTSTART;TZID=America/New_York:20290725T193000
DTEND;TZID=America/New_York:20290725T203000
DTSTAMP:20260423T163307
CREATED:20260107T173441Z
LAST-MODIFIED:20260107T173920Z
UID:10014157-1879702200-1879705800@fbctampa.org
SUMMARY:320 Building Committe Meeting
DESCRIPTION:The 320 Committee Building will meet to discuss the maintenance\, improvements\, and needs of the property.
URL:https://fbctampa.org/event/320-building-committe-meeting-2/2029-07-25/
LOCATION:4th Floor Loft\, 302 W Kennedy Blvd\, Tampa\, FL\, 33606\, United States
END:VEVENT
BEGIN:VEVENT
DTSTART;TZID=America/New_York:20290926T193000
DTEND;TZID=America/New_York:20290926T203000
DTSTAMP:20260423T163307
CREATED:20260107T173441Z
LAST-MODIFIED:20260107T173920Z
UID:10014158-1885145400-1885149000@fbctampa.org
SUMMARY:320 Building Committe Meeting
DESCRIPTION:The 320 Committee Building will meet to discuss the maintenance\, improvements\, and needs of the property.
URL:https://fbctampa.org/event/320-building-committe-meeting-2/2029-09-26/
LOCATION:4th Floor Loft\, 302 W Kennedy Blvd\, Tampa\, FL\, 33606\, United States
END:VEVENT
BEGIN:VEVENT
DTSTART;TZID=America/New_York:20291128T193000
DTEND;TZID=America/New_York:20291128T203000
DTSTAMP:20260423T163307
CREATED:20260107T173441Z
LAST-MODIFIED:20260107T173920Z
UID:10014159-1890588600-1890592200@fbctampa.org
SUMMARY:320 Building Committe Meeting
DESCRIPTION:The 320 Committee Building will meet to discuss the maintenance\, improvements\, and needs of the property.
URL:https://fbctampa.org/event/320-building-committe-meeting-2/2029-11-28/
LOCATION:4th Floor Loft\, 302 W Kennedy Blvd\, Tampa\, FL\, 33606\, United States
END:VEVENT
BEGIN:VEVENT
DTSTART;TZID=America/New_York:20300123T193000
DTEND;TZID=America/New_York:20300123T203000
DTSTAMP:20260423T163307
CREATED:20260107T173441Z
LAST-MODIFIED:20260107T173920Z
UID:10014160-1895427000-1895430600@fbctampa.org
SUMMARY:320 Building Committe Meeting
DESCRIPTION:The 320 Committee Building will meet to discuss the maintenance\, improvements\, and needs of the property.
URL:https://fbctampa.org/event/320-building-committe-meeting-2/2030-01-23/
LOCATION:4th Floor Loft\, 302 W Kennedy Blvd\, Tampa\, FL\, 33606\, United States
END:VEVENT
BEGIN:VEVENT
DTSTART;TZID=America/New_York:20300327T193000
DTEND;TZID=America/New_York:20300327T203000
DTSTAMP:20260423T163307
CREATED:20260107T173441Z
LAST-MODIFIED:20260107T173920Z
UID:10014161-1900870200-1900873800@fbctampa.org
SUMMARY:320 Building Committe Meeting
DESCRIPTION:The 320 Committee Building will meet to discuss the maintenance\, improvements\, and needs of the property.
URL:https://fbctampa.org/event/320-building-committe-meeting-2/2030-03-27/
LOCATION:4th Floor Loft\, 302 W Kennedy Blvd\, Tampa\, FL\, 33606\, United States
END:VEVENT
BEGIN:VEVENT
DTSTART;TZID=America/New_York:20300522T193000
DTEND;TZID=America/New_York:20300522T203000
DTSTAMP:20260423T163307
CREATED:20260107T173441Z
LAST-MODIFIED:20260107T173920Z
UID:10014162-1905708600-1905712200@fbctampa.org
SUMMARY:320 Building Committe Meeting
DESCRIPTION:The 320 Committee Building will meet to discuss the maintenance\, improvements\, and needs of the property.
URL:https://fbctampa.org/event/320-building-committe-meeting-2/2030-05-22/
LOCATION:4th Floor Loft\, 302 W Kennedy Blvd\, Tampa\, FL\, 33606\, United States
END:VEVENT
BEGIN:VEVENT
DTSTART;TZID=America/New_York:20300724T193000
DTEND;TZID=America/New_York:20300724T203000
DTSTAMP:20260423T163307
CREATED:20260107T173441Z
LAST-MODIFIED:20260107T173920Z
UID:10014163-1911151800-1911155400@fbctampa.org
SUMMARY:320 Building Committe Meeting
DESCRIPTION:The 320 Committee Building will meet to discuss the maintenance\, improvements\, and needs of the property.
URL:https://fbctampa.org/event/320-building-committe-meeting-2/2030-07-24/
LOCATION:4th Floor Loft\, 302 W Kennedy Blvd\, Tampa\, FL\, 33606\, United States
END:VEVENT
BEGIN:VEVENT
DTSTART;TZID=America/New_York:20300925T193000
DTEND;TZID=America/New_York:20300925T203000
DTSTAMP:20260423T163307
CREATED:20260107T173441Z
LAST-MODIFIED:20260107T173920Z
UID:10014164-1916595000-1916598600@fbctampa.org
SUMMARY:320 Building Committe Meeting
DESCRIPTION:The 320 Committee Building will meet to discuss the maintenance\, improvements\, and needs of the property.
URL:https://fbctampa.org/event/320-building-committe-meeting-2/2030-09-25/
LOCATION:4th Floor Loft\, 302 W Kennedy Blvd\, Tampa\, FL\, 33606\, United States
END:VEVENT
BEGIN:VEVENT
DTSTART;TZID=America/New_York:20301127T193000
DTEND;TZID=America/New_York:20301127T203000
DTSTAMP:20260423T163307
CREATED:20260107T173441Z
LAST-MODIFIED:20260107T173920Z
UID:10014165-1922038200-1922041800@fbctampa.org
SUMMARY:320 Building Committe Meeting
DESCRIPTION:The 320 Committee Building will meet to discuss the maintenance\, improvements\, and needs of the property.
URL:https://fbctampa.org/event/320-building-committe-meeting-2/2030-11-27/
LOCATION:4th Floor Loft\, 302 W Kennedy Blvd\, Tampa\, FL\, 33606\, United States
END:VEVENT
END:VCALENDAR