BEGIN:VCALENDAR
VERSION:2.0
PRODID:-//FBC Tampa - ECPv6.15.11//NONSGML v1.0//EN
CALSCALE:GREGORIAN
METHOD:PUBLISH
X-WR-CALNAME:FBC Tampa
X-ORIGINAL-URL:https://fbctampa.org
X-WR-CALDESC:Events for FBC Tampa
REFRESH-INTERVAL;VALUE=DURATION:PT1H
X-Robots-Tag:noindex
X-PUBLISHED-TTL:PT1H
BEGIN:VTIMEZONE
TZID:America/New_York
BEGIN:DAYLIGHT
TZOFFSETFROM:-0500
TZOFFSETTO:-0400
TZNAME:EDT
DTSTART:20250309T070000
END:DAYLIGHT
BEGIN:STANDARD
TZOFFSETFROM:-0400
TZOFFSETTO:-0500
TZNAME:EST
DTSTART:20251102T060000
END:STANDARD
BEGIN:DAYLIGHT
TZOFFSETFROM:-0500
TZOFFSETTO:-0400
TZNAME:EDT
DTSTART:20260308T070000
END:DAYLIGHT
BEGIN:STANDARD
TZOFFSETFROM:-0400
TZOFFSETTO:-0500
TZNAME:EST
DTSTART:20261101T060000
END:STANDARD
BEGIN:DAYLIGHT
TZOFFSETFROM:-0500
TZOFFSETTO:-0400
TZNAME:EDT
DTSTART:20270314T070000
END:DAYLIGHT
BEGIN:STANDARD
TZOFFSETFROM:-0400
TZOFFSETTO:-0500
TZNAME:EST
DTSTART:20271107T060000
END:STANDARD
END:VTIMEZONE
BEGIN:VEVENT
DTSTART;TZID=America/New_York:20260427T180000
DTEND;TZID=America/New_York:20260427T200000
DTSTAMP:20260423T133520
CREATED:20260203T190207Z
LAST-MODIFIED:20260305T185340Z
UID:10013951-1777312800-1777320000@fbctampa.org
SUMMARY:Basketball for Adults
DESCRIPTION:Come out and join us for a fun\, friendly game of pickup basketball! This is a great chance for adults to get active\, enjoy some friendly competition\, and build community. All skill levels welcome!
URL:https://fbctampa.org/event/basketball-for-adults-2/2026-04-27/
ATTACH;FMTTYPE=image/png:https://fbctampa.org/wp-content/uploads/2026/02/For-adults-18-x-24-in-Presentation-2.png
END:VEVENT
BEGIN:VEVENT
DTSTART;TZID=America/New_York:20260504T180000
DTEND;TZID=America/New_York:20260504T200000
DTSTAMP:20260423T133520
CREATED:20260203T190207Z
LAST-MODIFIED:20260305T185340Z
UID:10013952-1777917600-1777924800@fbctampa.org
SUMMARY:Basketball for Adults
DESCRIPTION:Come out and join us for a fun\, friendly game of pickup basketball! This is a great chance for adults to get active\, enjoy some friendly competition\, and build community. All skill levels welcome!
URL:https://fbctampa.org/event/basketball-for-adults-2/2026-05-04/
ATTACH;FMTTYPE=image/png:https://fbctampa.org/wp-content/uploads/2026/02/For-adults-18-x-24-in-Presentation-2.png
END:VEVENT
BEGIN:VEVENT
DTSTART;TZID=America/New_York:20260511T180000
DTEND;TZID=America/New_York:20260511T200000
DTSTAMP:20260423T133520
CREATED:20260203T190207Z
LAST-MODIFIED:20260305T185340Z
UID:10013953-1778522400-1778529600@fbctampa.org
SUMMARY:Basketball for Adults
DESCRIPTION:Come out and join us for a fun\, friendly game of pickup basketball! This is a great chance for adults to get active\, enjoy some friendly competition\, and build community. All skill levels welcome!
URL:https://fbctampa.org/event/basketball-for-adults-2/2026-05-11/
ATTACH;FMTTYPE=image/png:https://fbctampa.org/wp-content/uploads/2026/02/For-adults-18-x-24-in-Presentation-2.png
END:VEVENT
BEGIN:VEVENT
DTSTART;TZID=America/New_York:20260518T180000
DTEND;TZID=America/New_York:20260518T200000
DTSTAMP:20260423T133520
CREATED:20260203T190207Z
LAST-MODIFIED:20260305T185340Z
UID:10013954-1779127200-1779134400@fbctampa.org
SUMMARY:Basketball for Adults
DESCRIPTION:Come out and join us for a fun\, friendly game of pickup basketball! This is a great chance for adults to get active\, enjoy some friendly competition\, and build community. All skill levels welcome!
URL:https://fbctampa.org/event/basketball-for-adults-2/2026-05-18/
ATTACH;FMTTYPE=image/png:https://fbctampa.org/wp-content/uploads/2026/02/For-adults-18-x-24-in-Presentation-2.png
END:VEVENT
BEGIN:VEVENT
DTSTART;TZID=America/New_York:20260525T180000
DTEND;TZID=America/New_York:20260525T200000
DTSTAMP:20260423T133520
CREATED:20260203T190207Z
LAST-MODIFIED:20260305T185340Z
UID:10013955-1779732000-1779739200@fbctampa.org
SUMMARY:Basketball for Adults
DESCRIPTION:Come out and join us for a fun\, friendly game of pickup basketball! This is a great chance for adults to get active\, enjoy some friendly competition\, and build community. All skill levels welcome!
URL:https://fbctampa.org/event/basketball-for-adults-2/2026-05-25/
ATTACH;FMTTYPE=image/png:https://fbctampa.org/wp-content/uploads/2026/02/For-adults-18-x-24-in-Presentation-2.png
END:VEVENT
BEGIN:VEVENT
DTSTART;TZID=America/New_York:20260601T180000
DTEND;TZID=America/New_York:20260601T200000
DTSTAMP:20260423T133520
CREATED:20260203T190207Z
LAST-MODIFIED:20260305T185340Z
UID:10013956-1780336800-1780344000@fbctampa.org
SUMMARY:Basketball for Adults
DESCRIPTION:Come out and join us for a fun\, friendly game of pickup basketball! This is a great chance for adults to get active\, enjoy some friendly competition\, and build community. All skill levels welcome!
URL:https://fbctampa.org/event/basketball-for-adults-2/2026-06-01/
ATTACH;FMTTYPE=image/png:https://fbctampa.org/wp-content/uploads/2026/02/For-adults-18-x-24-in-Presentation-2.png
END:VEVENT
BEGIN:VEVENT
DTSTART;TZID=America/New_York:20260608T180000
DTEND;TZID=America/New_York:20260608T200000
DTSTAMP:20260423T133520
CREATED:20260203T190207Z
LAST-MODIFIED:20260305T185340Z
UID:10013957-1780941600-1780948800@fbctampa.org
SUMMARY:Basketball for Adults
DESCRIPTION:Come out and join us for a fun\, friendly game of pickup basketball! This is a great chance for adults to get active\, enjoy some friendly competition\, and build community. All skill levels welcome!
URL:https://fbctampa.org/event/basketball-for-adults-2/2026-06-08/
ATTACH;FMTTYPE=image/png:https://fbctampa.org/wp-content/uploads/2026/02/For-adults-18-x-24-in-Presentation-2.png
END:VEVENT
BEGIN:VEVENT
DTSTART;TZID=America/New_York:20260615T180000
DTEND;TZID=America/New_York:20260615T200000
DTSTAMP:20260423T133520
CREATED:20260203T190207Z
LAST-MODIFIED:20260305T185340Z
UID:10013958-1781546400-1781553600@fbctampa.org
SUMMARY:Basketball for Adults
DESCRIPTION:Come out and join us for a fun\, friendly game of pickup basketball! This is a great chance for adults to get active\, enjoy some friendly competition\, and build community. All skill levels welcome!
URL:https://fbctampa.org/event/basketball-for-adults-2/2026-06-15/
ATTACH;FMTTYPE=image/png:https://fbctampa.org/wp-content/uploads/2026/02/For-adults-18-x-24-in-Presentation-2.png
END:VEVENT
BEGIN:VEVENT
DTSTART;TZID=America/New_York:20260622T180000
DTEND;TZID=America/New_York:20260622T200000
DTSTAMP:20260423T133520
CREATED:20260203T190207Z
LAST-MODIFIED:20260305T185340Z
UID:10013959-1782151200-1782158400@fbctampa.org
SUMMARY:Basketball for Adults
DESCRIPTION:Come out and join us for a fun\, friendly game of pickup basketball! This is a great chance for adults to get active\, enjoy some friendly competition\, and build community. All skill levels welcome!
URL:https://fbctampa.org/event/basketball-for-adults-2/2026-06-22/
ATTACH;FMTTYPE=image/png:https://fbctampa.org/wp-content/uploads/2026/02/For-adults-18-x-24-in-Presentation-2.png
END:VEVENT
BEGIN:VEVENT
DTSTART;TZID=America/New_York:20260629T180000
DTEND;TZID=America/New_York:20260629T200000
DTSTAMP:20260423T133520
CREATED:20260203T190207Z
LAST-MODIFIED:20260305T185340Z
UID:10013960-1782756000-1782763200@fbctampa.org
SUMMARY:Basketball for Adults
DESCRIPTION:Come out and join us for a fun\, friendly game of pickup basketball! This is a great chance for adults to get active\, enjoy some friendly competition\, and build community. All skill levels welcome!
URL:https://fbctampa.org/event/basketball-for-adults-2/2026-06-29/
ATTACH;FMTTYPE=image/png:https://fbctampa.org/wp-content/uploads/2026/02/For-adults-18-x-24-in-Presentation-2.png
END:VEVENT
BEGIN:VEVENT
DTSTART;TZID=America/New_York:20260706T180000
DTEND;TZID=America/New_York:20260706T200000
DTSTAMP:20260423T133520
CREATED:20260203T190207Z
LAST-MODIFIED:20260305T185340Z
UID:10013961-1783360800-1783368000@fbctampa.org
SUMMARY:Basketball for Adults
DESCRIPTION:Come out and join us for a fun\, friendly game of pickup basketball! This is a great chance for adults to get active\, enjoy some friendly competition\, and build community. All skill levels welcome!
URL:https://fbctampa.org/event/basketball-for-adults-2/2026-07-06/
ATTACH;FMTTYPE=image/png:https://fbctampa.org/wp-content/uploads/2026/02/For-adults-18-x-24-in-Presentation-2.png
END:VEVENT
BEGIN:VEVENT
DTSTART;TZID=America/New_York:20260713T180000
DTEND;TZID=America/New_York:20260713T200000
DTSTAMP:20260423T133520
CREATED:20260203T190207Z
LAST-MODIFIED:20260305T185340Z
UID:10013962-1783965600-1783972800@fbctampa.org
SUMMARY:Basketball for Adults
DESCRIPTION:Come out and join us for a fun\, friendly game of pickup basketball! This is a great chance for adults to get active\, enjoy some friendly competition\, and build community. All skill levels welcome!
URL:https://fbctampa.org/event/basketball-for-adults-2/2026-07-13/
ATTACH;FMTTYPE=image/png:https://fbctampa.org/wp-content/uploads/2026/02/For-adults-18-x-24-in-Presentation-2.png
END:VEVENT
BEGIN:VEVENT
DTSTART;TZID=America/New_York:20260720T180000
DTEND;TZID=America/New_York:20260720T200000
DTSTAMP:20260423T133520
CREATED:20260203T190207Z
LAST-MODIFIED:20260305T185340Z
UID:10013963-1784570400-1784577600@fbctampa.org
SUMMARY:Basketball for Adults
DESCRIPTION:Come out and join us for a fun\, friendly game of pickup basketball! This is a great chance for adults to get active\, enjoy some friendly competition\, and build community. All skill levels welcome!
URL:https://fbctampa.org/event/basketball-for-adults-2/2026-07-20/
ATTACH;FMTTYPE=image/png:https://fbctampa.org/wp-content/uploads/2026/02/For-adults-18-x-24-in-Presentation-2.png
END:VEVENT
BEGIN:VEVENT
DTSTART;TZID=America/New_York:20260727T180000
DTEND;TZID=America/New_York:20260727T200000
DTSTAMP:20260423T133520
CREATED:20260203T190207Z
LAST-MODIFIED:20260305T185340Z
UID:10013964-1785175200-1785182400@fbctampa.org
SUMMARY:Basketball for Adults
DESCRIPTION:Come out and join us for a fun\, friendly game of pickup basketball! This is a great chance for adults to get active\, enjoy some friendly competition\, and build community. All skill levels welcome!
URL:https://fbctampa.org/event/basketball-for-adults-2/2026-07-27/
ATTACH;FMTTYPE=image/png:https://fbctampa.org/wp-content/uploads/2026/02/For-adults-18-x-24-in-Presentation-2.png
END:VEVENT
BEGIN:VEVENT
DTSTART;TZID=America/New_York:20260803T180000
DTEND;TZID=America/New_York:20260803T200000
DTSTAMP:20260423T133520
CREATED:20260203T190207Z
LAST-MODIFIED:20260305T185340Z
UID:10013965-1785780000-1785787200@fbctampa.org
SUMMARY:Basketball for Adults
DESCRIPTION:Come out and join us for a fun\, friendly game of pickup basketball! This is a great chance for adults to get active\, enjoy some friendly competition\, and build community. All skill levels welcome!
URL:https://fbctampa.org/event/basketball-for-adults-2/2026-08-03/
ATTACH;FMTTYPE=image/png:https://fbctampa.org/wp-content/uploads/2026/02/For-adults-18-x-24-in-Presentation-2.png
END:VEVENT
BEGIN:VEVENT
DTSTART;TZID=America/New_York:20260810T180000
DTEND;TZID=America/New_York:20260810T200000
DTSTAMP:20260423T133520
CREATED:20260203T190207Z
LAST-MODIFIED:20260305T185340Z
UID:10013966-1786384800-1786392000@fbctampa.org
SUMMARY:Basketball for Adults
DESCRIPTION:Come out and join us for a fun\, friendly game of pickup basketball! This is a great chance for adults to get active\, enjoy some friendly competition\, and build community. All skill levels welcome!
URL:https://fbctampa.org/event/basketball-for-adults-2/2026-08-10/
ATTACH;FMTTYPE=image/png:https://fbctampa.org/wp-content/uploads/2026/02/For-adults-18-x-24-in-Presentation-2.png
END:VEVENT
BEGIN:VEVENT
DTSTART;TZID=America/New_York:20260817T180000
DTEND;TZID=America/New_York:20260817T200000
DTSTAMP:20260423T133520
CREATED:20260203T190207Z
LAST-MODIFIED:20260305T185340Z
UID:10013967-1786989600-1786996800@fbctampa.org
SUMMARY:Basketball for Adults
DESCRIPTION:Come out and join us for a fun\, friendly game of pickup basketball! This is a great chance for adults to get active\, enjoy some friendly competition\, and build community. All skill levels welcome!
URL:https://fbctampa.org/event/basketball-for-adults-2/2026-08-17/
ATTACH;FMTTYPE=image/png:https://fbctampa.org/wp-content/uploads/2026/02/For-adults-18-x-24-in-Presentation-2.png
END:VEVENT
BEGIN:VEVENT
DTSTART;TZID=America/New_York:20260824T180000
DTEND;TZID=America/New_York:20260824T200000
DTSTAMP:20260423T133520
CREATED:20260203T190207Z
LAST-MODIFIED:20260305T185340Z
UID:10013968-1787594400-1787601600@fbctampa.org
SUMMARY:Basketball for Adults
DESCRIPTION:Come out and join us for a fun\, friendly game of pickup basketball! This is a great chance for adults to get active\, enjoy some friendly competition\, and build community. All skill levels welcome!
URL:https://fbctampa.org/event/basketball-for-adults-2/2026-08-24/
ATTACH;FMTTYPE=image/png:https://fbctampa.org/wp-content/uploads/2026/02/For-adults-18-x-24-in-Presentation-2.png
END:VEVENT
BEGIN:VEVENT
DTSTART;TZID=America/New_York:20260831T180000
DTEND;TZID=America/New_York:20260831T200000
DTSTAMP:20260423T133520
CREATED:20260203T190207Z
LAST-MODIFIED:20260305T185340Z
UID:10013969-1788199200-1788206400@fbctampa.org
SUMMARY:Basketball for Adults
DESCRIPTION:Come out and join us for a fun\, friendly game of pickup basketball! This is a great chance for adults to get active\, enjoy some friendly competition\, and build community. All skill levels welcome!
URL:https://fbctampa.org/event/basketball-for-adults-2/2026-08-31/
ATTACH;FMTTYPE=image/png:https://fbctampa.org/wp-content/uploads/2026/02/For-adults-18-x-24-in-Presentation-2.png
END:VEVENT
END:VCALENDAR