BEGIN:VCALENDAR
VERSION:2.0
PRODID:-//FBC Tampa - ECPv6.15.11//NONSGML v1.0//EN
CALSCALE:GREGORIAN
METHOD:PUBLISH
X-WR-CALNAME:FBC Tampa
X-ORIGINAL-URL:https://fbctampa.org
X-WR-CALDESC:Events for FBC Tampa
REFRESH-INTERVAL;VALUE=DURATION:PT1H
X-Robots-Tag:noindex
X-PUBLISHED-TTL:PT1H
BEGIN:VTIMEZONE
TZID:America/New_York
BEGIN:DAYLIGHT
TZOFFSETFROM:-0500
TZOFFSETTO:-0400
TZNAME:EDT
DTSTART:20250309T070000
END:DAYLIGHT
BEGIN:STANDARD
TZOFFSETFROM:-0400
TZOFFSETTO:-0500
TZNAME:EST
DTSTART:20251102T060000
END:STANDARD
BEGIN:DAYLIGHT
TZOFFSETFROM:-0500
TZOFFSETTO:-0400
TZNAME:EDT
DTSTART:20260308T070000
END:DAYLIGHT
BEGIN:STANDARD
TZOFFSETFROM:-0400
TZOFFSETTO:-0500
TZNAME:EST
DTSTART:20261101T060000
END:STANDARD
BEGIN:DAYLIGHT
TZOFFSETFROM:-0500
TZOFFSETTO:-0400
TZNAME:EDT
DTSTART:20270314T070000
END:DAYLIGHT
BEGIN:STANDARD
TZOFFSETFROM:-0400
TZOFFSETTO:-0500
TZNAME:EST
DTSTART:20271107T060000
END:STANDARD
BEGIN:DAYLIGHT
TZOFFSETFROM:-0500
TZOFFSETTO:-0400
TZNAME:EDT
DTSTART:20280312T070000
END:DAYLIGHT
BEGIN:STANDARD
TZOFFSETFROM:-0400
TZOFFSETTO:-0500
TZNAME:EST
DTSTART:20281105T060000
END:STANDARD
BEGIN:DAYLIGHT
TZOFFSETFROM:-0500
TZOFFSETTO:-0400
TZNAME:EDT
DTSTART:20290311T070000
END:DAYLIGHT
BEGIN:STANDARD
TZOFFSETFROM:-0400
TZOFFSETTO:-0500
TZNAME:EST
DTSTART:20291104T060000
END:STANDARD
BEGIN:DAYLIGHT
TZOFFSETFROM:-0500
TZOFFSETTO:-0400
TZNAME:EDT
DTSTART:20300310T070000
END:DAYLIGHT
BEGIN:STANDARD
TZOFFSETFROM:-0400
TZOFFSETTO:-0500
TZNAME:EST
DTSTART:20301103T060000
END:STANDARD
BEGIN:DAYLIGHT
TZOFFSETFROM:-0500
TZOFFSETTO:-0400
TZNAME:EDT
DTSTART:20310309T070000
END:DAYLIGHT
BEGIN:STANDARD
TZOFFSETFROM:-0400
TZOFFSETTO:-0500
TZNAME:EST
DTSTART:20311102T060000
END:STANDARD
END:VTIMEZONE
BEGIN:VEVENT
DTSTART;TZID=America/New_York:20260624T193000
DTEND;TZID=America/New_York:20260624T203000
DTSTAMP:20260423T133817
CREATED:20250217T181132Z
LAST-MODIFIED:20260107T172114Z
UID:10014054-1782329400-1782333000@fbctampa.org
SUMMARY:Property Committee Meeting
DESCRIPTION:The Property Committee will meet to discuss the maintenance\, improvements\, and needs of the church property.
URL:https://fbctampa.org/event/property-committee-meeting/2026-06-24/
LOCATION:4th Floor Loft\, 302 W Kennedy Blvd\, Tampa\, FL\, 33606\, United States
ATTACH;FMTTYPE=image/png:https://fbctampa.org/wp-content/uploads/2025/02/Untitled-design-55.png
END:VEVENT
BEGIN:VEVENT
DTSTART;TZID=America/New_York:20260826T193000
DTEND;TZID=America/New_York:20260826T203000
DTSTAMP:20260423T133817
CREATED:20250217T181132Z
LAST-MODIFIED:20260107T172114Z
UID:10014055-1787772600-1787776200@fbctampa.org
SUMMARY:Property Committee Meeting
DESCRIPTION:The Property Committee will meet to discuss the maintenance\, improvements\, and needs of the church property.
URL:https://fbctampa.org/event/property-committee-meeting/2026-08-26/
LOCATION:4th Floor Loft\, 302 W Kennedy Blvd\, Tampa\, FL\, 33606\, United States
ATTACH;FMTTYPE=image/png:https://fbctampa.org/wp-content/uploads/2025/02/Untitled-design-55.png
END:VEVENT
BEGIN:VEVENT
DTSTART;TZID=America/New_York:20261028T193000
DTEND;TZID=America/New_York:20261028T203000
DTSTAMP:20260423T133817
CREATED:20250217T181132Z
LAST-MODIFIED:20260107T172114Z
UID:10014056-1793215800-1793219400@fbctampa.org
SUMMARY:Property Committee Meeting
DESCRIPTION:The Property Committee will meet to discuss the maintenance\, improvements\, and needs of the church property.
URL:https://fbctampa.org/event/property-committee-meeting/2026-10-28/
LOCATION:4th Floor Loft\, 302 W Kennedy Blvd\, Tampa\, FL\, 33606\, United States
ATTACH;FMTTYPE=image/png:https://fbctampa.org/wp-content/uploads/2025/02/Untitled-design-55.png
END:VEVENT
BEGIN:VEVENT
DTSTART;TZID=America/New_York:20261223T193000
DTEND;TZID=America/New_York:20261223T203000
DTSTAMP:20260423T133817
CREATED:20250217T181132Z
LAST-MODIFIED:20260107T172114Z
UID:10014057-1798054200-1798057800@fbctampa.org
SUMMARY:Property Committee Meeting
DESCRIPTION:The Property Committee will meet to discuss the maintenance\, improvements\, and needs of the church property.
URL:https://fbctampa.org/event/property-committee-meeting/2026-12-23/
LOCATION:4th Floor Loft\, 302 W Kennedy Blvd\, Tampa\, FL\, 33606\, United States
ATTACH;FMTTYPE=image/png:https://fbctampa.org/wp-content/uploads/2025/02/Untitled-design-55.png
END:VEVENT
BEGIN:VEVENT
DTSTART;TZID=America/New_York:20270224T193000
DTEND;TZID=America/New_York:20270224T203000
DTSTAMP:20260423T133817
CREATED:20250217T181132Z
LAST-MODIFIED:20260107T172114Z
UID:10014058-1803497400-1803501000@fbctampa.org
SUMMARY:Property Committee Meeting
DESCRIPTION:The Property Committee will meet to discuss the maintenance\, improvements\, and needs of the church property.
URL:https://fbctampa.org/event/property-committee-meeting/2027-02-24/
LOCATION:4th Floor Loft\, 302 W Kennedy Blvd\, Tampa\, FL\, 33606\, United States
ATTACH;FMTTYPE=image/png:https://fbctampa.org/wp-content/uploads/2025/02/Untitled-design-55.png
END:VEVENT
BEGIN:VEVENT
DTSTART;TZID=America/New_York:20270428T193000
DTEND;TZID=America/New_York:20270428T203000
DTSTAMP:20260423T133817
CREATED:20250217T181132Z
LAST-MODIFIED:20260107T172114Z
UID:10014060-1808940600-1808944200@fbctampa.org
SUMMARY:Property Committee Meeting
DESCRIPTION:The Property Committee will meet to discuss the maintenance\, improvements\, and needs of the church property.
URL:https://fbctampa.org/event/property-committee-meeting/2027-04-28/
LOCATION:4th Floor Loft\, 302 W Kennedy Blvd\, Tampa\, FL\, 33606\, United States
ATTACH;FMTTYPE=image/png:https://fbctampa.org/wp-content/uploads/2025/02/Untitled-design-55.png
END:VEVENT
BEGIN:VEVENT
DTSTART;TZID=America/New_York:20270623T193000
DTEND;TZID=America/New_York:20270623T203000
DTSTAMP:20260423T133817
CREATED:20250217T181132Z
LAST-MODIFIED:20260107T172114Z
UID:10014062-1813779000-1813782600@fbctampa.org
SUMMARY:Property Committee Meeting
DESCRIPTION:The Property Committee will meet to discuss the maintenance\, improvements\, and needs of the church property.
URL:https://fbctampa.org/event/property-committee-meeting/2027-06-23/
LOCATION:4th Floor Loft\, 302 W Kennedy Blvd\, Tampa\, FL\, 33606\, United States
ATTACH;FMTTYPE=image/png:https://fbctampa.org/wp-content/uploads/2025/02/Untitled-design-55.png
END:VEVENT
BEGIN:VEVENT
DTSTART;TZID=America/New_York:20270825T193000
DTEND;TZID=America/New_York:20270825T203000
DTSTAMP:20260423T133817
CREATED:20250217T181132Z
LAST-MODIFIED:20260107T172114Z
UID:10014064-1819222200-1819225800@fbctampa.org
SUMMARY:Property Committee Meeting
DESCRIPTION:The Property Committee will meet to discuss the maintenance\, improvements\, and needs of the church property.
URL:https://fbctampa.org/event/property-committee-meeting/2027-08-25/
LOCATION:4th Floor Loft\, 302 W Kennedy Blvd\, Tampa\, FL\, 33606\, United States
ATTACH;FMTTYPE=image/png:https://fbctampa.org/wp-content/uploads/2025/02/Untitled-design-55.png
END:VEVENT
BEGIN:VEVENT
DTSTART;TZID=America/New_York:20271027T193000
DTEND;TZID=America/New_York:20271027T203000
DTSTAMP:20260423T133817
CREATED:20250217T181132Z
LAST-MODIFIED:20260107T172114Z
UID:10014066-1824665400-1824669000@fbctampa.org
SUMMARY:Property Committee Meeting
DESCRIPTION:The Property Committee will meet to discuss the maintenance\, improvements\, and needs of the church property.
URL:https://fbctampa.org/event/property-committee-meeting/2027-10-27/
LOCATION:4th Floor Loft\, 302 W Kennedy Blvd\, Tampa\, FL\, 33606\, United States
ATTACH;FMTTYPE=image/png:https://fbctampa.org/wp-content/uploads/2025/02/Untitled-design-55.png
END:VEVENT
BEGIN:VEVENT
DTSTART;TZID=America/New_York:20271222T193000
DTEND;TZID=America/New_York:20271222T203000
DTSTAMP:20260423T133817
CREATED:20250217T181132Z
LAST-MODIFIED:20260107T172114Z
UID:10014068-1829503800-1829507400@fbctampa.org
SUMMARY:Property Committee Meeting
DESCRIPTION:The Property Committee will meet to discuss the maintenance\, improvements\, and needs of the church property.
URL:https://fbctampa.org/event/property-committee-meeting/2027-12-22/
LOCATION:4th Floor Loft\, 302 W Kennedy Blvd\, Tampa\, FL\, 33606\, United States
ATTACH;FMTTYPE=image/png:https://fbctampa.org/wp-content/uploads/2025/02/Untitled-design-55.png
END:VEVENT
BEGIN:VEVENT
DTSTART;TZID=America/New_York:20280223T193000
DTEND;TZID=America/New_York:20280223T203000
DTSTAMP:20260423T133817
CREATED:20250217T181132Z
LAST-MODIFIED:20260107T172114Z
UID:10014070-1834947000-1834950600@fbctampa.org
SUMMARY:Property Committee Meeting
DESCRIPTION:The Property Committee will meet to discuss the maintenance\, improvements\, and needs of the church property.
URL:https://fbctampa.org/event/property-committee-meeting/2028-02-23/
LOCATION:4th Floor Loft\, 302 W Kennedy Blvd\, Tampa\, FL\, 33606\, United States
ATTACH;FMTTYPE=image/png:https://fbctampa.org/wp-content/uploads/2025/02/Untitled-design-55.png
END:VEVENT
BEGIN:VEVENT
DTSTART;TZID=America/New_York:20280426T193000
DTEND;TZID=America/New_York:20280426T203000
DTSTAMP:20260423T133817
CREATED:20250217T181132Z
LAST-MODIFIED:20260107T172114Z
UID:10014072-1840390200-1840393800@fbctampa.org
SUMMARY:Property Committee Meeting
DESCRIPTION:The Property Committee will meet to discuss the maintenance\, improvements\, and needs of the church property.
URL:https://fbctampa.org/event/property-committee-meeting/2028-04-26/
LOCATION:4th Floor Loft\, 302 W Kennedy Blvd\, Tampa\, FL\, 33606\, United States
ATTACH;FMTTYPE=image/png:https://fbctampa.org/wp-content/uploads/2025/02/Untitled-design-55.png
END:VEVENT
BEGIN:VEVENT
DTSTART;TZID=America/New_York:20280628T193000
DTEND;TZID=America/New_York:20280628T203000
DTSTAMP:20260423T133817
CREATED:20250217T181132Z
LAST-MODIFIED:20260107T172114Z
UID:10014074-1845833400-1845837000@fbctampa.org
SUMMARY:Property Committee Meeting
DESCRIPTION:The Property Committee will meet to discuss the maintenance\, improvements\, and needs of the church property.
URL:https://fbctampa.org/event/property-committee-meeting/2028-06-28/
LOCATION:4th Floor Loft\, 302 W Kennedy Blvd\, Tampa\, FL\, 33606\, United States
ATTACH;FMTTYPE=image/png:https://fbctampa.org/wp-content/uploads/2025/02/Untitled-design-55.png
END:VEVENT
BEGIN:VEVENT
DTSTART;TZID=America/New_York:20280823T193000
DTEND;TZID=America/New_York:20280823T203000
DTSTAMP:20260423T133817
CREATED:20250217T181132Z
LAST-MODIFIED:20260107T172114Z
UID:10014076-1850671800-1850675400@fbctampa.org
SUMMARY:Property Committee Meeting
DESCRIPTION:The Property Committee will meet to discuss the maintenance\, improvements\, and needs of the church property.
URL:https://fbctampa.org/event/property-committee-meeting/2028-08-23/
LOCATION:4th Floor Loft\, 302 W Kennedy Blvd\, Tampa\, FL\, 33606\, United States
ATTACH;FMTTYPE=image/png:https://fbctampa.org/wp-content/uploads/2025/02/Untitled-design-55.png
END:VEVENT
BEGIN:VEVENT
DTSTART;TZID=America/New_York:20281025T193000
DTEND;TZID=America/New_York:20281025T203000
DTSTAMP:20260423T133817
CREATED:20250217T181132Z
LAST-MODIFIED:20260107T172114Z
UID:10014078-1856115000-1856118600@fbctampa.org
SUMMARY:Property Committee Meeting
DESCRIPTION:The Property Committee will meet to discuss the maintenance\, improvements\, and needs of the church property.
URL:https://fbctampa.org/event/property-committee-meeting/2028-10-25/
LOCATION:4th Floor Loft\, 302 W Kennedy Blvd\, Tampa\, FL\, 33606\, United States
ATTACH;FMTTYPE=image/png:https://fbctampa.org/wp-content/uploads/2025/02/Untitled-design-55.png
END:VEVENT
BEGIN:VEVENT
DTSTART;TZID=America/New_York:20281227T193000
DTEND;TZID=America/New_York:20281227T203000
DTSTAMP:20260423T133817
CREATED:20250217T181132Z
LAST-MODIFIED:20260107T172114Z
UID:10014080-1861558200-1861561800@fbctampa.org
SUMMARY:Property Committee Meeting
DESCRIPTION:The Property Committee will meet to discuss the maintenance\, improvements\, and needs of the church property.
URL:https://fbctampa.org/event/property-committee-meeting/2028-12-27/
LOCATION:4th Floor Loft\, 302 W Kennedy Blvd\, Tampa\, FL\, 33606\, United States
ATTACH;FMTTYPE=image/png:https://fbctampa.org/wp-content/uploads/2025/02/Untitled-design-55.png
END:VEVENT
BEGIN:VEVENT
DTSTART;TZID=America/New_York:20290228T193000
DTEND;TZID=America/New_York:20290228T203000
DTSTAMP:20260423T133817
CREATED:20250217T181132Z
LAST-MODIFIED:20260107T172114Z
UID:10014082-1867001400-1867005000@fbctampa.org
SUMMARY:Property Committee Meeting
DESCRIPTION:The Property Committee will meet to discuss the maintenance\, improvements\, and needs of the church property.
URL:https://fbctampa.org/event/property-committee-meeting/2029-02-28/
LOCATION:4th Floor Loft\, 302 W Kennedy Blvd\, Tampa\, FL\, 33606\, United States
ATTACH;FMTTYPE=image/png:https://fbctampa.org/wp-content/uploads/2025/02/Untitled-design-55.png
END:VEVENT
BEGIN:VEVENT
DTSTART;TZID=America/New_York:20290425T193000
DTEND;TZID=America/New_York:20290425T203000
DTSTAMP:20260423T133817
CREATED:20250217T181132Z
LAST-MODIFIED:20260107T172114Z
UID:10014084-1871839800-1871843400@fbctampa.org
SUMMARY:Property Committee Meeting
DESCRIPTION:The Property Committee will meet to discuss the maintenance\, improvements\, and needs of the church property.
URL:https://fbctampa.org/event/property-committee-meeting/2029-04-25/
LOCATION:4th Floor Loft\, 302 W Kennedy Blvd\, Tampa\, FL\, 33606\, United States
ATTACH;FMTTYPE=image/png:https://fbctampa.org/wp-content/uploads/2025/02/Untitled-design-55.png
END:VEVENT
BEGIN:VEVENT
DTSTART;TZID=America/New_York:20290627T193000
DTEND;TZID=America/New_York:20290627T203000
DTSTAMP:20260423T133817
CREATED:20250217T181132Z
LAST-MODIFIED:20260107T172114Z
UID:10014086-1877283000-1877286600@fbctampa.org
SUMMARY:Property Committee Meeting
DESCRIPTION:The Property Committee will meet to discuss the maintenance\, improvements\, and needs of the church property.
URL:https://fbctampa.org/event/property-committee-meeting/2029-06-27/
LOCATION:4th Floor Loft\, 302 W Kennedy Blvd\, Tampa\, FL\, 33606\, United States
ATTACH;FMTTYPE=image/png:https://fbctampa.org/wp-content/uploads/2025/02/Untitled-design-55.png
END:VEVENT
BEGIN:VEVENT
DTSTART;TZID=America/New_York:20290822T193000
DTEND;TZID=America/New_York:20290822T203000
DTSTAMP:20260423T133817
CREATED:20250217T181132Z
LAST-MODIFIED:20260107T172114Z
UID:10014088-1882121400-1882125000@fbctampa.org
SUMMARY:Property Committee Meeting
DESCRIPTION:The Property Committee will meet to discuss the maintenance\, improvements\, and needs of the church property.
URL:https://fbctampa.org/event/property-committee-meeting/2029-08-22/
LOCATION:4th Floor Loft\, 302 W Kennedy Blvd\, Tampa\, FL\, 33606\, United States
ATTACH;FMTTYPE=image/png:https://fbctampa.org/wp-content/uploads/2025/02/Untitled-design-55.png
END:VEVENT
BEGIN:VEVENT
DTSTART;TZID=America/New_York:20291024T193000
DTEND;TZID=America/New_York:20291024T203000
DTSTAMP:20260423T133817
CREATED:20250217T181132Z
LAST-MODIFIED:20260107T172114Z
UID:10014090-1887564600-1887568200@fbctampa.org
SUMMARY:Property Committee Meeting
DESCRIPTION:The Property Committee will meet to discuss the maintenance\, improvements\, and needs of the church property.
URL:https://fbctampa.org/event/property-committee-meeting/2029-10-24/
LOCATION:4th Floor Loft\, 302 W Kennedy Blvd\, Tampa\, FL\, 33606\, United States
ATTACH;FMTTYPE=image/png:https://fbctampa.org/wp-content/uploads/2025/02/Untitled-design-55.png
END:VEVENT
BEGIN:VEVENT
DTSTART;TZID=America/New_York:20291226T193000
DTEND;TZID=America/New_York:20291226T203000
DTSTAMP:20260423T133817
CREATED:20250217T181132Z
LAST-MODIFIED:20260107T172114Z
UID:10014092-1893007800-1893011400@fbctampa.org
SUMMARY:Property Committee Meeting
DESCRIPTION:The Property Committee will meet to discuss the maintenance\, improvements\, and needs of the church property.
URL:https://fbctampa.org/event/property-committee-meeting/2029-12-26/
LOCATION:4th Floor Loft\, 302 W Kennedy Blvd\, Tampa\, FL\, 33606\, United States
ATTACH;FMTTYPE=image/png:https://fbctampa.org/wp-content/uploads/2025/02/Untitled-design-55.png
END:VEVENT
BEGIN:VEVENT
DTSTART;TZID=America/New_York:20300227T193000
DTEND;TZID=America/New_York:20300227T203000
DTSTAMP:20260423T133817
CREATED:20250217T181132Z
LAST-MODIFIED:20260107T172114Z
UID:10014094-1898451000-1898454600@fbctampa.org
SUMMARY:Property Committee Meeting
DESCRIPTION:The Property Committee will meet to discuss the maintenance\, improvements\, and needs of the church property.
URL:https://fbctampa.org/event/property-committee-meeting/2030-02-27/
LOCATION:4th Floor Loft\, 302 W Kennedy Blvd\, Tampa\, FL\, 33606\, United States
ATTACH;FMTTYPE=image/png:https://fbctampa.org/wp-content/uploads/2025/02/Untitled-design-55.png
END:VEVENT
BEGIN:VEVENT
DTSTART;TZID=America/New_York:20300424T193000
DTEND;TZID=America/New_York:20300424T203000
DTSTAMP:20260423T133817
CREATED:20250217T181132Z
LAST-MODIFIED:20260107T172114Z
UID:10014096-1903289400-1903293000@fbctampa.org
SUMMARY:Property Committee Meeting
DESCRIPTION:The Property Committee will meet to discuss the maintenance\, improvements\, and needs of the church property.
URL:https://fbctampa.org/event/property-committee-meeting/2030-04-24/
LOCATION:4th Floor Loft\, 302 W Kennedy Blvd\, Tampa\, FL\, 33606\, United States
ATTACH;FMTTYPE=image/png:https://fbctampa.org/wp-content/uploads/2025/02/Untitled-design-55.png
END:VEVENT
BEGIN:VEVENT
DTSTART;TZID=America/New_York:20300626T193000
DTEND;TZID=America/New_York:20300626T203000
DTSTAMP:20260423T133817
CREATED:20250217T181132Z
LAST-MODIFIED:20260107T172114Z
UID:10014098-1908732600-1908736200@fbctampa.org
SUMMARY:Property Committee Meeting
DESCRIPTION:The Property Committee will meet to discuss the maintenance\, improvements\, and needs of the church property.
URL:https://fbctampa.org/event/property-committee-meeting/2030-06-26/
LOCATION:4th Floor Loft\, 302 W Kennedy Blvd\, Tampa\, FL\, 33606\, United States
ATTACH;FMTTYPE=image/png:https://fbctampa.org/wp-content/uploads/2025/02/Untitled-design-55.png
END:VEVENT
BEGIN:VEVENT
DTSTART;TZID=America/New_York:20300828T193000
DTEND;TZID=America/New_York:20300828T203000
DTSTAMP:20260423T133817
CREATED:20250217T181132Z
LAST-MODIFIED:20260107T172114Z
UID:10014100-1914175800-1914179400@fbctampa.org
SUMMARY:Property Committee Meeting
DESCRIPTION:The Property Committee will meet to discuss the maintenance\, improvements\, and needs of the church property.
URL:https://fbctampa.org/event/property-committee-meeting/2030-08-28/
LOCATION:4th Floor Loft\, 302 W Kennedy Blvd\, Tampa\, FL\, 33606\, United States
ATTACH;FMTTYPE=image/png:https://fbctampa.org/wp-content/uploads/2025/02/Untitled-design-55.png
END:VEVENT
BEGIN:VEVENT
DTSTART;TZID=America/New_York:20301023T193000
DTEND;TZID=America/New_York:20301023T203000
DTSTAMP:20260423T133817
CREATED:20250217T181132Z
LAST-MODIFIED:20260107T172114Z
UID:10014102-1919014200-1919017800@fbctampa.org
SUMMARY:Property Committee Meeting
DESCRIPTION:The Property Committee will meet to discuss the maintenance\, improvements\, and needs of the church property.
URL:https://fbctampa.org/event/property-committee-meeting/2030-10-23/
LOCATION:4th Floor Loft\, 302 W Kennedy Blvd\, Tampa\, FL\, 33606\, United States
ATTACH;FMTTYPE=image/png:https://fbctampa.org/wp-content/uploads/2025/02/Untitled-design-55.png
END:VEVENT
BEGIN:VEVENT
DTSTART;TZID=America/New_York:20301225T193000
DTEND;TZID=America/New_York:20301225T203000
DTSTAMP:20260423T133817
CREATED:20250217T181132Z
LAST-MODIFIED:20260107T172114Z
UID:10014104-1924457400-1924461000@fbctampa.org
SUMMARY:Property Committee Meeting
DESCRIPTION:The Property Committee will meet to discuss the maintenance\, improvements\, and needs of the church property.
URL:https://fbctampa.org/event/property-committee-meeting/2030-12-25/
LOCATION:4th Floor Loft\, 302 W Kennedy Blvd\, Tampa\, FL\, 33606\, United States
ATTACH;FMTTYPE=image/png:https://fbctampa.org/wp-content/uploads/2025/02/Untitled-design-55.png
END:VEVENT
END:VCALENDAR