BEGIN:VCALENDAR
VERSION:2.0
PRODID:-//FBC Tampa - ECPv6.15.11//NONSGML v1.0//EN
CALSCALE:GREGORIAN
METHOD:PUBLISH
X-WR-CALNAME:FBC Tampa
X-ORIGINAL-URL:https://fbctampa.org
X-WR-CALDESC:Events for FBC Tampa
REFRESH-INTERVAL;VALUE=DURATION:PT1H
X-Robots-Tag:noindex
X-PUBLISHED-TTL:PT1H
BEGIN:VTIMEZONE
TZID:America/New_York
BEGIN:DAYLIGHT
TZOFFSETFROM:-0500
TZOFFSETTO:-0400
TZNAME:EDT
DTSTART:20250309T070000
END:DAYLIGHT
BEGIN:STANDARD
TZOFFSETFROM:-0400
TZOFFSETTO:-0500
TZNAME:EST
DTSTART:20251102T060000
END:STANDARD
BEGIN:DAYLIGHT
TZOFFSETFROM:-0500
TZOFFSETTO:-0400
TZNAME:EDT
DTSTART:20260308T070000
END:DAYLIGHT
BEGIN:STANDARD
TZOFFSETFROM:-0400
TZOFFSETTO:-0500
TZNAME:EST
DTSTART:20261101T060000
END:STANDARD
BEGIN:DAYLIGHT
TZOFFSETFROM:-0500
TZOFFSETTO:-0400
TZNAME:EDT
DTSTART:20270314T070000
END:DAYLIGHT
BEGIN:STANDARD
TZOFFSETFROM:-0400
TZOFFSETTO:-0500
TZNAME:EST
DTSTART:20271107T060000
END:STANDARD
BEGIN:DAYLIGHT
TZOFFSETFROM:-0500
TZOFFSETTO:-0400
TZNAME:EDT
DTSTART:20280312T070000
END:DAYLIGHT
BEGIN:STANDARD
TZOFFSETFROM:-0400
TZOFFSETTO:-0500
TZNAME:EST
DTSTART:20281105T060000
END:STANDARD
BEGIN:DAYLIGHT
TZOFFSETFROM:-0500
TZOFFSETTO:-0400
TZNAME:EDT
DTSTART:20290311T070000
END:DAYLIGHT
BEGIN:STANDARD
TZOFFSETFROM:-0400
TZOFFSETTO:-0500
TZNAME:EST
DTSTART:20291104T060000
END:STANDARD
END:VTIMEZONE
BEGIN:VEVENT
DTSTART;TZID=America/New_York:20260514T080000
DTEND;TZID=America/New_York:20260514T210000
DTSTAMP:20260423T152858
CREATED:20260209T190226Z
LAST-MODIFIED:20260209T190226Z
UID:10006431-1778745600-1778792400@fbctampa.org
SUMMARY:Men's Prayer Breakfast
DESCRIPTION:The Men’s Prayer Breakfast meets at Pach’s Place in the Tahitian Inn\, on the second Thursday of each month for fellowship\, prayer\, and encouragement. Join us as we gather to lift each other up in faith over a hearty breakfast. \n601 South Dale Mabry Hwy Tampa 33609
URL:https://fbctampa.org/event/mens-prayer-breakfast-3-2-2-3/2026-05-14/
ATTACH;FMTTYPE=image/png:https://fbctampa.org/wp-content/uploads/2025/02/mens-brunch.png
END:VEVENT
BEGIN:VEVENT
DTSTART;TZID=America/New_York:20260611T080000
DTEND;TZID=America/New_York:20260611T210000
DTSTAMP:20260423T152858
CREATED:20260209T190226Z
LAST-MODIFIED:20260209T190226Z
UID:10006432-1781164800-1781211600@fbctampa.org
SUMMARY:Men's Prayer Breakfast
DESCRIPTION:The Men’s Prayer Breakfast meets at Pach’s Place in the Tahitian Inn\, on the second Thursday of each month for fellowship\, prayer\, and encouragement. Join us as we gather to lift each other up in faith over a hearty breakfast. \n601 South Dale Mabry Hwy Tampa 33609
URL:https://fbctampa.org/event/mens-prayer-breakfast-3-2-2-3/2026-06-11/
ATTACH;FMTTYPE=image/png:https://fbctampa.org/wp-content/uploads/2025/02/mens-brunch.png
END:VEVENT
BEGIN:VEVENT
DTSTART;TZID=America/New_York:20260709T080000
DTEND;TZID=America/New_York:20260709T210000
DTSTAMP:20260423T152858
CREATED:20260209T190226Z
LAST-MODIFIED:20260209T190226Z
UID:10006433-1783584000-1783630800@fbctampa.org
SUMMARY:Men's Prayer Breakfast
DESCRIPTION:The Men’s Prayer Breakfast meets at Pach’s Place in the Tahitian Inn\, on the second Thursday of each month for fellowship\, prayer\, and encouragement. Join us as we gather to lift each other up in faith over a hearty breakfast. \n601 South Dale Mabry Hwy Tampa 33609
URL:https://fbctampa.org/event/mens-prayer-breakfast-3-2-2-3/2026-07-09/
ATTACH;FMTTYPE=image/png:https://fbctampa.org/wp-content/uploads/2025/02/mens-brunch.png
END:VEVENT
BEGIN:VEVENT
DTSTART;TZID=America/New_York:20260813T080000
DTEND;TZID=America/New_York:20260813T210000
DTSTAMP:20260423T152858
CREATED:20260209T190226Z
LAST-MODIFIED:20260209T190226Z
UID:10006434-1786608000-1786654800@fbctampa.org
SUMMARY:Men's Prayer Breakfast
DESCRIPTION:The Men’s Prayer Breakfast meets at Pach’s Place in the Tahitian Inn\, on the second Thursday of each month for fellowship\, prayer\, and encouragement. Join us as we gather to lift each other up in faith over a hearty breakfast. \n601 South Dale Mabry Hwy Tampa 33609
URL:https://fbctampa.org/event/mens-prayer-breakfast-3-2-2-3/2026-08-13/
ATTACH;FMTTYPE=image/png:https://fbctampa.org/wp-content/uploads/2025/02/mens-brunch.png
END:VEVENT
BEGIN:VEVENT
DTSTART;TZID=America/New_York:20260910T080000
DTEND;TZID=America/New_York:20260910T210000
DTSTAMP:20260423T152858
CREATED:20260209T190226Z
LAST-MODIFIED:20260209T190226Z
UID:10006435-1789027200-1789074000@fbctampa.org
SUMMARY:Men's Prayer Breakfast
DESCRIPTION:The Men’s Prayer Breakfast meets at Pach’s Place in the Tahitian Inn\, on the second Thursday of each month for fellowship\, prayer\, and encouragement. Join us as we gather to lift each other up in faith over a hearty breakfast. \n601 South Dale Mabry Hwy Tampa 33609
URL:https://fbctampa.org/event/mens-prayer-breakfast-3-2-2-3/2026-09-10/
ATTACH;FMTTYPE=image/png:https://fbctampa.org/wp-content/uploads/2025/02/mens-brunch.png
END:VEVENT
BEGIN:VEVENT
DTSTART;TZID=America/New_York:20261008T080000
DTEND;TZID=America/New_York:20261008T210000
DTSTAMP:20260423T152858
CREATED:20260209T190226Z
LAST-MODIFIED:20260209T190226Z
UID:10006436-1791446400-1791493200@fbctampa.org
SUMMARY:Men's Prayer Breakfast
DESCRIPTION:The Men’s Prayer Breakfast meets at Pach’s Place in the Tahitian Inn\, on the second Thursday of each month for fellowship\, prayer\, and encouragement. Join us as we gather to lift each other up in faith over a hearty breakfast. \n601 South Dale Mabry Hwy Tampa 33609
URL:https://fbctampa.org/event/mens-prayer-breakfast-3-2-2-3/2026-10-08/
ATTACH;FMTTYPE=image/png:https://fbctampa.org/wp-content/uploads/2025/02/mens-brunch.png
END:VEVENT
BEGIN:VEVENT
DTSTART;TZID=America/New_York:20261112T080000
DTEND;TZID=America/New_York:20261112T210000
DTSTAMP:20260423T152858
CREATED:20260209T190226Z
LAST-MODIFIED:20260209T190226Z
UID:10006437-1794470400-1794517200@fbctampa.org
SUMMARY:Men's Prayer Breakfast
DESCRIPTION:The Men’s Prayer Breakfast meets at Pach’s Place in the Tahitian Inn\, on the second Thursday of each month for fellowship\, prayer\, and encouragement. Join us as we gather to lift each other up in faith over a hearty breakfast. \n601 South Dale Mabry Hwy Tampa 33609
URL:https://fbctampa.org/event/mens-prayer-breakfast-3-2-2-3/2026-11-12/
ATTACH;FMTTYPE=image/png:https://fbctampa.org/wp-content/uploads/2025/02/mens-brunch.png
END:VEVENT
BEGIN:VEVENT
DTSTART;TZID=America/New_York:20261210T080000
DTEND;TZID=America/New_York:20261210T210000
DTSTAMP:20260423T152858
CREATED:20260209T190226Z
LAST-MODIFIED:20260209T190226Z
UID:10006438-1796889600-1796936400@fbctampa.org
SUMMARY:Men's Prayer Breakfast
DESCRIPTION:The Men’s Prayer Breakfast meets at Pach’s Place in the Tahitian Inn\, on the second Thursday of each month for fellowship\, prayer\, and encouragement. Join us as we gather to lift each other up in faith over a hearty breakfast. \n601 South Dale Mabry Hwy Tampa 33609
URL:https://fbctampa.org/event/mens-prayer-breakfast-3-2-2-3/2026-12-10/
ATTACH;FMTTYPE=image/png:https://fbctampa.org/wp-content/uploads/2025/02/mens-brunch.png
END:VEVENT
BEGIN:VEVENT
DTSTART;TZID=America/New_York:20270114T080000
DTEND;TZID=America/New_York:20270114T210000
DTSTAMP:20260423T152858
CREATED:20260209T190226Z
LAST-MODIFIED:20260209T190226Z
UID:10006439-1799913600-1799960400@fbctampa.org
SUMMARY:Men's Prayer Breakfast
DESCRIPTION:The Men’s Prayer Breakfast meets at Pach’s Place in the Tahitian Inn\, on the second Thursday of each month for fellowship\, prayer\, and encouragement. Join us as we gather to lift each other up in faith over a hearty breakfast. \n601 South Dale Mabry Hwy Tampa 33609
URL:https://fbctampa.org/event/mens-prayer-breakfast-3-2-2-3/2027-01-14/
ATTACH;FMTTYPE=image/png:https://fbctampa.org/wp-content/uploads/2025/02/mens-brunch.png
END:VEVENT
BEGIN:VEVENT
DTSTART;TZID=America/New_York:20270211T080000
DTEND;TZID=America/New_York:20270211T210000
DTSTAMP:20260423T152858
CREATED:20260209T190226Z
LAST-MODIFIED:20260209T190226Z
UID:10006440-1802332800-1802379600@fbctampa.org
SUMMARY:Men's Prayer Breakfast
DESCRIPTION:The Men’s Prayer Breakfast meets at Pach’s Place in the Tahitian Inn\, on the second Thursday of each month for fellowship\, prayer\, and encouragement. Join us as we gather to lift each other up in faith over a hearty breakfast. \n601 South Dale Mabry Hwy Tampa 33609
URL:https://fbctampa.org/event/mens-prayer-breakfast-3-2-2-3/2027-02-11/
ATTACH;FMTTYPE=image/png:https://fbctampa.org/wp-content/uploads/2025/02/mens-brunch.png
END:VEVENT
BEGIN:VEVENT
DTSTART;TZID=America/New_York:20270311T080000
DTEND;TZID=America/New_York:20270311T210000
DTSTAMP:20260423T152858
CREATED:20260209T190226Z
LAST-MODIFIED:20260209T190226Z
UID:10006441-1804752000-1804798800@fbctampa.org
SUMMARY:Men's Prayer Breakfast
DESCRIPTION:The Men’s Prayer Breakfast meets at Pach’s Place in the Tahitian Inn\, on the second Thursday of each month for fellowship\, prayer\, and encouragement. Join us as we gather to lift each other up in faith over a hearty breakfast. \n601 South Dale Mabry Hwy Tampa 33609
URL:https://fbctampa.org/event/mens-prayer-breakfast-3-2-2-3/2027-03-11/
ATTACH;FMTTYPE=image/png:https://fbctampa.org/wp-content/uploads/2025/02/mens-brunch.png
END:VEVENT
BEGIN:VEVENT
DTSTART;TZID=America/New_York:20270408T080000
DTEND;TZID=America/New_York:20270408T210000
DTSTAMP:20260423T152858
CREATED:20260209T190226Z
LAST-MODIFIED:20260209T190226Z
UID:10006442-1807171200-1807218000@fbctampa.org
SUMMARY:Men's Prayer Breakfast
DESCRIPTION:The Men’s Prayer Breakfast meets at Pach’s Place in the Tahitian Inn\, on the second Thursday of each month for fellowship\, prayer\, and encouragement. Join us as we gather to lift each other up in faith over a hearty breakfast. \n601 South Dale Mabry Hwy Tampa 33609
URL:https://fbctampa.org/event/mens-prayer-breakfast-3-2-2-3/2027-04-08/
ATTACH;FMTTYPE=image/png:https://fbctampa.org/wp-content/uploads/2025/02/mens-brunch.png
END:VEVENT
BEGIN:VEVENT
DTSTART;TZID=America/New_York:20270513T080000
DTEND;TZID=America/New_York:20270513T210000
DTSTAMP:20260423T152858
CREATED:20260209T190226Z
LAST-MODIFIED:20260209T190226Z
UID:10006443-1810195200-1810242000@fbctampa.org
SUMMARY:Men's Prayer Breakfast
DESCRIPTION:The Men’s Prayer Breakfast meets at Pach’s Place in the Tahitian Inn\, on the second Thursday of each month for fellowship\, prayer\, and encouragement. Join us as we gather to lift each other up in faith over a hearty breakfast. \n601 South Dale Mabry Hwy Tampa 33609
URL:https://fbctampa.org/event/mens-prayer-breakfast-3-2-2-3/2027-05-13/
ATTACH;FMTTYPE=image/png:https://fbctampa.org/wp-content/uploads/2025/02/mens-brunch.png
END:VEVENT
BEGIN:VEVENT
DTSTART;TZID=America/New_York:20270610T080000
DTEND;TZID=America/New_York:20270610T210000
DTSTAMP:20260423T152858
CREATED:20260209T190226Z
LAST-MODIFIED:20260209T190226Z
UID:10006444-1812614400-1812661200@fbctampa.org
SUMMARY:Men's Prayer Breakfast
DESCRIPTION:The Men’s Prayer Breakfast meets at Pach’s Place in the Tahitian Inn\, on the second Thursday of each month for fellowship\, prayer\, and encouragement. Join us as we gather to lift each other up in faith over a hearty breakfast. \n601 South Dale Mabry Hwy Tampa 33609
URL:https://fbctampa.org/event/mens-prayer-breakfast-3-2-2-3/2027-06-10/
ATTACH;FMTTYPE=image/png:https://fbctampa.org/wp-content/uploads/2025/02/mens-brunch.png
END:VEVENT
BEGIN:VEVENT
DTSTART;TZID=America/New_York:20270708T080000
DTEND;TZID=America/New_York:20270708T210000
DTSTAMP:20260423T152858
CREATED:20260209T190226Z
LAST-MODIFIED:20260209T190226Z
UID:10006445-1815033600-1815080400@fbctampa.org
SUMMARY:Men's Prayer Breakfast
DESCRIPTION:The Men’s Prayer Breakfast meets at Pach’s Place in the Tahitian Inn\, on the second Thursday of each month for fellowship\, prayer\, and encouragement. Join us as we gather to lift each other up in faith over a hearty breakfast. \n601 South Dale Mabry Hwy Tampa 33609
URL:https://fbctampa.org/event/mens-prayer-breakfast-3-2-2-3/2027-07-08/
ATTACH;FMTTYPE=image/png:https://fbctampa.org/wp-content/uploads/2025/02/mens-brunch.png
END:VEVENT
BEGIN:VEVENT
DTSTART;TZID=America/New_York:20270812T080000
DTEND;TZID=America/New_York:20270812T210000
DTSTAMP:20260423T152858
CREATED:20260209T190226Z
LAST-MODIFIED:20260209T190226Z
UID:10006446-1818057600-1818104400@fbctampa.org
SUMMARY:Men's Prayer Breakfast
DESCRIPTION:The Men’s Prayer Breakfast meets at Pach’s Place in the Tahitian Inn\, on the second Thursday of each month for fellowship\, prayer\, and encouragement. Join us as we gather to lift each other up in faith over a hearty breakfast. \n601 South Dale Mabry Hwy Tampa 33609
URL:https://fbctampa.org/event/mens-prayer-breakfast-3-2-2-3/2027-08-12/
ATTACH;FMTTYPE=image/png:https://fbctampa.org/wp-content/uploads/2025/02/mens-brunch.png
END:VEVENT
BEGIN:VEVENT
DTSTART;TZID=America/New_York:20270909T080000
DTEND;TZID=America/New_York:20270909T210000
DTSTAMP:20260423T152858
CREATED:20260209T190226Z
LAST-MODIFIED:20260209T190226Z
UID:10006447-1820476800-1820523600@fbctampa.org
SUMMARY:Men's Prayer Breakfast
DESCRIPTION:The Men’s Prayer Breakfast meets at Pach’s Place in the Tahitian Inn\, on the second Thursday of each month for fellowship\, prayer\, and encouragement. Join us as we gather to lift each other up in faith over a hearty breakfast. \n601 South Dale Mabry Hwy Tampa 33609
URL:https://fbctampa.org/event/mens-prayer-breakfast-3-2-2-3/2027-09-09/
ATTACH;FMTTYPE=image/png:https://fbctampa.org/wp-content/uploads/2025/02/mens-brunch.png
END:VEVENT
BEGIN:VEVENT
DTSTART;TZID=America/New_York:20271014T080000
DTEND;TZID=America/New_York:20271014T210000
DTSTAMP:20260423T152858
CREATED:20260209T190226Z
LAST-MODIFIED:20260209T190226Z
UID:10006448-1823500800-1823547600@fbctampa.org
SUMMARY:Men's Prayer Breakfast
DESCRIPTION:The Men’s Prayer Breakfast meets at Pach’s Place in the Tahitian Inn\, on the second Thursday of each month for fellowship\, prayer\, and encouragement. Join us as we gather to lift each other up in faith over a hearty breakfast. \n601 South Dale Mabry Hwy Tampa 33609
URL:https://fbctampa.org/event/mens-prayer-breakfast-3-2-2-3/2027-10-14/
ATTACH;FMTTYPE=image/png:https://fbctampa.org/wp-content/uploads/2025/02/mens-brunch.png
END:VEVENT
BEGIN:VEVENT
DTSTART;TZID=America/New_York:20271111T080000
DTEND;TZID=America/New_York:20271111T210000
DTSTAMP:20260423T152858
CREATED:20260209T190226Z
LAST-MODIFIED:20260209T190226Z
UID:10006449-1825920000-1825966800@fbctampa.org
SUMMARY:Men's Prayer Breakfast
DESCRIPTION:The Men’s Prayer Breakfast meets at Pach’s Place in the Tahitian Inn\, on the second Thursday of each month for fellowship\, prayer\, and encouragement. Join us as we gather to lift each other up in faith over a hearty breakfast. \n601 South Dale Mabry Hwy Tampa 33609
URL:https://fbctampa.org/event/mens-prayer-breakfast-3-2-2-3/2027-11-11/
ATTACH;FMTTYPE=image/png:https://fbctampa.org/wp-content/uploads/2025/02/mens-brunch.png
END:VEVENT
BEGIN:VEVENT
DTSTART;TZID=America/New_York:20271209T080000
DTEND;TZID=America/New_York:20271209T210000
DTSTAMP:20260423T152858
CREATED:20260209T190226Z
LAST-MODIFIED:20260209T190226Z
UID:10006450-1828339200-1828386000@fbctampa.org
SUMMARY:Men's Prayer Breakfast
DESCRIPTION:The Men’s Prayer Breakfast meets at Pach’s Place in the Tahitian Inn\, on the second Thursday of each month for fellowship\, prayer\, and encouragement. Join us as we gather to lift each other up in faith over a hearty breakfast. \n601 South Dale Mabry Hwy Tampa 33609
URL:https://fbctampa.org/event/mens-prayer-breakfast-3-2-2-3/2027-12-09/
ATTACH;FMTTYPE=image/png:https://fbctampa.org/wp-content/uploads/2025/02/mens-brunch.png
END:VEVENT
BEGIN:VEVENT
DTSTART;TZID=America/New_York:20280113T080000
DTEND;TZID=America/New_York:20280113T210000
DTSTAMP:20260423T152858
CREATED:20260209T190226Z
LAST-MODIFIED:20260209T190226Z
UID:10006451-1831363200-1831410000@fbctampa.org
SUMMARY:Men's Prayer Breakfast
DESCRIPTION:The Men’s Prayer Breakfast meets at Pach’s Place in the Tahitian Inn\, on the second Thursday of each month for fellowship\, prayer\, and encouragement. Join us as we gather to lift each other up in faith over a hearty breakfast. \n601 South Dale Mabry Hwy Tampa 33609
URL:https://fbctampa.org/event/mens-prayer-breakfast-3-2-2-3/2028-01-13/
ATTACH;FMTTYPE=image/png:https://fbctampa.org/wp-content/uploads/2025/02/mens-brunch.png
END:VEVENT
BEGIN:VEVENT
DTSTART;TZID=America/New_York:20280210T080000
DTEND;TZID=America/New_York:20280210T210000
DTSTAMP:20260423T152858
CREATED:20260209T190226Z
LAST-MODIFIED:20260209T190226Z
UID:10006452-1833782400-1833829200@fbctampa.org
SUMMARY:Men's Prayer Breakfast
DESCRIPTION:The Men’s Prayer Breakfast meets at Pach’s Place in the Tahitian Inn\, on the second Thursday of each month for fellowship\, prayer\, and encouragement. Join us as we gather to lift each other up in faith over a hearty breakfast. \n601 South Dale Mabry Hwy Tampa 33609
URL:https://fbctampa.org/event/mens-prayer-breakfast-3-2-2-3/2028-02-10/
ATTACH;FMTTYPE=image/png:https://fbctampa.org/wp-content/uploads/2025/02/mens-brunch.png
END:VEVENT
BEGIN:VEVENT
DTSTART;TZID=America/New_York:20280309T080000
DTEND;TZID=America/New_York:20280309T210000
DTSTAMP:20260423T152858
CREATED:20260209T190226Z
LAST-MODIFIED:20260209T190226Z
UID:10006453-1836201600-1836248400@fbctampa.org
SUMMARY:Men's Prayer Breakfast
DESCRIPTION:The Men’s Prayer Breakfast meets at Pach’s Place in the Tahitian Inn\, on the second Thursday of each month for fellowship\, prayer\, and encouragement. Join us as we gather to lift each other up in faith over a hearty breakfast. \n601 South Dale Mabry Hwy Tampa 33609
URL:https://fbctampa.org/event/mens-prayer-breakfast-3-2-2-3/2028-03-09/
ATTACH;FMTTYPE=image/png:https://fbctampa.org/wp-content/uploads/2025/02/mens-brunch.png
END:VEVENT
BEGIN:VEVENT
DTSTART;TZID=America/New_York:20280413T080000
DTEND;TZID=America/New_York:20280413T210000
DTSTAMP:20260423T152858
CREATED:20260209T190226Z
LAST-MODIFIED:20260209T190226Z
UID:10006454-1839225600-1839272400@fbctampa.org
SUMMARY:Men's Prayer Breakfast
DESCRIPTION:The Men’s Prayer Breakfast meets at Pach’s Place in the Tahitian Inn\, on the second Thursday of each month for fellowship\, prayer\, and encouragement. Join us as we gather to lift each other up in faith over a hearty breakfast. \n601 South Dale Mabry Hwy Tampa 33609
URL:https://fbctampa.org/event/mens-prayer-breakfast-3-2-2-3/2028-04-13/
ATTACH;FMTTYPE=image/png:https://fbctampa.org/wp-content/uploads/2025/02/mens-brunch.png
END:VEVENT
BEGIN:VEVENT
DTSTART;TZID=America/New_York:20280511T080000
DTEND;TZID=America/New_York:20280511T210000
DTSTAMP:20260423T152858
CREATED:20260209T190226Z
LAST-MODIFIED:20260209T190226Z
UID:10006455-1841644800-1841691600@fbctampa.org
SUMMARY:Men's Prayer Breakfast
DESCRIPTION:The Men’s Prayer Breakfast meets at Pach’s Place in the Tahitian Inn\, on the second Thursday of each month for fellowship\, prayer\, and encouragement. Join us as we gather to lift each other up in faith over a hearty breakfast. \n601 South Dale Mabry Hwy Tampa 33609
URL:https://fbctampa.org/event/mens-prayer-breakfast-3-2-2-3/2028-05-11/
ATTACH;FMTTYPE=image/png:https://fbctampa.org/wp-content/uploads/2025/02/mens-brunch.png
END:VEVENT
BEGIN:VEVENT
DTSTART;TZID=America/New_York:20280608T080000
DTEND;TZID=America/New_York:20280608T210000
DTSTAMP:20260423T152858
CREATED:20260209T190226Z
LAST-MODIFIED:20260209T190226Z
UID:10006456-1844064000-1844110800@fbctampa.org
SUMMARY:Men's Prayer Breakfast
DESCRIPTION:The Men’s Prayer Breakfast meets at Pach’s Place in the Tahitian Inn\, on the second Thursday of each month for fellowship\, prayer\, and encouragement. Join us as we gather to lift each other up in faith over a hearty breakfast. \n601 South Dale Mabry Hwy Tampa 33609
URL:https://fbctampa.org/event/mens-prayer-breakfast-3-2-2-3/2028-06-08/
ATTACH;FMTTYPE=image/png:https://fbctampa.org/wp-content/uploads/2025/02/mens-brunch.png
END:VEVENT
BEGIN:VEVENT
DTSTART;TZID=America/New_York:20280713T080000
DTEND;TZID=America/New_York:20280713T210000
DTSTAMP:20260423T152858
CREATED:20260209T190226Z
LAST-MODIFIED:20260209T190226Z
UID:10006457-1847088000-1847134800@fbctampa.org
SUMMARY:Men's Prayer Breakfast
DESCRIPTION:The Men’s Prayer Breakfast meets at Pach’s Place in the Tahitian Inn\, on the second Thursday of each month for fellowship\, prayer\, and encouragement. Join us as we gather to lift each other up in faith over a hearty breakfast. \n601 South Dale Mabry Hwy Tampa 33609
URL:https://fbctampa.org/event/mens-prayer-breakfast-3-2-2-3/2028-07-13/
ATTACH;FMTTYPE=image/png:https://fbctampa.org/wp-content/uploads/2025/02/mens-brunch.png
END:VEVENT
BEGIN:VEVENT
DTSTART;TZID=America/New_York:20280810T080000
DTEND;TZID=America/New_York:20280810T210000
DTSTAMP:20260423T152858
CREATED:20260209T190226Z
LAST-MODIFIED:20260209T190226Z
UID:10006458-1849507200-1849554000@fbctampa.org
SUMMARY:Men's Prayer Breakfast
DESCRIPTION:The Men’s Prayer Breakfast meets at Pach’s Place in the Tahitian Inn\, on the second Thursday of each month for fellowship\, prayer\, and encouragement. Join us as we gather to lift each other up in faith over a hearty breakfast. \n601 South Dale Mabry Hwy Tampa 33609
URL:https://fbctampa.org/event/mens-prayer-breakfast-3-2-2-3/2028-08-10/
ATTACH;FMTTYPE=image/png:https://fbctampa.org/wp-content/uploads/2025/02/mens-brunch.png
END:VEVENT
BEGIN:VEVENT
DTSTART;TZID=America/New_York:20280914T080000
DTEND;TZID=America/New_York:20280914T210000
DTSTAMP:20260423T152858
CREATED:20260209T190226Z
LAST-MODIFIED:20260209T190226Z
UID:10006459-1852531200-1852578000@fbctampa.org
SUMMARY:Men's Prayer Breakfast
DESCRIPTION:The Men’s Prayer Breakfast meets at Pach’s Place in the Tahitian Inn\, on the second Thursday of each month for fellowship\, prayer\, and encouragement. Join us as we gather to lift each other up in faith over a hearty breakfast. \n601 South Dale Mabry Hwy Tampa 33609
URL:https://fbctampa.org/event/mens-prayer-breakfast-3-2-2-3/2028-09-14/
ATTACH;FMTTYPE=image/png:https://fbctampa.org/wp-content/uploads/2025/02/mens-brunch.png
END:VEVENT
BEGIN:VEVENT
DTSTART;TZID=America/New_York:20281012T080000
DTEND;TZID=America/New_York:20281012T210000
DTSTAMP:20260423T152858
CREATED:20260209T190226Z
LAST-MODIFIED:20260209T190226Z
UID:10006460-1854950400-1854997200@fbctampa.org
SUMMARY:Men's Prayer Breakfast
DESCRIPTION:The Men’s Prayer Breakfast meets at Pach’s Place in the Tahitian Inn\, on the second Thursday of each month for fellowship\, prayer\, and encouragement. Join us as we gather to lift each other up in faith over a hearty breakfast. \n601 South Dale Mabry Hwy Tampa 33609
URL:https://fbctampa.org/event/mens-prayer-breakfast-3-2-2-3/2028-10-12/
ATTACH;FMTTYPE=image/png:https://fbctampa.org/wp-content/uploads/2025/02/mens-brunch.png
END:VEVENT
END:VCALENDAR