BEGIN:VCALENDAR
VERSION:2.0
PRODID:-//FBC Tampa - ECPv6.15.11//NONSGML v1.0//EN
CALSCALE:GREGORIAN
METHOD:PUBLISH
X-WR-CALNAME:FBC Tampa
X-ORIGINAL-URL:https://fbctampa.org
X-WR-CALDESC:Events for FBC Tampa
REFRESH-INTERVAL;VALUE=DURATION:PT1H
X-Robots-Tag:noindex
X-PUBLISHED-TTL:PT1H
BEGIN:VTIMEZONE
TZID:America/New_York
BEGIN:DAYLIGHT
TZOFFSETFROM:-0500
TZOFFSETTO:-0400
TZNAME:EDT
DTSTART:20250309T070000
END:DAYLIGHT
BEGIN:STANDARD
TZOFFSETFROM:-0400
TZOFFSETTO:-0500
TZNAME:EST
DTSTART:20251102T060000
END:STANDARD
BEGIN:DAYLIGHT
TZOFFSETFROM:-0500
TZOFFSETTO:-0400
TZNAME:EDT
DTSTART:20260308T070000
END:DAYLIGHT
BEGIN:STANDARD
TZOFFSETFROM:-0400
TZOFFSETTO:-0500
TZNAME:EST
DTSTART:20261101T060000
END:STANDARD
BEGIN:DAYLIGHT
TZOFFSETFROM:-0500
TZOFFSETTO:-0400
TZNAME:EDT
DTSTART:20270314T070000
END:DAYLIGHT
BEGIN:STANDARD
TZOFFSETFROM:-0400
TZOFFSETTO:-0500
TZNAME:EST
DTSTART:20271107T060000
END:STANDARD
END:VTIMEZONE
BEGIN:VEVENT
DTSTART;TZID=America/New_York:20260429T170000
DTEND;TZID=America/New_York:20260429T181500
DTSTAMP:20260423T152809
CREATED:20251211T160222Z
LAST-MODIFIED:20251211T160831Z
UID:10012961-1777482000-1777486500@fbctampa.org
SUMMARY:Wednesday Night Supper
DESCRIPTION:We offer delicious meals at an affordable price every Wednesday night\, making it easy for individuals and families to join our Midweek Ministries. This includes Discipleship Classes\, AWANA for children\, N1NE youth ministry\, and choir practice later in the evening. Our Midweek Ministries are a great opportunity to nourish both body and spirit!
URL:https://fbctampa.org/event/wednesday-night-supper-2-2/2026-04-29/
LOCATION:Dining Room\, 302 W Kennedy Blvd\, Tampa\, 33606\, United States
ATTACH;FMTTYPE=image/jpeg:https://fbctampa.org/wp-content/uploads/2025/02/dinner-fellowship-header.jpg
END:VEVENT
BEGIN:VEVENT
DTSTART;TZID=America/New_York:20260506T170000
DTEND;TZID=America/New_York:20260506T181500
DTSTAMP:20260423T152809
CREATED:20251211T160222Z
LAST-MODIFIED:20251211T160831Z
UID:10012962-1778086800-1778091300@fbctampa.org
SUMMARY:Wednesday Night Supper
DESCRIPTION:We offer delicious meals at an affordable price every Wednesday night\, making it easy for individuals and families to join our Midweek Ministries. This includes Discipleship Classes\, AWANA for children\, N1NE youth ministry\, and choir practice later in the evening. Our Midweek Ministries are a great opportunity to nourish both body and spirit!
URL:https://fbctampa.org/event/wednesday-night-supper-2-2/2026-05-06/
LOCATION:Dining Room\, 302 W Kennedy Blvd\, Tampa\, 33606\, United States
ATTACH;FMTTYPE=image/jpeg:https://fbctampa.org/wp-content/uploads/2025/02/dinner-fellowship-header.jpg
END:VEVENT
BEGIN:VEVENT
DTSTART;TZID=America/New_York:20260513T170000
DTEND;TZID=America/New_York:20260513T181500
DTSTAMP:20260423T152809
CREATED:20251211T160222Z
LAST-MODIFIED:20251211T160831Z
UID:10012963-1778691600-1778696100@fbctampa.org
SUMMARY:Wednesday Night Supper
DESCRIPTION:We offer delicious meals at an affordable price every Wednesday night\, making it easy for individuals and families to join our Midweek Ministries. This includes Discipleship Classes\, AWANA for children\, N1NE youth ministry\, and choir practice later in the evening. Our Midweek Ministries are a great opportunity to nourish both body and spirit!
URL:https://fbctampa.org/event/wednesday-night-supper-2-2/2026-05-13/
LOCATION:Dining Room\, 302 W Kennedy Blvd\, Tampa\, 33606\, United States
ATTACH;FMTTYPE=image/jpeg:https://fbctampa.org/wp-content/uploads/2025/02/dinner-fellowship-header.jpg
END:VEVENT
BEGIN:VEVENT
DTSTART;TZID=America/New_York:20260520T170000
DTEND;TZID=America/New_York:20260520T181500
DTSTAMP:20260423T152809
CREATED:20251211T160222Z
LAST-MODIFIED:20251211T160831Z
UID:10012964-1779296400-1779300900@fbctampa.org
SUMMARY:Wednesday Night Supper
DESCRIPTION:We offer delicious meals at an affordable price every Wednesday night\, making it easy for individuals and families to join our Midweek Ministries. This includes Discipleship Classes\, AWANA for children\, N1NE youth ministry\, and choir practice later in the evening. Our Midweek Ministries are a great opportunity to nourish both body and spirit!
URL:https://fbctampa.org/event/wednesday-night-supper-2-2/2026-05-20/
LOCATION:Dining Room\, 302 W Kennedy Blvd\, Tampa\, 33606\, United States
ATTACH;FMTTYPE=image/jpeg:https://fbctampa.org/wp-content/uploads/2025/02/dinner-fellowship-header.jpg
END:VEVENT
BEGIN:VEVENT
DTSTART;TZID=America/New_York:20260527T170000
DTEND;TZID=America/New_York:20260527T181500
DTSTAMP:20260423T152809
CREATED:20251211T160222Z
LAST-MODIFIED:20251211T160831Z
UID:10012965-1779901200-1779905700@fbctampa.org
SUMMARY:Wednesday Night Supper
DESCRIPTION:We offer delicious meals at an affordable price every Wednesday night\, making it easy for individuals and families to join our Midweek Ministries. This includes Discipleship Classes\, AWANA for children\, N1NE youth ministry\, and choir practice later in the evening. Our Midweek Ministries are a great opportunity to nourish both body and spirit!
URL:https://fbctampa.org/event/wednesday-night-supper-2-2/2026-05-27/
LOCATION:Dining Room\, 302 W Kennedy Blvd\, Tampa\, 33606\, United States
ATTACH;FMTTYPE=image/jpeg:https://fbctampa.org/wp-content/uploads/2025/02/dinner-fellowship-header.jpg
END:VEVENT
END:VCALENDAR