BEGIN:VCALENDAR
VERSION:2.0
PRODID:-//FBC Tampa - ECPv6.15.11//NONSGML v1.0//EN
CALSCALE:GREGORIAN
METHOD:PUBLISH
X-ORIGINAL-URL:https://fbctampa.org
X-WR-CALDESC:Events for FBC Tampa
REFRESH-INTERVAL;VALUE=DURATION:PT1H
X-Robots-Tag:noindex
X-PUBLISHED-TTL:PT1H
BEGIN:VTIMEZONE
TZID:America/New_York
BEGIN:DAYLIGHT
TZOFFSETFROM:-0500
TZOFFSETTO:-0400
TZNAME:EDT
DTSTART:20240310T070000
END:DAYLIGHT
BEGIN:STANDARD
TZOFFSETFROM:-0400
TZOFFSETTO:-0500
TZNAME:EST
DTSTART:20241103T060000
END:STANDARD
BEGIN:DAYLIGHT
TZOFFSETFROM:-0500
TZOFFSETTO:-0400
TZNAME:EDT
DTSTART:20250309T070000
END:DAYLIGHT
BEGIN:STANDARD
TZOFFSETFROM:-0400
TZOFFSETTO:-0500
TZNAME:EST
DTSTART:20251102T060000
END:STANDARD
BEGIN:DAYLIGHT
TZOFFSETFROM:-0500
TZOFFSETTO:-0400
TZNAME:EDT
DTSTART:20260308T070000
END:DAYLIGHT
BEGIN:STANDARD
TZOFFSETFROM:-0400
TZOFFSETTO:-0500
TZNAME:EST
DTSTART:20261101T060000
END:STANDARD
END:VTIMEZONE
BEGIN:VEVENT
DTSTART;TZID=America/New_York:20251203T181500
DTEND;TZID=America/New_York:20251203T193000
DTSTAMP:20260423T193429
CREATED:20260309T152517Z
LAST-MODIFIED:20260309T152517Z
UID:10014935-1764785700-1764790200@fbctampa.org
SUMMARY:Awana
DESCRIPTION:AWANA is a fun and engaging discipleship program for kids that helps them grow in their faith through Bible memorization\, interactive lessons\, and exciting games. At our church\, AWANA meets on Wednesday nights at 6:15 PM\, providing a structured yet energetic environment where children can learn about God’s Word\, build friendships\, and develop a strong foundation in Christ. Our program is designed to equip kids with biblical knowledge while encouraging them to live out their faith in everyday life.
URL:https://fbctampa.org/event/awana-3/2025-12-03/
LOCATION:Gymnasium / Elementary Area / Kid Zone – All PreK Area / Suite 300\, 302 W Kennedy Blvd\, Tampa\, FL\, 33606\, United States
ATTACH;FMTTYPE=image/jpeg:https://fbctampa.org/wp-content/uploads/2026/02/Sermon-Slide-Announcement-2.jpg
END:VEVENT
BEGIN:VEVENT
DTSTART;TZID=America/New_York:20251205T180000
DTEND;TZID=America/New_York:20251205T190000
DTSTAMP:20260423T193430
CREATED:20251028T173529Z
LAST-MODIFIED:20251117T160129Z
UID:10009940-1764957600-1764961200@fbctampa.org
SUMMARY:Women's Cookie Exchange
DESCRIPTION:🍪 Women’s Cookie Exchange! 🎄 \nLadies\, you’re invited to a festive evening of fun\, fellowship\, and sweet treats! Join us at First Baptist Church Tampa (302 W Kennedy Blvd\, Tampa\, FL 33606) on Friday\, December 5th at 6:00 PM. \nBring 2–3 dozen of your favorite cookies to share and a container to take home an assortment of everyone’s delicious creations. \n✨ Share your recipe!\nEmail your cookie or dessert recipe to Ann Nicholson at oufnicholson5@gmail.com so she can create beautiful recipe cards for everyone to enjoy.  * Please annotate if the recipe is gluten-free and or nut free * \nInvite your friends— the more\, the merrier! \nWe can’t wait to enjoy cookies\, conversation\, and Christmas cheer together!
URL:https://fbctampa.org/event/womens-cookie-exchange/
LOCATION:4th Floor Loft\, 302 W Kennedy Blvd\, Tampa\, FL\, 33606\, United States
ATTACH;FMTTYPE=image/png:https://fbctampa.org/wp-content/uploads/2025/10/Untitled-design-16.png
END:VEVENT
BEGIN:VEVENT
DTSTART;TZID=America/New_York:20251207T093000
DTEND;TZID=America/New_York:20251207T103000
DTSTAMP:20260423T193430
CREATED:20250211T024320Z
LAST-MODIFIED:20250907T031407Z
UID:10000533-1765099800-1765103400@fbctampa.org
SUMMARY:Core Groups (Sunday School)
DESCRIPTION:Core Groups are where faith and community come together. These small gatherings provide a place to study God’s Word\, build relationships\, and grow spiritually. Whether you’re new to church or have been following Christ for years\, there’s a group for you!
URL:https://fbctampa.org/event/core-groups-sunday-school/2025-12-07/
ATTACH;FMTTYPE=image/jpeg:https://fbctampa.org/wp-content/uploads/2025/02/sunday-core-header.jpg
END:VEVENT
BEGIN:VEVENT
DTSTART;TZID=America/New_York:20251207T174500
DTEND;TZID=America/New_York:20251207T210000
DTSTAMP:20260423T193430
CREATED:20251117T161146Z
LAST-MODIFIED:20251208T193647Z
UID:10012391-1765129500-1765141200@fbctampa.org
SUMMARY:Christmas Night of Worship
DESCRIPTION:You are warmly invited to a beautiful and meaningful celebration of The Nativity Story! Join us for our Christmas Night of Worship\, an evening dedicated to celebrating the birth of our Savior and the dawn of our redemption. \nDetails at a Glance\n\n\nWhen: Sunday\, December 7th \n\n\nWhere: First Baptist Church of Tampa (302 W Kennedy Blvd\, Tampa\, FL 33606) \n\n\nEvening Schedule\n\n\n5:45 PM: Pre-Show Begins! You won’t want to miss this! \n\n\n6:00 PM: Worship Service Begins \n\n\nImmediately Following: Joyful Reception \n\n\nPlease join us for this delightful night of worship. Bring your friends and family as we celebrate the true meaning of Christmas together!
URL:https://fbctampa.org/event/christmas-night-of-worship/
LOCATION:Sanctuary\, 302 W Kennedy Blvd\, Tampa\, FL\, 33606\, United States
ATTACH;FMTTYPE=image/png:https://fbctampa.org/wp-content/uploads/2025/11/Christmas-Night-of-Worship.png
END:VEVENT
BEGIN:VEVENT
DTSTART;TZID=America/New_York:20251209T103000
DTEND;TZID=America/New_York:20251209T113000
DTSTAMP:20260423T193430
CREATED:20251103T164913Z
LAST-MODIFIED:20251103T164913Z
UID:10010585-1765276200-1765279800@fbctampa.org
SUMMARY:Women On Mission
DESCRIPTION:The Women on Mission meet to focus on missions\, outreach\, and service opportunities. Join us as we come together to pray\, plan\, and support local and global mission efforts.
URL:https://fbctampa.org/event/women-on-mission-3-2-2/2025-12-09/
LOCATION:4th Floor Loft\, 302 W Kennedy Blvd\, Tampa\, FL\, 33606\, United States
ATTACH;FMTTYPE=image/png:https://fbctampa.org/wp-content/uploads/2025/02/NewWOMSlide25.png
END:VEVENT
BEGIN:VEVENT
DTSTART;TZID=America/New_York:20251210T181500
DTEND;TZID=America/New_York:20251210T193000
DTSTAMP:20260423T193430
CREATED:20260309T152517Z
LAST-MODIFIED:20260309T152517Z
UID:10014936-1765390500-1765395000@fbctampa.org
SUMMARY:Awana
DESCRIPTION:AWANA is a fun and engaging discipleship program for kids that helps them grow in their faith through Bible memorization\, interactive lessons\, and exciting games. At our church\, AWANA meets on Wednesday nights at 6:15 PM\, providing a structured yet energetic environment where children can learn about God’s Word\, build friendships\, and develop a strong foundation in Christ. Our program is designed to equip kids with biblical knowledge while encouraging them to live out their faith in everyday life.
URL:https://fbctampa.org/event/awana-3/2025-12-10/
LOCATION:Gymnasium / Elementary Area / Kid Zone – All PreK Area / Suite 300\, 302 W Kennedy Blvd\, Tampa\, FL\, 33606\, United States
ATTACH;FMTTYPE=image/jpeg:https://fbctampa.org/wp-content/uploads/2026/02/Sermon-Slide-Announcement-2.jpg
END:VEVENT
BEGIN:VEVENT
DTSTART;TZID=America/New_York:20251214T093000
DTEND;TZID=America/New_York:20251214T103000
DTSTAMP:20260423T193430
CREATED:20250211T024320Z
LAST-MODIFIED:20250907T031407Z
UID:10000534-1765704600-1765708200@fbctampa.org
SUMMARY:Core Groups (Sunday School)
DESCRIPTION:Core Groups are where faith and community come together. These small gatherings provide a place to study God’s Word\, build relationships\, and grow spiritually. Whether you’re new to church or have been following Christ for years\, there’s a group for you!
URL:https://fbctampa.org/event/core-groups-sunday-school/2025-12-14/
ATTACH;FMTTYPE=image/jpeg:https://fbctampa.org/wp-content/uploads/2025/02/sunday-core-header.jpg
END:VEVENT
BEGIN:VEVENT
DTSTART;TZID=America/New_York:20251214T160000
DTEND;TZID=America/New_York:20251214T210000
DTSTAMP:20260423T193430
CREATED:20251119T213110Z
LAST-MODIFIED:20251215T155827Z
UID:10012392-1765728000-1765746000@fbctampa.org
SUMMARY:Christmas Caroling and Chili Dinner
DESCRIPTION:You’re invited to an evening of Christmas caroling\, fellowship\, and a hearty chili dinner!Join us at First Baptist Church Tampa 302 W Kennedy Blvd\, Tampa\, FL 33606 on Sunday\, December 14\, 2025 at 4:00 PM in the Dining Room. \nWe’ll begin the evening by singing Christmas carols together\, spreading joy and Christmas to our neighborhood. Afterward\, we’ll gather for a warm and delicious chili dinner. \nBring a pot of your favorite chili to share\, and enjoy a cozy meal with our church family and friends. \nWe can’t wait to celebrate the season with caroling\, fellowship\, and a wonderful chili dinner!
URL:https://fbctampa.org/event/christmas-caroling-and-chili-dinner/
LOCATION:Dining Room\, 302 W Kennedy Blvd\, Tampa\, 33606\, United States
ATTACH;FMTTYPE=image/jpeg:https://fbctampa.org/wp-content/uploads/2025/11/Caroling-Chili-Night-2025.jpg
END:VEVENT
BEGIN:VEVENT
DTSTART;TZID=America/New_York:20251217T181500
DTEND;TZID=America/New_York:20251217T193000
DTSTAMP:20260423T193430
CREATED:20260309T152517Z
LAST-MODIFIED:20260309T152517Z
UID:10014937-1765995300-1765999800@fbctampa.org
SUMMARY:Awana
DESCRIPTION:AWANA is a fun and engaging discipleship program for kids that helps them grow in their faith through Bible memorization\, interactive lessons\, and exciting games. At our church\, AWANA meets on Wednesday nights at 6:15 PM\, providing a structured yet energetic environment where children can learn about God’s Word\, build friendships\, and develop a strong foundation in Christ. Our program is designed to equip kids with biblical knowledge while encouraging them to live out their faith in everyday life.
URL:https://fbctampa.org/event/awana-3/2025-12-17/
LOCATION:Gymnasium / Elementary Area / Kid Zone – All PreK Area / Suite 300\, 302 W Kennedy Blvd\, Tampa\, FL\, 33606\, United States
ATTACH;FMTTYPE=image/jpeg:https://fbctampa.org/wp-content/uploads/2026/02/Sermon-Slide-Announcement-2.jpg
END:VEVENT
BEGIN:VEVENT
DTSTART;TZID=America/New_York:20251221T093000
DTEND;TZID=America/New_York:20251221T103000
DTSTAMP:20260423T193430
CREATED:20250211T024320Z
LAST-MODIFIED:20250907T031407Z
UID:10000535-1766309400-1766313000@fbctampa.org
SUMMARY:Core Groups (Sunday School)
DESCRIPTION:Core Groups are where faith and community come together. These small gatherings provide a place to study God’s Word\, build relationships\, and grow spiritually. Whether you’re new to church or have been following Christ for years\, there’s a group for you!
URL:https://fbctampa.org/event/core-groups-sunday-school/2025-12-21/
ATTACH;FMTTYPE=image/jpeg:https://fbctampa.org/wp-content/uploads/2025/02/sunday-core-header.jpg
END:VEVENT
BEGIN:VEVENT
DTSTART;TZID=America/New_York:20251224T170000
DTEND;TZID=America/New_York:20251224T170000
DTSTAMP:20260423T193430
CREATED:20251124T210831Z
LAST-MODIFIED:20251229T185051Z
UID:10012393-1766595600-1766595600@fbctampa.org
SUMMARY:Christmas Eve Candle Light Service
DESCRIPTION:Candlelight Christmas Eve Service \nPlease join us for a beautiful and meaningful Candlelight Christmas Eve Service starting at 5:00 PM. \nWe will share lighting individual candles\, symbolizing that Christ came to be the Light of the World. It’s a peaceful time of worship and reflection as we celebrate the hope of Christmas. \nPlease invite friends & family!
URL:https://fbctampa.org/event/christmas-eve-candle-light-service/
LOCATION:Sanctuary\, 302 W Kennedy Blvd\, Tampa\, FL\, 33606\, United States
ATTACH;FMTTYPE=image/jpeg:https://fbctampa.org/wp-content/uploads/2025/11/Fashion.jpg
END:VEVENT
BEGIN:VEVENT
DTSTART;TZID=America/New_York:20251224T181500
DTEND;TZID=America/New_York:20251224T193000
DTSTAMP:20260423T193430
CREATED:20260309T152517Z
LAST-MODIFIED:20260309T152517Z
UID:10014938-1766600100-1766604600@fbctampa.org
SUMMARY:Awana
DESCRIPTION:AWANA is a fun and engaging discipleship program for kids that helps them grow in their faith through Bible memorization\, interactive lessons\, and exciting games. At our church\, AWANA meets on Wednesday nights at 6:15 PM\, providing a structured yet energetic environment where children can learn about God’s Word\, build friendships\, and develop a strong foundation in Christ. Our program is designed to equip kids with biblical knowledge while encouraging them to live out their faith in everyday life.
URL:https://fbctampa.org/event/awana-3/2025-12-24/
LOCATION:Gymnasium / Elementary Area / Kid Zone – All PreK Area / Suite 300\, 302 W Kennedy Blvd\, Tampa\, FL\, 33606\, United States
ATTACH;FMTTYPE=image/jpeg:https://fbctampa.org/wp-content/uploads/2026/02/Sermon-Slide-Announcement-2.jpg
END:VEVENT
BEGIN:VEVENT
DTSTART;TZID=America/New_York:20251228T093000
DTEND;TZID=America/New_York:20251228T103000
DTSTAMP:20260423T193430
CREATED:20250211T024320Z
LAST-MODIFIED:20250907T031407Z
UID:10000536-1766914200-1766917800@fbctampa.org
SUMMARY:Core Groups (Sunday School)
DESCRIPTION:Core Groups are where faith and community come together. These small gatherings provide a place to study God’s Word\, build relationships\, and grow spiritually. Whether you’re new to church or have been following Christ for years\, there’s a group for you!
URL:https://fbctampa.org/event/core-groups-sunday-school/2025-12-28/
ATTACH;FMTTYPE=image/jpeg:https://fbctampa.org/wp-content/uploads/2025/02/sunday-core-header.jpg
END:VEVENT
BEGIN:VEVENT
DTSTART;TZID=America/New_York:20251231T181500
DTEND;TZID=America/New_York:20251231T193000
DTSTAMP:20260423T193430
CREATED:20260309T152517Z
LAST-MODIFIED:20260309T152517Z
UID:10014939-1767204900-1767209400@fbctampa.org
SUMMARY:Awana
DESCRIPTION:AWANA is a fun and engaging discipleship program for kids that helps them grow in their faith through Bible memorization\, interactive lessons\, and exciting games. At our church\, AWANA meets on Wednesday nights at 6:15 PM\, providing a structured yet energetic environment where children can learn about God’s Word\, build friendships\, and develop a strong foundation in Christ. Our program is designed to equip kids with biblical knowledge while encouraging them to live out their faith in everyday life.
URL:https://fbctampa.org/event/awana-3/2025-12-31/
LOCATION:Gymnasium / Elementary Area / Kid Zone – All PreK Area / Suite 300\, 302 W Kennedy Blvd\, Tampa\, FL\, 33606\, United States
ATTACH;FMTTYPE=image/jpeg:https://fbctampa.org/wp-content/uploads/2026/02/Sermon-Slide-Announcement-2.jpg
END:VEVENT
END:VCALENDAR