BEGIN:VCALENDAR
VERSION:2.0
PRODID:-//FBC Tampa - ECPv6.15.11//NONSGML v1.0//EN
CALSCALE:GREGORIAN
METHOD:PUBLISH
X-WR-CALNAME:FBC Tampa
X-ORIGINAL-URL:https://fbctampa.org
X-WR-CALDESC:Events for FBC Tampa
REFRESH-INTERVAL;VALUE=DURATION:PT1H
X-Robots-Tag:noindex
X-PUBLISHED-TTL:PT1H
BEGIN:VTIMEZONE
TZID:America/New_York
BEGIN:DAYLIGHT
TZOFFSETFROM:-0500
TZOFFSETTO:-0400
TZNAME:EDT
DTSTART:20240310T070000
END:DAYLIGHT
BEGIN:STANDARD
TZOFFSETFROM:-0400
TZOFFSETTO:-0500
TZNAME:EST
DTSTART:20241103T060000
END:STANDARD
BEGIN:DAYLIGHT
TZOFFSETFROM:-0500
TZOFFSETTO:-0400
TZNAME:EDT
DTSTART:20250309T070000
END:DAYLIGHT
BEGIN:STANDARD
TZOFFSETFROM:-0400
TZOFFSETTO:-0500
TZNAME:EST
DTSTART:20251102T060000
END:STANDARD
BEGIN:DAYLIGHT
TZOFFSETFROM:-0500
TZOFFSETTO:-0400
TZNAME:EDT
DTSTART:20260308T070000
END:DAYLIGHT
BEGIN:STANDARD
TZOFFSETFROM:-0400
TZOFFSETTO:-0500
TZNAME:EST
DTSTART:20261101T060000
END:STANDARD
END:VTIMEZONE
BEGIN:VEVENT
DTSTART;TZID=America/New_York:20251102T093000
DTEND;TZID=America/New_York:20251102T103000
DTSTAMP:20260423T210135
CREATED:20250211T024320Z
LAST-MODIFIED:20250907T031407Z
UID:10000528-1762075800-1762079400@fbctampa.org
SUMMARY:Core Groups (Sunday School)
DESCRIPTION:Core Groups are where faith and community come together. These small gatherings provide a place to study God’s Word\, build relationships\, and grow spiritually. Whether you’re new to church or have been following Christ for years\, there’s a group for you!
URL:https://fbctampa.org/event/core-groups-sunday-school/2025-11-02/
ATTACH;FMTTYPE=image/jpeg:https://fbctampa.org/wp-content/uploads/2025/02/sunday-core-header.jpg
END:VEVENT
BEGIN:VEVENT
DTSTART;TZID=America/New_York:20251105T181500
DTEND;TZID=America/New_York:20251105T193000
DTSTAMP:20260423T210135
CREATED:20260309T152517Z
LAST-MODIFIED:20260309T152517Z
UID:10014931-1762366500-1762371000@fbctampa.org
SUMMARY:Awana
DESCRIPTION:AWANA is a fun and engaging discipleship program for kids that helps them grow in their faith through Bible memorization\, interactive lessons\, and exciting games. At our church\, AWANA meets on Wednesday nights at 6:15 PM\, providing a structured yet energetic environment where children can learn about God’s Word\, build friendships\, and develop a strong foundation in Christ. Our program is designed to equip kids with biblical knowledge while encouraging them to live out their faith in everyday life.
URL:https://fbctampa.org/event/awana-3/2025-11-05/
LOCATION:Gymnasium / Elementary Area / Kid Zone – All PreK Area / Suite 300\, 302 W Kennedy Blvd\, Tampa\, FL\, 33606\, United States
ATTACH;FMTTYPE=image/jpeg:https://fbctampa.org/wp-content/uploads/2026/02/Sermon-Slide-Announcement-2.jpg
END:VEVENT
BEGIN:VEVENT
DTSTART;TZID=America/New_York:20251109T093000
DTEND;TZID=America/New_York:20251109T103000
DTSTAMP:20260423T210135
CREATED:20250211T024320Z
LAST-MODIFIED:20250907T031407Z
UID:10000529-1762680600-1762684200@fbctampa.org
SUMMARY:Core Groups (Sunday School)
DESCRIPTION:Core Groups are where faith and community come together. These small gatherings provide a place to study God’s Word\, build relationships\, and grow spiritually. Whether you’re new to church or have been following Christ for years\, there’s a group for you!
URL:https://fbctampa.org/event/core-groups-sunday-school/2025-11-09/
ATTACH;FMTTYPE=image/jpeg:https://fbctampa.org/wp-content/uploads/2025/02/sunday-core-header.jpg
END:VEVENT
BEGIN:VEVENT
DTSTART;TZID=America/New_York:20251111T103000
DTEND;TZID=America/New_York:20251111T113000
DTSTAMP:20260423T210135
CREATED:20251103T164913Z
LAST-MODIFIED:20251103T164913Z
UID:10010525-1762857000-1762860600@fbctampa.org
SUMMARY:Women On Mission
DESCRIPTION:The Women on Mission meet to focus on missions\, outreach\, and service opportunities. Join us as we come together to pray\, plan\, and support local and global mission efforts.
URL:https://fbctampa.org/event/women-on-mission-3-2-2/2025-11-11/
LOCATION:4th Floor Loft\, 302 W Kennedy Blvd\, Tampa\, FL\, 33606\, United States
ATTACH;FMTTYPE=image/png:https://fbctampa.org/wp-content/uploads/2025/02/NewWOMSlide25.png
END:VEVENT
BEGIN:VEVENT
DTSTART;TZID=America/New_York:20251112T181500
DTEND;TZID=America/New_York:20251112T193000
DTSTAMP:20260423T210135
CREATED:20260309T152517Z
LAST-MODIFIED:20260309T152517Z
UID:10014932-1762971300-1762975800@fbctampa.org
SUMMARY:Awana
DESCRIPTION:AWANA is a fun and engaging discipleship program for kids that helps them grow in their faith through Bible memorization\, interactive lessons\, and exciting games. At our church\, AWANA meets on Wednesday nights at 6:15 PM\, providing a structured yet energetic environment where children can learn about God’s Word\, build friendships\, and develop a strong foundation in Christ. Our program is designed to equip kids with biblical knowledge while encouraging them to live out their faith in everyday life.
URL:https://fbctampa.org/event/awana-3/2025-11-12/
LOCATION:Gymnasium / Elementary Area / Kid Zone – All PreK Area / Suite 300\, 302 W Kennedy Blvd\, Tampa\, FL\, 33606\, United States
ATTACH;FMTTYPE=image/jpeg:https://fbctampa.org/wp-content/uploads/2026/02/Sermon-Slide-Announcement-2.jpg
END:VEVENT
BEGIN:VEVENT
DTSTART;TZID=America/New_York:20251116T093000
DTEND;TZID=America/New_York:20251116T103000
DTSTAMP:20260423T210135
CREATED:20250211T024320Z
LAST-MODIFIED:20250907T031407Z
UID:10000530-1763285400-1763289000@fbctampa.org
SUMMARY:Core Groups (Sunday School)
DESCRIPTION:Core Groups are where faith and community come together. These small gatherings provide a place to study God’s Word\, build relationships\, and grow spiritually. Whether you’re new to church or have been following Christ for years\, there’s a group for you!
URL:https://fbctampa.org/event/core-groups-sunday-school/2025-11-16/
ATTACH;FMTTYPE=image/jpeg:https://fbctampa.org/wp-content/uploads/2025/02/sunday-core-header.jpg
END:VEVENT
BEGIN:VEVENT
DTSTART;TZID=America/New_York:20251116T120000
DTEND;TZID=America/New_York:20251116T170000
DTSTAMP:20260423T210135
CREATED:20251113T164011Z
LAST-MODIFIED:20251116T211821Z
UID:10011085-1763294400-1763312400@fbctampa.org
SUMMARY:Care Portal Training
DESCRIPTION:CarePortal is a technology-based ministry that connects local churches with real-time needs from children and families in crisis\, as shared by child welfare professionals. When a need—such as beds\, clothing\, or groceries—is submitted\, nearby churches can respond directly\, offering practical help and the hope of Jesus to families in our own community. \nWe’ll be hosting a CarePortal Training on Sunday\, November 16 at 12:15 PM in the Loft. This brief session will explain how the system works and how you can get involved in meeting needs right here in Tampa. \nLunch will be provided.\nPlease email Olivia at olivia@fbctampa.org if you are able to attend. \nWe’d love for you to come learn more about how our church can be the hands and feet of Christ through this impactful ministry.
URL:https://fbctampa.org/event/care-portal-training/
LOCATION:4th Floor Loft\, 302 W Kennedy Blvd\, Tampa\, FL\, 33606\, United States
ATTACH;FMTTYPE=image/png:https://fbctampa.org/wp-content/uploads/2025/11/CarePortal.png
END:VEVENT
BEGIN:VEVENT
DTSTART;TZID=America/New_York:20251119T181500
DTEND;TZID=America/New_York:20251119T193000
DTSTAMP:20260423T210135
CREATED:20260309T152517Z
LAST-MODIFIED:20260309T152517Z
UID:10014933-1763576100-1763580600@fbctampa.org
SUMMARY:Awana
DESCRIPTION:AWANA is a fun and engaging discipleship program for kids that helps them grow in their faith through Bible memorization\, interactive lessons\, and exciting games. At our church\, AWANA meets on Wednesday nights at 6:15 PM\, providing a structured yet energetic environment where children can learn about God’s Word\, build friendships\, and develop a strong foundation in Christ. Our program is designed to equip kids with biblical knowledge while encouraging them to live out their faith in everyday life.
URL:https://fbctampa.org/event/awana-3/2025-11-19/
LOCATION:Gymnasium / Elementary Area / Kid Zone – All PreK Area / Suite 300\, 302 W Kennedy Blvd\, Tampa\, FL\, 33606\, United States
ATTACH;FMTTYPE=image/jpeg:https://fbctampa.org/wp-content/uploads/2026/02/Sermon-Slide-Announcement-2.jpg
END:VEVENT
BEGIN:VEVENT
DTSTART;TZID=America/New_York:20251123T093000
DTEND;TZID=America/New_York:20251123T103000
DTSTAMP:20260423T210135
CREATED:20250211T024320Z
LAST-MODIFIED:20250907T031407Z
UID:10000531-1763890200-1763893800@fbctampa.org
SUMMARY:Core Groups (Sunday School)
DESCRIPTION:Core Groups are where faith and community come together. These small gatherings provide a place to study God’s Word\, build relationships\, and grow spiritually. Whether you’re new to church or have been following Christ for years\, there’s a group for you!
URL:https://fbctampa.org/event/core-groups-sunday-school/2025-11-23/
ATTACH;FMTTYPE=image/jpeg:https://fbctampa.org/wp-content/uploads/2025/02/sunday-core-header.jpg
END:VEVENT
BEGIN:VEVENT
DTSTART;TZID=America/New_York:20251126T181500
DTEND;TZID=America/New_York:20251126T193000
DTSTAMP:20260423T210135
CREATED:20260309T152517Z
LAST-MODIFIED:20260309T152517Z
UID:10014934-1764180900-1764185400@fbctampa.org
SUMMARY:Awana
DESCRIPTION:AWANA is a fun and engaging discipleship program for kids that helps them grow in their faith through Bible memorization\, interactive lessons\, and exciting games. At our church\, AWANA meets on Wednesday nights at 6:15 PM\, providing a structured yet energetic environment where children can learn about God’s Word\, build friendships\, and develop a strong foundation in Christ. Our program is designed to equip kids with biblical knowledge while encouraging them to live out their faith in everyday life.
URL:https://fbctampa.org/event/awana-3/2025-11-26/
LOCATION:Gymnasium / Elementary Area / Kid Zone – All PreK Area / Suite 300\, 302 W Kennedy Blvd\, Tampa\, FL\, 33606\, United States
ATTACH;FMTTYPE=image/jpeg:https://fbctampa.org/wp-content/uploads/2026/02/Sermon-Slide-Announcement-2.jpg
END:VEVENT
BEGIN:VEVENT
DTSTART;TZID=America/New_York:20251130T093000
DTEND;TZID=America/New_York:20251130T103000
DTSTAMP:20260423T210135
CREATED:20250211T024320Z
LAST-MODIFIED:20250907T031407Z
UID:10000532-1764495000-1764498600@fbctampa.org
SUMMARY:Core Groups (Sunday School)
DESCRIPTION:Core Groups are where faith and community come together. These small gatherings provide a place to study God’s Word\, build relationships\, and grow spiritually. Whether you’re new to church or have been following Christ for years\, there’s a group for you!
URL:https://fbctampa.org/event/core-groups-sunday-school/2025-11-30/
ATTACH;FMTTYPE=image/jpeg:https://fbctampa.org/wp-content/uploads/2025/02/sunday-core-header.jpg
END:VEVENT
BEGIN:VEVENT
DTSTART;TZID=America/New_York:20251130T123000
DTEND;TZID=America/New_York:20251130T143000
DTSTAMP:20260423T210135
CREATED:20251117T154402Z
LAST-MODIFIED:20251202T151534Z
UID:10012390-1764505800-1764513000@fbctampa.org
SUMMARY:Hanging of the Greens
DESCRIPTION:Everyone is welcome to join us as we prepare the church for the Christmas season! \nCome for an afternoon of fun and fellowship as we decorate First Baptist Church Tampaon Friday\, November 30th from 12:30 PM to 2:30 PM. \nWe’ll be hanging wreaths and transforming the church into a festive sanctuary!
URL:https://fbctampa.org/event/hanging-of-the-greens/
LOCATION:Sanctuary\, 302 W Kennedy Blvd\, Tampa\, FL\, 33606\, United States
ATTACH;FMTTYPE=image/png:https://fbctampa.org/wp-content/uploads/2025/11/Screenshot-2025-11-16-at-4.30.44-PM.png
END:VEVENT
END:VCALENDAR