BEGIN:VCALENDAR
VERSION:2.0
PRODID:-//FBC Tampa - ECPv6.15.11//NONSGML v1.0//EN
CALSCALE:GREGORIAN
METHOD:PUBLISH
X-WR-CALNAME:FBC Tampa
X-ORIGINAL-URL:https://fbctampa.org
X-WR-CALDESC:Events for FBC Tampa
REFRESH-INTERVAL;VALUE=DURATION:PT1H
X-Robots-Tag:noindex
X-PUBLISHED-TTL:PT1H
BEGIN:VTIMEZONE
TZID:America/New_York
BEGIN:DAYLIGHT
TZOFFSETFROM:-0500
TZOFFSETTO:-0400
TZNAME:EDT
DTSTART:20240310T070000
END:DAYLIGHT
BEGIN:STANDARD
TZOFFSETFROM:-0400
TZOFFSETTO:-0500
TZNAME:EST
DTSTART:20241103T060000
END:STANDARD
BEGIN:DAYLIGHT
TZOFFSETFROM:-0500
TZOFFSETTO:-0400
TZNAME:EDT
DTSTART:20250309T070000
END:DAYLIGHT
BEGIN:STANDARD
TZOFFSETFROM:-0400
TZOFFSETTO:-0500
TZNAME:EST
DTSTART:20251102T060000
END:STANDARD
BEGIN:DAYLIGHT
TZOFFSETFROM:-0500
TZOFFSETTO:-0400
TZNAME:EDT
DTSTART:20260308T070000
END:DAYLIGHT
BEGIN:STANDARD
TZOFFSETFROM:-0400
TZOFFSETTO:-0500
TZNAME:EST
DTSTART:20261101T060000
END:STANDARD
END:VTIMEZONE
BEGIN:VEVENT
DTSTART;TZID=America/New_York:20250903T181500
DTEND;TZID=America/New_York:20250903T193000
DTSTAMP:20260424T000138
CREATED:20260309T152517Z
LAST-MODIFIED:20260309T152517Z
UID:10014922-1756923300-1756927800@fbctampa.org
SUMMARY:Awana
DESCRIPTION:AWANA is a fun and engaging discipleship program for kids that helps them grow in their faith through Bible memorization\, interactive lessons\, and exciting games. At our church\, AWANA meets on Wednesday nights at 6:15 PM\, providing a structured yet energetic environment where children can learn about God’s Word\, build friendships\, and develop a strong foundation in Christ. Our program is designed to equip kids with biblical knowledge while encouraging them to live out their faith in everyday life.
URL:https://fbctampa.org/event/awana-3/2025-09-03/
LOCATION:Gymnasium / Elementary Area / Kid Zone – All PreK Area / Suite 300\, 302 W Kennedy Blvd\, Tampa\, FL\, 33606\, United States
ATTACH;FMTTYPE=image/jpeg:https://fbctampa.org/wp-content/uploads/2026/02/Sermon-Slide-Announcement-2.jpg
END:VEVENT
BEGIN:VEVENT
DTSTART;TZID=America/New_York:20250905T171500
DTEND;TZID=America/New_York:20250905T190000
DTSTAMP:20260424T000138
CREATED:20250904T200300Z
LAST-MODIFIED:20250904T200931Z
UID:10003049-1757092500-1757098800@fbctampa.org
SUMMARY:BBQ and Fellowship at Tampa Baptist Manor
DESCRIPTION:Join us for a fun night of fellowship as we serve the residents of Tampa Baptist Manor with a BBQ! \nWe’ll meet at 5:15 PM at the church and walk over to the manor at 5:30 PM. Don’t miss out—you never know\, Delvis might even make an appearance! \nWe hope to see you there!
URL:https://fbctampa.org/event/bbq-and-fellowship-at-tampa-baptist-manor/
LOCATION:Dining Room\, 302 W Kennedy Blvd\, Tampa\, 33606\, United States
ATTACH;FMTTYPE=image/png:https://fbctampa.org/wp-content/uploads/2025/09/Sermon-Announcements-13.png
END:VEVENT
BEGIN:VEVENT
DTSTART;TZID=America/New_York:20250907T093000
DTEND;TZID=America/New_York:20250907T103000
DTSTAMP:20260424T000138
CREATED:20250211T024320Z
LAST-MODIFIED:20250907T031407Z
UID:10000520-1757237400-1757241000@fbctampa.org
SUMMARY:Core Groups (Sunday School)
DESCRIPTION:Core Groups are where faith and community come together. These small gatherings provide a place to study God’s Word\, build relationships\, and grow spiritually. Whether you’re new to church or have been following Christ for years\, there’s a group for you!
URL:https://fbctampa.org/event/core-groups-sunday-school/2025-09-07/
ATTACH;FMTTYPE=image/jpeg:https://fbctampa.org/wp-content/uploads/2025/02/sunday-core-header.jpg
END:VEVENT
BEGIN:VEVENT
DTSTART;TZID=America/New_York:20250910T181500
DTEND;TZID=America/New_York:20250910T193000
DTSTAMP:20260424T000138
CREATED:20260309T152517Z
LAST-MODIFIED:20260309T152517Z
UID:10014923-1757528100-1757532600@fbctampa.org
SUMMARY:Awana
DESCRIPTION:AWANA is a fun and engaging discipleship program for kids that helps them grow in their faith through Bible memorization\, interactive lessons\, and exciting games. At our church\, AWANA meets on Wednesday nights at 6:15 PM\, providing a structured yet energetic environment where children can learn about God’s Word\, build friendships\, and develop a strong foundation in Christ. Our program is designed to equip kids with biblical knowledge while encouraging them to live out their faith in everyday life.
URL:https://fbctampa.org/event/awana-3/2025-09-10/
LOCATION:Gymnasium / Elementary Area / Kid Zone – All PreK Area / Suite 300\, 302 W Kennedy Blvd\, Tampa\, FL\, 33606\, United States
ATTACH;FMTTYPE=image/jpeg:https://fbctampa.org/wp-content/uploads/2026/02/Sermon-Slide-Announcement-2.jpg
END:VEVENT
BEGIN:VEVENT
DTSTART;TZID=America/New_York:20250914T093000
DTEND;TZID=America/New_York:20250914T103000
DTSTAMP:20260424T000138
CREATED:20250211T024320Z
LAST-MODIFIED:20250907T031407Z
UID:10000521-1757842200-1757845800@fbctampa.org
SUMMARY:Core Groups (Sunday School)
DESCRIPTION:Core Groups are where faith and community come together. These small gatherings provide a place to study God’s Word\, build relationships\, and grow spiritually. Whether you’re new to church or have been following Christ for years\, there’s a group for you!
URL:https://fbctampa.org/event/core-groups-sunday-school/2025-09-14/
ATTACH;FMTTYPE=image/jpeg:https://fbctampa.org/wp-content/uploads/2025/02/sunday-core-header.jpg
END:VEVENT
BEGIN:VEVENT
DTSTART;TZID=America/New_York:20250914T170000
DTEND;TZID=America/New_York:20250914T190000
DTSTAMP:20260424T000138
CREATED:20250814T180906Z
LAST-MODIFIED:20250915T093705Z
UID:10003038-1757869200-1757876400@fbctampa.org
SUMMARY:Family Trivia Night
DESCRIPTION:Join us to Church Wide Event – Family Trivia Night. Join us in the Gym September 14th \nEvent: Church-Wide Family Trivia Night \nWhen: Sunday\, September 14th\, at 5:00 PM \nWhere: The Gym \nDetails: Food will be provided. All are welcome!
URL:https://fbctampa.org/event/family-trivia-night/
LOCATION:Gymnasium\, 302 W Kennedy Blvd\, Tampa\, FL\, 33606\, United States
ATTACH;FMTTYPE=image/png:https://fbctampa.org/wp-content/uploads/2025/08/Sermon-Announcements.png
END:VEVENT
BEGIN:VEVENT
DTSTART;TZID=America/New_York:20250917T181500
DTEND;TZID=America/New_York:20250917T193000
DTSTAMP:20260424T000138
CREATED:20260309T152517Z
LAST-MODIFIED:20260309T152517Z
UID:10014924-1758132900-1758137400@fbctampa.org
SUMMARY:Awana
DESCRIPTION:AWANA is a fun and engaging discipleship program for kids that helps them grow in their faith through Bible memorization\, interactive lessons\, and exciting games. At our church\, AWANA meets on Wednesday nights at 6:15 PM\, providing a structured yet energetic environment where children can learn about God’s Word\, build friendships\, and develop a strong foundation in Christ. Our program is designed to equip kids with biblical knowledge while encouraging them to live out their faith in everyday life.
URL:https://fbctampa.org/event/awana-3/2025-09-17/
LOCATION:Gymnasium / Elementary Area / Kid Zone – All PreK Area / Suite 300\, 302 W Kennedy Blvd\, Tampa\, FL\, 33606\, United States
ATTACH;FMTTYPE=image/jpeg:https://fbctampa.org/wp-content/uploads/2026/02/Sermon-Slide-Announcement-2.jpg
END:VEVENT
BEGIN:VEVENT
DTSTART;TZID=America/New_York:20250921T093000
DTEND;TZID=America/New_York:20250921T103000
DTSTAMP:20260424T000138
CREATED:20250211T024320Z
LAST-MODIFIED:20250907T031407Z
UID:10000522-1758447000-1758450600@fbctampa.org
SUMMARY:Core Groups (Sunday School)
DESCRIPTION:Core Groups are where faith and community come together. These small gatherings provide a place to study God’s Word\, build relationships\, and grow spiritually. Whether you’re new to church or have been following Christ for years\, there’s a group for you!
URL:https://fbctampa.org/event/core-groups-sunday-school/2025-09-21/
ATTACH;FMTTYPE=image/jpeg:https://fbctampa.org/wp-content/uploads/2025/02/sunday-core-header.jpg
END:VEVENT
BEGIN:VEVENT
DTSTART;TZID=America/New_York:20250924T181500
DTEND;TZID=America/New_York:20250924T193000
DTSTAMP:20260424T000138
CREATED:20260309T152517Z
LAST-MODIFIED:20260309T152517Z
UID:10014925-1758737700-1758742200@fbctampa.org
SUMMARY:Awana
DESCRIPTION:AWANA is a fun and engaging discipleship program for kids that helps them grow in their faith through Bible memorization\, interactive lessons\, and exciting games. At our church\, AWANA meets on Wednesday nights at 6:15 PM\, providing a structured yet energetic environment where children can learn about God’s Word\, build friendships\, and develop a strong foundation in Christ. Our program is designed to equip kids with biblical knowledge while encouraging them to live out their faith in everyday life.
URL:https://fbctampa.org/event/awana-3/2025-09-24/
LOCATION:Gymnasium / Elementary Area / Kid Zone – All PreK Area / Suite 300\, 302 W Kennedy Blvd\, Tampa\, FL\, 33606\, United States
ATTACH;FMTTYPE=image/jpeg:https://fbctampa.org/wp-content/uploads/2026/02/Sermon-Slide-Announcement-2.jpg
END:VEVENT
BEGIN:VEVENT
DTSTART;TZID=America/New_York:20250928T093000
DTEND;TZID=America/New_York:20250928T103000
DTSTAMP:20260424T000138
CREATED:20250211T024320Z
LAST-MODIFIED:20250907T031407Z
UID:10000523-1759051800-1759055400@fbctampa.org
SUMMARY:Core Groups (Sunday School)
DESCRIPTION:Core Groups are where faith and community come together. These small gatherings provide a place to study God’s Word\, build relationships\, and grow spiritually. Whether you’re new to church or have been following Christ for years\, there’s a group for you!
URL:https://fbctampa.org/event/core-groups-sunday-school/2025-09-28/
ATTACH;FMTTYPE=image/jpeg:https://fbctampa.org/wp-content/uploads/2025/02/sunday-core-header.jpg
END:VEVENT
END:VCALENDAR