BEGIN:VCALENDAR
VERSION:2.0
PRODID:-//FBC Tampa - ECPv6.15.11//NONSGML v1.0//EN
CALSCALE:GREGORIAN
METHOD:PUBLISH
X-ORIGINAL-URL:https://fbctampa.org
X-WR-CALDESC:Events for FBC Tampa
REFRESH-INTERVAL;VALUE=DURATION:PT1H
X-Robots-Tag:noindex
X-PUBLISHED-TTL:PT1H
BEGIN:VTIMEZONE
TZID:America/New_York
BEGIN:DAYLIGHT
TZOFFSETFROM:-0500
TZOFFSETTO:-0400
TZNAME:EDT
DTSTART:20250309T070000
END:DAYLIGHT
BEGIN:STANDARD
TZOFFSETFROM:-0400
TZOFFSETTO:-0500
TZNAME:EST
DTSTART:20251102T060000
END:STANDARD
BEGIN:DAYLIGHT
TZOFFSETFROM:-0500
TZOFFSETTO:-0400
TZNAME:EDT
DTSTART:20260308T070000
END:DAYLIGHT
BEGIN:STANDARD
TZOFFSETFROM:-0400
TZOFFSETTO:-0500
TZNAME:EST
DTSTART:20261101T060000
END:STANDARD
BEGIN:DAYLIGHT
TZOFFSETFROM:-0500
TZOFFSETTO:-0400
TZNAME:EDT
DTSTART:20270314T070000
END:DAYLIGHT
BEGIN:STANDARD
TZOFFSETFROM:-0400
TZOFFSETTO:-0500
TZNAME:EST
DTSTART:20271107T060000
END:STANDARD
END:VTIMEZONE
BEGIN:VEVENT
DTSTART;TZID=America/New_York:20260714T103000
DTEND;TZID=America/New_York:20260714T113000
DTSTAMP:20260424T014949
CREATED:20251103T164913Z
LAST-MODIFIED:20251103T164913Z
UID:10010592-1784025000-1784028600@fbctampa.org
SUMMARY:Women On Mission
DESCRIPTION:The Women on Mission meet to focus on missions\, outreach\, and service opportunities. Join us as we come together to pray\, plan\, and support local and global mission efforts.
URL:https://fbctampa.org/event/women-on-mission-3-2-2/2026-07-14/
LOCATION:4th Floor Loft\, 302 W Kennedy Blvd\, Tampa\, FL\, 33606\, United States
ATTACH;FMTTYPE=image/png:https://fbctampa.org/wp-content/uploads/2025/02/NewWOMSlide25.png
END:VEVENT
BEGIN:VEVENT
DTSTART;TZID=America/New_York:20260714T190000
DTEND;TZID=America/New_York:20260714T203000
DTSTAMP:20260424T014949
CREATED:20251217T195203Z
LAST-MODIFIED:20260312T184840Z
UID:10014967-1784055600-1784061000@fbctampa.org
SUMMARY:The Collective - Young Adult Worship
DESCRIPTION:The Collective on Tuesday nights is a gathering for young adults to worship\, dive into the Word\, and grow in fellowship. We also host guest Q&A sessions to deepen our faith and understanding. If you’re college-aged (18-26)\, come join us at 7pm as we seek to grow in Christ together!
URL:https://fbctampa.org/event/the-collective-tuesday-nights-2-2/2026-07-14/
LOCATION:FL
ATTACH;FMTTYPE=image/png:https://fbctampa.org/wp-content/uploads/2025/02/TheCollectiveCollage.png
END:VEVENT
BEGIN:VEVENT
DTSTART;TZID=America/New_York:20260715T183000
DTEND;TZID=America/New_York:20260715T193000
DTSTAMP:20260424T014949
CREATED:20260302T194523Z
LAST-MODIFIED:20260309T150450Z
UID:10014821-1784140200-1784143800@fbctampa.org
SUMMARY:Discipleship Classes
DESCRIPTION:Our discipleship classes meet Wednesdays at 6:30 PM\, offering biblical teaching and practical guidance to help you grow in your faith. With classes for all ages and spiritual levels\, we encourage deeper study\, community\, and discipleship in Christ. To see what classes we have available\, follow the link below! \nDiscipleship Classes
URL:https://fbctampa.org/event/discipleship-classes/2026-07-15/
LOCATION:FL
ATTACH;FMTTYPE=image/jpeg:https://fbctampa.org/wp-content/uploads/2025/02/wed-night-discipleship.jpg
END:VEVENT
BEGIN:VEVENT
DTSTART;TZID=America/New_York:20260715T193000
DTEND;TZID=America/New_York:20260715T203000
DTSTAMP:20260424T014949
CREATED:20250217T170633Z
LAST-MODIFIED:20260105T195023Z
UID:10013998-1784143800-1784147400@fbctampa.org
SUMMARY:Personnel Committee Meeting
DESCRIPTION:The Personnel Committee meeting will be held to discuss staffing\, volunteer needs\, and any other personnel matters.
URL:https://fbctampa.org/event/personnel-committee-meeting/2026-07-15/
LOCATION:4th Floor Loft\, 302 W Kennedy Blvd\, Tampa\, FL\, 33606\, United States
ATTACH;FMTTYPE=image/png:https://fbctampa.org/wp-content/uploads/2025/02/Untitled-design-55.png
END:VEVENT
BEGIN:VEVENT
DTSTART;TZID=America/New_York:20260716T190000
DTEND;TZID=America/New_York:20260716T210000
DTSTAMP:20260424T014949
CREATED:20260203T192840Z
LAST-MODIFIED:20260219T182337Z
UID:10014244-1784228400-1784235600@fbctampa.org
SUMMARY:Worship Band Practice
DESCRIPTION:The worship band gathers to rehearse in preparation for Sunday services.
URL:https://fbctampa.org/event/worship-band-practice-2/2026-07-16/
LOCATION:Sanctuary\, 302 W Kennedy Blvd\, Tampa\, FL\, 33606\, United States
ATTACH;FMTTYPE=image/jpeg:https://fbctampa.org/wp-content/uploads/2026/02/DSC05454-scaled.jpg
END:VEVENT
BEGIN:VEVENT
DTSTART;TZID=America/New_York:20260719T083000
DTEND;TZID=America/New_York:20260719T091500
DTSTAMP:20260424T014949
CREATED:20260203T190547Z
LAST-MODIFIED:20260219T183702Z
UID:10012710-1784449800-1784452500@fbctampa.org
SUMMARY:Sunday morning Thrive Cafe
DESCRIPTION:We offer a delicious and affordable breakfast every Sunday morning from 8:30 to 9:15 AM. It’s a great way to start the day before heading to Sunday Core Groups\, which meet from 9:30 to 10:30 AM.
URL:https://fbctampa.org/event/sunday-morning-thrive-cafe-2/2026-07-19/
LOCATION:FL
ATTACH;FMTTYPE=image/jpeg:https://fbctampa.org/wp-content/uploads/2026/02/Thrive-Cafe-Slide-2026.jpg
END:VEVENT
BEGIN:VEVENT
DTSTART;TZID=America/New_York:20260719T093000
DTEND;TZID=America/New_York:20260719T103000
DTSTAMP:20260424T014949
CREATED:20260204T175714Z
LAST-MODIFIED:20260204T175714Z
UID:10000565-1784453400-1784457000@fbctampa.org
SUMMARY:Core Groups (Sunday School)
DESCRIPTION:Core Groups are where faith and community come together. These small gatherings provide a place to study God’s Word\, build relationships\, and grow spiritually. Whether you’re new to church or have been following Christ for years\, there’s a group for you!
URL:https://fbctampa.org/event/core-groups-sunday-school-2/2026-07-19/
LOCATION:FL
ATTACH;FMTTYPE=image/jpeg:https://fbctampa.org/wp-content/uploads/2025/02/sunday-core-header.jpg
END:VEVENT
BEGIN:VEVENT
DTSTART;TZID=America/New_York:20260719T104500
DTEND;TZID=America/New_York:20260719T121500
DTSTAMP:20260424T014949
CREATED:20260204T175209Z
LAST-MODIFIED:20260204T175209Z
UID:10001416-1784457900-1784463300@fbctampa.org
SUMMARY:Corporate Worship
DESCRIPTION:Join us every Sunday morning as we gather to worship\, grow in God’s Word\, and encourage one another in faith. Our service includes Christ-centered worship\, biblical teaching\, and a welcoming community where you can connect and belong. Our gathering begins at 10:45am at 302 W Kennedy Blvd.
URL:https://fbctampa.org/event/sunday-morning-gathering-2-2/2026-07-19/
LOCATION:FL
ATTACH;FMTTYPE=image/jpeg:https://fbctampa.org/wp-content/uploads/2025/02/new-here-header.jpg
END:VEVENT
BEGIN:VEVENT
DTSTART;TZID=America/New_York:20260719T123000
DTEND;TZID=America/New_York:20260719T133000
DTSTAMP:20260424T014949
CREATED:20250730T172542Z
LAST-MODIFIED:20260105T195812Z
UID:10014017-1784464200-1784467800@fbctampa.org
SUMMARY:Stewardship Committee
DESCRIPTION:The Stewardship Committee will meet to discuss financial planning\, budgeting\, and ways to encourage faithful giving and stewardship within the church.
URL:https://fbctampa.org/event/stewardship-committee-2/2026-07-19/
LOCATION:4th Floor Loft\, 302 W Kennedy Blvd\, Tampa\, FL\, 33606\, United States
ATTACH;FMTTYPE=image/png:https://fbctampa.org/wp-content/uploads/2025/02/Untitled-design-55.png
END:VEVENT
BEGIN:VEVENT
DTSTART;TZID=America/New_York:20260720T180000
DTEND;TZID=America/New_York:20260720T200000
DTSTAMP:20260424T014949
CREATED:20260203T190207Z
LAST-MODIFIED:20260305T185340Z
UID:10013963-1784570400-1784577600@fbctampa.org
SUMMARY:Basketball for Adults
DESCRIPTION:Come out and join us for a fun\, friendly game of pickup basketball! This is a great chance for adults to get active\, enjoy some friendly competition\, and build community. All skill levels welcome!
URL:https://fbctampa.org/event/basketball-for-adults-2/2026-07-20/
LOCATION:FL
ATTACH;FMTTYPE=image/png:https://fbctampa.org/wp-content/uploads/2026/02/For-adults-18-x-24-in-Presentation-2.png
END:VEVENT
BEGIN:VEVENT
DTSTART;TZID=America/New_York:20260721T190000
DTEND;TZID=America/New_York:20260721T203000
DTSTAMP:20260424T014949
CREATED:20251217T195203Z
LAST-MODIFIED:20260312T184840Z
UID:10014968-1784660400-1784665800@fbctampa.org
SUMMARY:The Collective - Young Adult Worship
DESCRIPTION:The Collective on Tuesday nights is a gathering for young adults to worship\, dive into the Word\, and grow in fellowship. We also host guest Q&A sessions to deepen our faith and understanding. If you’re college-aged (18-26)\, come join us at 7pm as we seek to grow in Christ together!
URL:https://fbctampa.org/event/the-collective-tuesday-nights-2-2/2026-07-21/
LOCATION:FL
ATTACH;FMTTYPE=image/png:https://fbctampa.org/wp-content/uploads/2025/02/TheCollectiveCollage.png
END:VEVENT
BEGIN:VEVENT
DTSTART;TZID=America/New_York:20260722T183000
DTEND;TZID=America/New_York:20260722T193000
DTSTAMP:20260424T014949
CREATED:20260302T194523Z
LAST-MODIFIED:20260309T150450Z
UID:10014822-1784745000-1784748600@fbctampa.org
SUMMARY:Discipleship Classes
DESCRIPTION:Our discipleship classes meet Wednesdays at 6:30 PM\, offering biblical teaching and practical guidance to help you grow in your faith. With classes for all ages and spiritual levels\, we encourage deeper study\, community\, and discipleship in Christ. To see what classes we have available\, follow the link below! \nDiscipleship Classes
URL:https://fbctampa.org/event/discipleship-classes/2026-07-22/
LOCATION:FL
ATTACH;FMTTYPE=image/jpeg:https://fbctampa.org/wp-content/uploads/2025/02/wed-night-discipleship.jpg
END:VEVENT
BEGIN:VEVENT
DTSTART;TZID=America/New_York:20260722T193000
DTEND;TZID=America/New_York:20260722T203000
DTSTAMP:20260424T014949
CREATED:20260107T173441Z
LAST-MODIFIED:20260107T173920Z
UID:10014139-1784748600-1784752200@fbctampa.org
SUMMARY:320 Building Committe Meeting
DESCRIPTION:The 320 Committee Building will meet to discuss the maintenance\, improvements\, and needs of the property.
URL:https://fbctampa.org/event/320-building-committe-meeting-2/2026-07-22/
LOCATION:4th Floor Loft\, 302 W Kennedy Blvd\, Tampa\, FL\, 33606\, United States
END:VEVENT
BEGIN:VEVENT
DTSTART;TZID=America/New_York:20260723T190000
DTEND;TZID=America/New_York:20260723T210000
DTSTAMP:20260424T014949
CREATED:20260203T192840Z
LAST-MODIFIED:20260219T182337Z
UID:10014245-1784833200-1784840400@fbctampa.org
SUMMARY:Worship Band Practice
DESCRIPTION:The worship band gathers to rehearse in preparation for Sunday services.
URL:https://fbctampa.org/event/worship-band-practice-2/2026-07-23/
LOCATION:Sanctuary\, 302 W Kennedy Blvd\, Tampa\, FL\, 33606\, United States
ATTACH;FMTTYPE=image/jpeg:https://fbctampa.org/wp-content/uploads/2026/02/DSC05454-scaled.jpg
END:VEVENT
BEGIN:VEVENT
DTSTART;VALUE=DATE:20260724
DTEND;VALUE=DATE:20260727
DTSTAMP:20260424T014949
CREATED:20260422T161314Z
LAST-MODIFIED:20260423T174323Z
UID:10015027-1784851200-1785110399@fbctampa.org
SUMMARY:Thrive Marriage Event
DESCRIPTION:Join us for our Thrive Marriage Event on July 24–26 at First Baptist Church of Tampa! \nCome experience a meaningful weekend filled with fellowship\, inspiring guest speakers\, live music\, a Q&A panel\, and plenty of fun. Enjoy delicious snacks and desserts throughout the event\, and take advantage of free childcare so you can fully engage and connect. \nMost importantly\, we’ll spend time in the Word\, discovering what God desires for us in our Christian marriages. \nWe’d love to see you there!
URL:https://fbctampa.org/event/thrive-marriage-event/
LOCATION:FL
ATTACH;FMTTYPE=image/jpeg:https://fbctampa.org/wp-content/uploads/2026/04/Slide.jpg
END:VEVENT
BEGIN:VEVENT
DTSTART;TZID=America/New_York:20260726T083000
DTEND;TZID=America/New_York:20260726T091500
DTSTAMP:20260424T014949
CREATED:20260203T190547Z
LAST-MODIFIED:20260219T183702Z
UID:10012711-1785054600-1785057300@fbctampa.org
SUMMARY:Sunday morning Thrive Cafe
DESCRIPTION:We offer a delicious and affordable breakfast every Sunday morning from 8:30 to 9:15 AM. It’s a great way to start the day before heading to Sunday Core Groups\, which meet from 9:30 to 10:30 AM.
URL:https://fbctampa.org/event/sunday-morning-thrive-cafe-2/2026-07-26/
LOCATION:FL
ATTACH;FMTTYPE=image/jpeg:https://fbctampa.org/wp-content/uploads/2026/02/Thrive-Cafe-Slide-2026.jpg
END:VEVENT
BEGIN:VEVENT
DTSTART;TZID=America/New_York:20260726T093000
DTEND;TZID=America/New_York:20260726T103000
DTSTAMP:20260424T014949
CREATED:20260204T175714Z
LAST-MODIFIED:20260204T175714Z
UID:10000566-1785058200-1785061800@fbctampa.org
SUMMARY:Core Groups (Sunday School)
DESCRIPTION:Core Groups are where faith and community come together. These small gatherings provide a place to study God’s Word\, build relationships\, and grow spiritually. Whether you’re new to church or have been following Christ for years\, there’s a group for you!
URL:https://fbctampa.org/event/core-groups-sunday-school-2/2026-07-26/
LOCATION:FL
ATTACH;FMTTYPE=image/jpeg:https://fbctampa.org/wp-content/uploads/2025/02/sunday-core-header.jpg
END:VEVENT
BEGIN:VEVENT
DTSTART;TZID=America/New_York:20260726T104500
DTEND;TZID=America/New_York:20260726T121500
DTSTAMP:20260424T014949
CREATED:20260204T175209Z
LAST-MODIFIED:20260204T175209Z
UID:10001417-1785062700-1785068100@fbctampa.org
SUMMARY:Corporate Worship
DESCRIPTION:Join us every Sunday morning as we gather to worship\, grow in God’s Word\, and encourage one another in faith. Our service includes Christ-centered worship\, biblical teaching\, and a welcoming community where you can connect and belong. Our gathering begins at 10:45am at 302 W Kennedy Blvd.
URL:https://fbctampa.org/event/sunday-morning-gathering-2-2/2026-07-26/
LOCATION:FL
ATTACH;FMTTYPE=image/jpeg:https://fbctampa.org/wp-content/uploads/2025/02/new-here-header.jpg
END:VEVENT
BEGIN:VEVENT
DTSTART;TZID=America/New_York:20260727T180000
DTEND;TZID=America/New_York:20260727T200000
DTSTAMP:20260424T014949
CREATED:20260203T190207Z
LAST-MODIFIED:20260305T185340Z
UID:10013964-1785175200-1785182400@fbctampa.org
SUMMARY:Basketball for Adults
DESCRIPTION:Come out and join us for a fun\, friendly game of pickup basketball! This is a great chance for adults to get active\, enjoy some friendly competition\, and build community. All skill levels welcome!
URL:https://fbctampa.org/event/basketball-for-adults-2/2026-07-27/
LOCATION:FL
ATTACH;FMTTYPE=image/png:https://fbctampa.org/wp-content/uploads/2026/02/For-adults-18-x-24-in-Presentation-2.png
END:VEVENT
BEGIN:VEVENT
DTSTART;TZID=America/New_York:20260728T190000
DTEND;TZID=America/New_York:20260728T203000
DTSTAMP:20260424T014949
CREATED:20251217T195203Z
LAST-MODIFIED:20260312T184840Z
UID:10014969-1785265200-1785270600@fbctampa.org
SUMMARY:The Collective - Young Adult Worship
DESCRIPTION:The Collective on Tuesday nights is a gathering for young adults to worship\, dive into the Word\, and grow in fellowship. We also host guest Q&A sessions to deepen our faith and understanding. If you’re college-aged (18-26)\, come join us at 7pm as we seek to grow in Christ together!
URL:https://fbctampa.org/event/the-collective-tuesday-nights-2-2/2026-07-28/
LOCATION:FL
ATTACH;FMTTYPE=image/png:https://fbctampa.org/wp-content/uploads/2025/02/TheCollectiveCollage.png
END:VEVENT
BEGIN:VEVENT
DTSTART;TZID=America/New_York:20260729T183000
DTEND;TZID=America/New_York:20260729T193000
DTSTAMP:20260424T014949
CREATED:20260302T194523Z
LAST-MODIFIED:20260309T150450Z
UID:10014823-1785349800-1785353400@fbctampa.org
SUMMARY:Discipleship Classes
DESCRIPTION:Our discipleship classes meet Wednesdays at 6:30 PM\, offering biblical teaching and practical guidance to help you grow in your faith. With classes for all ages and spiritual levels\, we encourage deeper study\, community\, and discipleship in Christ. To see what classes we have available\, follow the link below! \nDiscipleship Classes
URL:https://fbctampa.org/event/discipleship-classes/2026-07-29/
LOCATION:FL
ATTACH;FMTTYPE=image/jpeg:https://fbctampa.org/wp-content/uploads/2025/02/wed-night-discipleship.jpg
END:VEVENT
BEGIN:VEVENT
DTSTART;TZID=America/New_York:20260730T190000
DTEND;TZID=America/New_York:20260730T210000
DTSTAMP:20260424T014949
CREATED:20260203T192840Z
LAST-MODIFIED:20260219T182337Z
UID:10014246-1785438000-1785445200@fbctampa.org
SUMMARY:Worship Band Practice
DESCRIPTION:The worship band gathers to rehearse in preparation for Sunday services.
URL:https://fbctampa.org/event/worship-band-practice-2/2026-07-30/
LOCATION:Sanctuary\, 302 W Kennedy Blvd\, Tampa\, FL\, 33606\, United States
ATTACH;FMTTYPE=image/jpeg:https://fbctampa.org/wp-content/uploads/2026/02/DSC05454-scaled.jpg
END:VEVENT
BEGIN:VEVENT
DTSTART;TZID=America/New_York:20260802T083000
DTEND;TZID=America/New_York:20260802T091500
DTSTAMP:20260424T014949
CREATED:20260203T190547Z
LAST-MODIFIED:20260219T183702Z
UID:10012712-1785659400-1785662100@fbctampa.org
SUMMARY:Sunday morning Thrive Cafe
DESCRIPTION:We offer a delicious and affordable breakfast every Sunday morning from 8:30 to 9:15 AM. It’s a great way to start the day before heading to Sunday Core Groups\, which meet from 9:30 to 10:30 AM.
URL:https://fbctampa.org/event/sunday-morning-thrive-cafe-2/2026-08-02/
LOCATION:FL
ATTACH;FMTTYPE=image/jpeg:https://fbctampa.org/wp-content/uploads/2026/02/Thrive-Cafe-Slide-2026.jpg
END:VEVENT
BEGIN:VEVENT
DTSTART;TZID=America/New_York:20260802T093000
DTEND;TZID=America/New_York:20260802T103000
DTSTAMP:20260424T014949
CREATED:20260204T175714Z
LAST-MODIFIED:20260204T175714Z
UID:10000567-1785663000-1785666600@fbctampa.org
SUMMARY:Core Groups (Sunday School)
DESCRIPTION:Core Groups are where faith and community come together. These small gatherings provide a place to study God’s Word\, build relationships\, and grow spiritually. Whether you’re new to church or have been following Christ for years\, there’s a group for you!
URL:https://fbctampa.org/event/core-groups-sunday-school-2/2026-08-02/
LOCATION:FL
ATTACH;FMTTYPE=image/jpeg:https://fbctampa.org/wp-content/uploads/2025/02/sunday-core-header.jpg
END:VEVENT
BEGIN:VEVENT
DTSTART;TZID=America/New_York:20260802T104500
DTEND;TZID=America/New_York:20260802T121500
DTSTAMP:20260424T014949
CREATED:20260204T175209Z
LAST-MODIFIED:20260204T175209Z
UID:10001418-1785667500-1785672900@fbctampa.org
SUMMARY:Corporate Worship
DESCRIPTION:Join us every Sunday morning as we gather to worship\, grow in God’s Word\, and encourage one another in faith. Our service includes Christ-centered worship\, biblical teaching\, and a welcoming community where you can connect and belong. Our gathering begins at 10:45am at 302 W Kennedy Blvd.
URL:https://fbctampa.org/event/sunday-morning-gathering-2-2/2026-08-02/
LOCATION:FL
ATTACH;FMTTYPE=image/jpeg:https://fbctampa.org/wp-content/uploads/2025/02/new-here-header.jpg
END:VEVENT
BEGIN:VEVENT
DTSTART;TZID=America/New_York:20260803T180000
DTEND;TZID=America/New_York:20260803T200000
DTSTAMP:20260424T014949
CREATED:20260203T190207Z
LAST-MODIFIED:20260305T185340Z
UID:10013965-1785780000-1785787200@fbctampa.org
SUMMARY:Basketball for Adults
DESCRIPTION:Come out and join us for a fun\, friendly game of pickup basketball! This is a great chance for adults to get active\, enjoy some friendly competition\, and build community. All skill levels welcome!
URL:https://fbctampa.org/event/basketball-for-adults-2/2026-08-03/
LOCATION:FL
ATTACH;FMTTYPE=image/png:https://fbctampa.org/wp-content/uploads/2026/02/For-adults-18-x-24-in-Presentation-2.png
END:VEVENT
BEGIN:VEVENT
DTSTART;TZID=America/New_York:20260804T190000
DTEND;TZID=America/New_York:20260804T203000
DTSTAMP:20260424T014949
CREATED:20251217T195203Z
LAST-MODIFIED:20260312T184840Z
UID:10014970-1785870000-1785875400@fbctampa.org
SUMMARY:The Collective - Young Adult Worship
DESCRIPTION:The Collective on Tuesday nights is a gathering for young adults to worship\, dive into the Word\, and grow in fellowship. We also host guest Q&A sessions to deepen our faith and understanding. If you’re college-aged (18-26)\, come join us at 7pm as we seek to grow in Christ together!
URL:https://fbctampa.org/event/the-collective-tuesday-nights-2-2/2026-08-04/
LOCATION:FL
ATTACH;FMTTYPE=image/png:https://fbctampa.org/wp-content/uploads/2025/02/TheCollectiveCollage.png
END:VEVENT
BEGIN:VEVENT
DTSTART;TZID=America/New_York:20260805T183000
DTEND;TZID=America/New_York:20260805T193000
DTSTAMP:20260424T014949
CREATED:20260302T194523Z
LAST-MODIFIED:20260309T150450Z
UID:10014824-1785954600-1785958200@fbctampa.org
SUMMARY:Discipleship Classes
DESCRIPTION:Our discipleship classes meet Wednesdays at 6:30 PM\, offering biblical teaching and practical guidance to help you grow in your faith. With classes for all ages and spiritual levels\, we encourage deeper study\, community\, and discipleship in Christ. To see what classes we have available\, follow the link below! \nDiscipleship Classes
URL:https://fbctampa.org/event/discipleship-classes/2026-08-05/
LOCATION:FL
ATTACH;FMTTYPE=image/jpeg:https://fbctampa.org/wp-content/uploads/2025/02/wed-night-discipleship.jpg
END:VEVENT
BEGIN:VEVENT
DTSTART;TZID=America/New_York:20260805T193000
DTEND;TZID=America/New_York:20260805T203000
DTSTAMP:20260424T014949
CREATED:20260105T200509Z
LAST-MODIFIED:20260107T164349Z
UID:10014043-1785958200-1785961800@fbctampa.org
SUMMARY:Deacon's Meeting
DESCRIPTION:The Deacons will meet to discuss church needs\, support efforts\, and ministry opportunities. This time is dedicated to serving and caring for the congregation and community.
URL:https://fbctampa.org/event/deacons-meeting-2/2026-08-05/
LOCATION:4th Floor Loft\, 302 W Kennedy Blvd\, Tampa\, FL\, 33606\, United States
ATTACH;FMTTYPE=image/jpeg:https://fbctampa.org/wp-content/uploads/2025/02/DeaconsMeeting-750x500-1.jpg
END:VEVENT
BEGIN:VEVENT
DTSTART;TZID=America/New_York:20260806T190000
DTEND;TZID=America/New_York:20260806T210000
DTSTAMP:20260424T014949
CREATED:20260203T192840Z
LAST-MODIFIED:20260219T182337Z
UID:10014247-1786042800-1786050000@fbctampa.org
SUMMARY:Worship Band Practice
DESCRIPTION:The worship band gathers to rehearse in preparation for Sunday services.
URL:https://fbctampa.org/event/worship-band-practice-2/2026-08-06/
LOCATION:Sanctuary\, 302 W Kennedy Blvd\, Tampa\, FL\, 33606\, United States
ATTACH;FMTTYPE=image/jpeg:https://fbctampa.org/wp-content/uploads/2026/02/DSC05454-scaled.jpg
END:VEVENT
END:VCALENDAR