BEGIN:VCALENDAR
VERSION:2.0
PRODID:-//FBC Tampa - ECPv6.15.11//NONSGML v1.0//EN
CALSCALE:GREGORIAN
METHOD:PUBLISH
X-WR-CALNAME:FBC Tampa
X-ORIGINAL-URL:https://fbctampa.org
X-WR-CALDESC:Events for FBC Tampa
REFRESH-INTERVAL;VALUE=DURATION:PT1H
X-Robots-Tag:noindex
X-PUBLISHED-TTL:PT1H
BEGIN:VTIMEZONE
TZID:America/New_York
BEGIN:DAYLIGHT
TZOFFSETFROM:-0500
TZOFFSETTO:-0400
TZNAME:EDT
DTSTART:20240310T070000
END:DAYLIGHT
BEGIN:STANDARD
TZOFFSETFROM:-0400
TZOFFSETTO:-0500
TZNAME:EST
DTSTART:20241103T060000
END:STANDARD
BEGIN:DAYLIGHT
TZOFFSETFROM:-0500
TZOFFSETTO:-0400
TZNAME:EDT
DTSTART:20250309T070000
END:DAYLIGHT
BEGIN:STANDARD
TZOFFSETFROM:-0400
TZOFFSETTO:-0500
TZNAME:EST
DTSTART:20251102T060000
END:STANDARD
BEGIN:DAYLIGHT
TZOFFSETFROM:-0500
TZOFFSETTO:-0400
TZNAME:EDT
DTSTART:20260308T070000
END:DAYLIGHT
BEGIN:STANDARD
TZOFFSETFROM:-0400
TZOFFSETTO:-0500
TZNAME:EST
DTSTART:20261101T060000
END:STANDARD
END:VTIMEZONE
BEGIN:VEVENT
DTSTART;TZID=America/New_York:20250731T113000
DTEND;TZID=America/New_York:20250731T150000
DTSTAMP:20260424T084242
CREATED:20250701T182445Z
LAST-MODIFIED:20250701T182445Z
UID:10002355-1753961400-1753974000@fbctampa.org
SUMMARY:Walking with Warriors - Police Luncheon
DESCRIPTION:Please join us “Walking with Warriors” Luncheon. This special event is dedicated to supporting men and women in the military and police force\, providing an opportunity for them to come to know the Lord. \nPlease contact randy@fbctampa.org
URL:https://fbctampa.org/event/walking-with-warriors-police-luncheon/
LOCATION:FL
ATTACH;FMTTYPE=image/jpeg:https://fbctampa.org/wp-content/uploads/2025/07/Walking-with-Warriors-1-1.jpg
END:VEVENT
BEGIN:VEVENT
DTSTART;VALUE=DATE:20250713
DTEND;VALUE=DATE:20250714
DTSTAMP:20260424T084242
CREATED:20250617T210359Z
LAST-MODIFIED:20250617T210503Z
UID:10002354-1752364800-1752451199@fbctampa.org
SUMMARY:Türkiye Interest Meeting - Seven Churches of Revelation
DESCRIPTION:Curious about walking in the footsteps of the early church? Join us for a Türkiye Interest Meeting as we explore an incredible opportunity to visit the sites of the Seven Churches of Revelation. This trip will bring the pages of Scripture to life as we journey through ancient cities\, reflect on God’s Word\, and grow in faith together. \nSign Up Here
URL:https://fbctampa.org/event/turkiye-interest-meeting-seven-churches-of-revelation/
LOCATION:FL
ATTACH;FMTTYPE=image/png:https://fbctampa.org/wp-content/uploads/2025/06/Seven-churces-of-revelation-2.png
END:VEVENT
BEGIN:VEVENT
DTSTART;TZID=America/New_York:20250629T104500
DTEND;TZID=America/New_York:20250629T121500
DTSTAMP:20260424T084242
CREATED:20250617T204528Z
LAST-MODIFIED:20250617T204528Z
UID:10002352-1751193900-1751199300@fbctampa.org
SUMMARY:Baptism Sunday
DESCRIPTION:Join us for a powerful and joyful celebration of new life in Christ! Baptism Sunday is a special time when individuals publicly declare their faith in Jesus and their decision to follow Him. Whether you’re ready to be baptized or just want to support those taking this step\, we invite you to be part of this meaningful moment in the life of our church family. \nInterested in being baptized?We’d love to talk with you. Email bob@fbctampa to learn more about what baptism means and how to take this next step in your faith journey.
URL:https://fbctampa.org/event/baptism-sunday/
LOCATION:Sanctuary\, 302 W Kennedy Blvd\, Tampa\, FL\, 33606\, United States
ATTACH;FMTTYPE=image/png:https://fbctampa.org/wp-content/uploads/2025/06/WelcomeQuestionsBaptism.png
END:VEVENT
BEGIN:VEVENT
DTSTART;TZID=America/New_York:20250626T110000
DTEND;TZID=America/New_York:20250626T140000
DTSTAMP:20260424T084242
CREATED:20250530T172218Z
LAST-MODIFIED:20250530T173400Z
UID:10002277-1750935600-1750946400@fbctampa.org
SUMMARY:New Hearts Outreach - 13th Annual Collaborative Learning Luncheon
DESCRIPTION:Join us for the 13th Annual Collaborative Learning Luncheon\, an impactful gathering designed to educate and equip parents\, family members\, pastors\, counselors\, and friends on how to respond in a godly manner to issues surrounding gender identity and confusion. \nThis year’s featured story comes from Laura Perry Smalts\, author of Transgender to Transformed. Once living as a transgender man\, Laura shares her powerful testimony of identity\, deception\, and transformation through Christ. Her story offers clarity\, compassion\, and biblical truth\, shedding light on the struggles faced by those in the transgender lifestyle and revealing the freedom found in God’s design. \nSign Up Here
URL:https://fbctampa.org/event/new-hearts-outreach-13th-annual-collaborative-learning-luncheon/
LOCATION:FL
ATTACH;FMTTYPE=image/png:https://fbctampa.org/wp-content/uploads/2025/05/New-Hearts-Outreach.png
END:VEVENT
BEGIN:VEVENT
DTSTART;TZID=America/New_York:20250624T100000
DTEND;TZID=America/New_York:20250624T120000
DTSTAMP:20260424T084242
CREATED:20250602T185602Z
LAST-MODIFIED:20250602T185602Z
UID:10002351-1750759200-1750766400@fbctampa.org
SUMMARY:New Hearts Outreach Youth Pastors Session with Laura Perry
DESCRIPTION:New Hearts Outreach invites Tampa-area youth pastors to a special session featuring guest speaker Laura Perry\, who will share her personal story and insights on navigating the cultural challenges surrounding transgenderism. Guided by Ephesians 6\, this gathering will emphasize restoring others in a spirit of gentleness. The event will include a learning Q&A session to equip attendees with biblical understanding and compassionate responses\, all are welcome\, especially those interested in the evangelism and discipleship of the next generation! \nTo RSVP\, please call: (813) 413-4569
URL:https://fbctampa.org/event/new-hearts-outreach-youth-pastors-session-with-laura-perry/
LOCATION:Dining Room\, 302 W Kennedy Blvd\, Tampa\, 33606\, United States
ATTACH;FMTTYPE=image/png:https://fbctampa.org/wp-content/uploads/2025/05/New-Hearts-Outreach.png
END:VEVENT
BEGIN:VEVENT
DTSTART;TZID=America/New_York:20250528T194500
DTEND;TZID=America/New_York:20250528T210000
DTSTAMP:20260424T084242
CREATED:20250217T163020Z
LAST-MODIFIED:20250417T163025Z
UID:10001148-1748461500-1748466000@fbctampa.org
SUMMARY:Choir Practice
DESCRIPTION:Join us for choir practice on Wednesdays at 7:45pm\, where we come together to rehearse and prepare for upcoming worship services. This time is dedicated to refining our voices and deepening our musical ministry as we seek to honor God through song.
URL:https://fbctampa.org/event/choir-practice/2025-05-28/
LOCATION:Sanctuary\, 302 W Kennedy Blvd\, Tampa\, FL\, 33606\, United States
ATTACH;FMTTYPE=image/jpeg:https://fbctampa.org/wp-content/uploads/2025/02/homepage-slider-image-1.jpg
END:VEVENT
BEGIN:VEVENT
DTSTART;TZID=America/New_York:20250528T183000
DTEND;TZID=America/New_York:20250528T193000
DTSTAMP:20260424T084242
CREATED:20250422T195755Z
LAST-MODIFIED:20250422T195755Z
UID:10002230-1748457000-1748460600@fbctampa.org
SUMMARY:Kids Ministry Event
DESCRIPTION:While you’re in discipleship classes\, your kids are invited to join us for a fun and engaging time designed just for them! Starting at 6:30 PM\, our children’s ministry offers age-appropriate activities in a safe\, welcoming environment where kids can grow in their faith and build friendships. Come drop them off and enjoy your class knowing they’re in good hands!
URL:https://fbctampa.org/event/kids-ministry-event/2025-05-28/
LOCATION:FL
ATTACH;FMTTYPE=image/png:https://fbctampa.org/wp-content/uploads/2025/04/KidsCalendar.png
END:VEVENT
BEGIN:VEVENT
DTSTART;TZID=America/New_York:20250521T194500
DTEND;TZID=America/New_York:20250521T210000
DTSTAMP:20260424T084242
CREATED:20250217T163020Z
LAST-MODIFIED:20250417T163025Z
UID:10001147-1747856700-1747861200@fbctampa.org
SUMMARY:Choir Practice
DESCRIPTION:Join us for choir practice on Wednesdays at 7:45pm\, where we come together to rehearse and prepare for upcoming worship services. This time is dedicated to refining our voices and deepening our musical ministry as we seek to honor God through song.
URL:https://fbctampa.org/event/choir-practice/2025-05-21/
LOCATION:Sanctuary\, 302 W Kennedy Blvd\, Tampa\, FL\, 33606\, United States
ATTACH;FMTTYPE=image/jpeg:https://fbctampa.org/wp-content/uploads/2025/02/homepage-slider-image-1.jpg
END:VEVENT
BEGIN:VEVENT
DTSTART;TZID=America/New_York:20250521T183000
DTEND;TZID=America/New_York:20250521T193000
DTSTAMP:20260424T084242
CREATED:20250422T195755Z
LAST-MODIFIED:20250422T195755Z
UID:10002229-1747852200-1747855800@fbctampa.org
SUMMARY:Kids Ministry Event
DESCRIPTION:While you’re in discipleship classes\, your kids are invited to join us for a fun and engaging time designed just for them! Starting at 6:30 PM\, our children’s ministry offers age-appropriate activities in a safe\, welcoming environment where kids can grow in their faith and build friendships. Come drop them off and enjoy your class knowing they’re in good hands!
URL:https://fbctampa.org/event/kids-ministry-event/2025-05-21/
LOCATION:FL
ATTACH;FMTTYPE=image/png:https://fbctampa.org/wp-content/uploads/2025/04/KidsCalendar.png
END:VEVENT
BEGIN:VEVENT
DTSTART;TZID=America/New_York:20250514T194500
DTEND;TZID=America/New_York:20250514T210000
DTSTAMP:20260424T084242
CREATED:20250217T163020Z
LAST-MODIFIED:20250417T163025Z
UID:10001146-1747251900-1747256400@fbctampa.org
SUMMARY:Choir Practice
DESCRIPTION:Join us for choir practice on Wednesdays at 7:45pm\, where we come together to rehearse and prepare for upcoming worship services. This time is dedicated to refining our voices and deepening our musical ministry as we seek to honor God through song.
URL:https://fbctampa.org/event/choir-practice/2025-05-14/
LOCATION:Sanctuary\, 302 W Kennedy Blvd\, Tampa\, FL\, 33606\, United States
ATTACH;FMTTYPE=image/jpeg:https://fbctampa.org/wp-content/uploads/2025/02/homepage-slider-image-1.jpg
END:VEVENT
BEGIN:VEVENT
DTSTART;TZID=America/New_York:20250514T183000
DTEND;TZID=America/New_York:20250514T193000
DTSTAMP:20260424T084242
CREATED:20250422T195755Z
LAST-MODIFIED:20250422T195755Z
UID:10002228-1747247400-1747251000@fbctampa.org
SUMMARY:Kids Ministry Event
DESCRIPTION:While you’re in discipleship classes\, your kids are invited to join us for a fun and engaging time designed just for them! Starting at 6:30 PM\, our children’s ministry offers age-appropriate activities in a safe\, welcoming environment where kids can grow in their faith and build friendships. Come drop them off and enjoy your class knowing they’re in good hands!
URL:https://fbctampa.org/event/kids-ministry-event/2025-05-14/
LOCATION:FL
ATTACH;FMTTYPE=image/png:https://fbctampa.org/wp-content/uploads/2025/04/KidsCalendar.png
END:VEVENT
BEGIN:VEVENT
DTSTART;TZID=America/New_York:20250514T170000
DTEND;TZID=America/New_York:20250514T193000
DTSTAMP:20260424T084242
CREATED:20250227T172749Z
LAST-MODIFIED:20250821T193057Z
UID:10001686-1747242000-1747251000@fbctampa.org
SUMMARY:Daddy Daughter Date Night
DESCRIPTION:Daddy Daughter Date Night: A special evening for dads and daughters to bond\, enjoy fun activities\, and create lasting memories together. A night full of laughter\, connection\, and quality time!
URL:https://fbctampa.org/event/daddy-daughter-date-night/
LOCATION:4th Floor Loft\, 302 W Kennedy Blvd\, Tampa\, FL\, 33606\, United States
ATTACH;FMTTYPE=image/png:https://fbctampa.org/wp-content/uploads/2025/02/Copy-of-ByNoMeans_Romans.png
END:VEVENT
BEGIN:VEVENT
DTSTART;TZID=America/New_York:20250507T194500
DTEND;TZID=America/New_York:20250507T210000
DTSTAMP:20260424T084242
CREATED:20250217T163020Z
LAST-MODIFIED:20250417T163025Z
UID:10001145-1746647100-1746651600@fbctampa.org
SUMMARY:Choir Practice
DESCRIPTION:Join us for choir practice on Wednesdays at 7:45pm\, where we come together to rehearse and prepare for upcoming worship services. This time is dedicated to refining our voices and deepening our musical ministry as we seek to honor God through song.
URL:https://fbctampa.org/event/choir-practice/2025-05-07/
LOCATION:Sanctuary\, 302 W Kennedy Blvd\, Tampa\, FL\, 33606\, United States
ATTACH;FMTTYPE=image/jpeg:https://fbctampa.org/wp-content/uploads/2025/02/homepage-slider-image-1.jpg
END:VEVENT
BEGIN:VEVENT
DTSTART;TZID=America/New_York:20250504T170000
DTEND;TZID=America/New_York:20250504T183000
DTSTAMP:20260424T084242
CREATED:20250217T171835Z
LAST-MODIFIED:20250217T184124Z
UID:10001269-1746378000-1746383400@fbctampa.org
SUMMARY:Redeemer City Worship Gathering
DESCRIPTION:The Redeemer City Worship Gathering is our church plant gathering\, where we come together for worship\, fellowship\, and to grow as a new church community.
URL:https://fbctampa.org/event/redeemer-city-worship-gathering/2025-05-04/
LOCATION:FL
ATTACH;FMTTYPE=image/jpeg:https://fbctampa.org/wp-content/uploads/2025/01/ministrial-staff-trent.jpg
END:VEVENT
BEGIN:VEVENT
DTSTART;TZID=America/New_York:20250504T123000
DTEND;TZID=America/New_York:20250504T140000
DTSTAMP:20260424T084242
CREATED:20250422T185412Z
LAST-MODIFIED:20250521T184910Z
UID:10002216-1746361800-1746367200@fbctampa.org
SUMMARY:Redeemer City Send-Off Lunch
DESCRIPTION:Following our worship service\, we invite you to a special luncheon in our gym in the Carlton building to honor and support the faithful members launching Redeemer City Church in Knoxville. Come share a meal and join us in praying over this exciting new chapter.
URL:https://fbctampa.org/event/redeemer-city-send-off-lunch/
LOCATION:Gymnasium\, 302 W Kennedy Blvd\, Tampa\, FL\, 33606\, United States
ATTACH;FMTTYPE=image/png:https://fbctampa.org/wp-content/uploads/2025/04/Copy-of-church-plant-slides-FOR-SUNDAY-shared-copy-1.png
END:VEVENT
BEGIN:VEVENT
DTSTART;TZID=America/New_York:20250430T194500
DTEND;TZID=America/New_York:20250430T210000
DTSTAMP:20260424T084242
CREATED:20250217T163020Z
LAST-MODIFIED:20250417T163025Z
UID:10001144-1746042300-1746046800@fbctampa.org
SUMMARY:Choir Practice
DESCRIPTION:Join us for choir practice on Wednesdays at 7:45pm\, where we come together to rehearse and prepare for upcoming worship services. This time is dedicated to refining our voices and deepening our musical ministry as we seek to honor God through song.
URL:https://fbctampa.org/event/choir-practice/2025-04-30/
LOCATION:Sanctuary\, 302 W Kennedy Blvd\, Tampa\, FL\, 33606\, United States
ATTACH;FMTTYPE=image/jpeg:https://fbctampa.org/wp-content/uploads/2025/02/homepage-slider-image-1.jpg
END:VEVENT
BEGIN:VEVENT
DTSTART;TZID=America/New_York:20250423T194500
DTEND;TZID=America/New_York:20250423T210000
DTSTAMP:20260424T084242
CREATED:20250217T163020Z
LAST-MODIFIED:20250417T163025Z
UID:10001143-1745437500-1745442000@fbctampa.org
SUMMARY:Choir Practice
DESCRIPTION:Join us for choir practice on Wednesdays at 7:45pm\, where we come together to rehearse and prepare for upcoming worship services. This time is dedicated to refining our voices and deepening our musical ministry as we seek to honor God through song.
URL:https://fbctampa.org/event/choir-practice/2025-04-23/
LOCATION:Sanctuary\, 302 W Kennedy Blvd\, Tampa\, FL\, 33606\, United States
ATTACH;FMTTYPE=image/jpeg:https://fbctampa.org/wp-content/uploads/2025/02/homepage-slider-image-1.jpg
END:VEVENT
BEGIN:VEVENT
DTSTART;TZID=America/New_York:20250416T194500
DTEND;TZID=America/New_York:20250416T210000
DTSTAMP:20260424T084242
CREATED:20250217T163020Z
LAST-MODIFIED:20250417T163025Z
UID:10001142-1744832700-1744837200@fbctampa.org
SUMMARY:Choir Practice
DESCRIPTION:Join us for choir practice on Wednesdays at 7:45pm\, where we come together to rehearse and prepare for upcoming worship services. This time is dedicated to refining our voices and deepening our musical ministry as we seek to honor God through song.
URL:https://fbctampa.org/event/choir-practice/2025-04-16/
LOCATION:Sanctuary\, 302 W Kennedy Blvd\, Tampa\, FL\, 33606\, United States
ATTACH;FMTTYPE=image/jpeg:https://fbctampa.org/wp-content/uploads/2025/02/homepage-slider-image-1.jpg
END:VEVENT
BEGIN:VEVENT
DTSTART;TZID=America/New_York:20250409T194500
DTEND;TZID=America/New_York:20250409T210000
DTSTAMP:20260424T084242
CREATED:20250217T163020Z
LAST-MODIFIED:20250417T163025Z
UID:10001141-1744227900-1744232400@fbctampa.org
SUMMARY:Choir Practice
DESCRIPTION:Join us for choir practice on Wednesdays at 7:45pm\, where we come together to rehearse and prepare for upcoming worship services. This time is dedicated to refining our voices and deepening our musical ministry as we seek to honor God through song.
URL:https://fbctampa.org/event/choir-practice/2025-04-09/
LOCATION:Sanctuary\, 302 W Kennedy Blvd\, Tampa\, FL\, 33606\, United States
ATTACH;FMTTYPE=image/jpeg:https://fbctampa.org/wp-content/uploads/2025/02/homepage-slider-image-1.jpg
END:VEVENT
BEGIN:VEVENT
DTSTART;TZID=America/New_York:20250406T170000
DTEND;TZID=America/New_York:20250406T183000
DTSTAMP:20260424T084242
CREATED:20250217T171835Z
LAST-MODIFIED:20250217T184124Z
UID:10001268-1743958800-1743964200@fbctampa.org
SUMMARY:Redeemer City Worship Gathering
DESCRIPTION:The Redeemer City Worship Gathering is our church plant gathering\, where we come together for worship\, fellowship\, and to grow as a new church community.
URL:https://fbctampa.org/event/redeemer-city-worship-gathering/2025-04-06/
LOCATION:FL
ATTACH;FMTTYPE=image/jpeg:https://fbctampa.org/wp-content/uploads/2025/01/ministrial-staff-trent.jpg
END:VEVENT
BEGIN:VEVENT
DTSTART;TZID=America/New_York:20250402T194500
DTEND;TZID=America/New_York:20250402T210000
DTSTAMP:20260424T084242
CREATED:20250217T163020Z
LAST-MODIFIED:20250417T163025Z
UID:10001140-1743623100-1743627600@fbctampa.org
SUMMARY:Choir Practice
DESCRIPTION:Join us for choir practice on Wednesdays at 7:45pm\, where we come together to rehearse and prepare for upcoming worship services. This time is dedicated to refining our voices and deepening our musical ministry as we seek to honor God through song.
URL:https://fbctampa.org/event/choir-practice/2025-04-02/
LOCATION:Sanctuary\, 302 W Kennedy Blvd\, Tampa\, FL\, 33606\, United States
ATTACH;FMTTYPE=image/jpeg:https://fbctampa.org/wp-content/uploads/2025/02/homepage-slider-image-1.jpg
END:VEVENT
BEGIN:VEVENT
DTSTART;TZID=America/New_York:20250326T194500
DTEND;TZID=America/New_York:20250326T210000
DTSTAMP:20260424T084242
CREATED:20250217T163020Z
LAST-MODIFIED:20250417T163025Z
UID:10001139-1743018300-1743022800@fbctampa.org
SUMMARY:Choir Practice
DESCRIPTION:Join us for choir practice on Wednesdays at 7:45pm\, where we come together to rehearse and prepare for upcoming worship services. This time is dedicated to refining our voices and deepening our musical ministry as we seek to honor God through song.
URL:https://fbctampa.org/event/choir-practice/2025-03-26/
LOCATION:Sanctuary\, 302 W Kennedy Blvd\, Tampa\, FL\, 33606\, United States
ATTACH;FMTTYPE=image/jpeg:https://fbctampa.org/wp-content/uploads/2025/02/homepage-slider-image-1.jpg
END:VEVENT
BEGIN:VEVENT
DTSTART;TZID=America/New_York:20250319T194500
DTEND;TZID=America/New_York:20250319T210000
DTSTAMP:20260424T084242
CREATED:20250217T163020Z
LAST-MODIFIED:20250417T163025Z
UID:10001138-1742413500-1742418000@fbctampa.org
SUMMARY:Choir Practice
DESCRIPTION:Join us for choir practice on Wednesdays at 7:45pm\, where we come together to rehearse and prepare for upcoming worship services. This time is dedicated to refining our voices and deepening our musical ministry as we seek to honor God through song.
URL:https://fbctampa.org/event/choir-practice/2025-03-19/
LOCATION:Sanctuary\, 302 W Kennedy Blvd\, Tampa\, FL\, 33606\, United States
ATTACH;FMTTYPE=image/jpeg:https://fbctampa.org/wp-content/uploads/2025/02/homepage-slider-image-1.jpg
END:VEVENT
BEGIN:VEVENT
DTSTART;TZID=America/New_York:20250315T100000
DTEND;TZID=America/New_York:20250315T120000
DTSTAMP:20260424T084242
CREATED:20250227T195905Z
LAST-MODIFIED:20250324T185439Z
UID:10001949-1742032800-1742040000@fbctampa.org
SUMMARY:Women's Brunch
DESCRIPTION:Join us for a fun brunch with games\, prizes\, and a special guest speaker\, Kelly Campbell! The event will take place in our dining room at First Baptist Church of Tampa. Please RSVP so we can plan the headcount. Bring your favorite dish to share! \nSign Up Here
URL:https://fbctampa.org/event/womens-brunch/
LOCATION:Dining Room\, 302 W Kennedy Blvd\, Tampa\, 33606\, United States
ATTACH;FMTTYPE=image/png:https://fbctampa.org/wp-content/uploads/2025/02/WomensBrunch-1.png
END:VEVENT
BEGIN:VEVENT
DTSTART;TZID=America/New_York:20250312T194500
DTEND;TZID=America/New_York:20250312T210000
DTSTAMP:20260424T084242
CREATED:20250217T163020Z
LAST-MODIFIED:20250417T163025Z
UID:10001137-1741808700-1741813200@fbctampa.org
SUMMARY:Choir Practice
DESCRIPTION:Join us for choir practice on Wednesdays at 7:45pm\, where we come together to rehearse and prepare for upcoming worship services. This time is dedicated to refining our voices and deepening our musical ministry as we seek to honor God through song.
URL:https://fbctampa.org/event/choir-practice/2025-03-12/
LOCATION:Sanctuary\, 302 W Kennedy Blvd\, Tampa\, FL\, 33606\, United States
ATTACH;FMTTYPE=image/jpeg:https://fbctampa.org/wp-content/uploads/2025/02/homepage-slider-image-1.jpg
END:VEVENT
BEGIN:VEVENT
DTSTART;TZID=America/New_York:20250309T170000
DTEND;TZID=America/New_York:20250309T183000
DTSTAMP:20260424T084242
CREATED:20250217T171835Z
LAST-MODIFIED:20250217T184124Z
UID:10001267-1741539600-1741545000@fbctampa.org
SUMMARY:Redeemer City Worship Gathering
DESCRIPTION:The Redeemer City Worship Gathering is our church plant gathering\, where we come together for worship\, fellowship\, and to grow as a new church community.
URL:https://fbctampa.org/event/redeemer-city-worship-gathering/2025-03-09/
LOCATION:FL
ATTACH;FMTTYPE=image/jpeg:https://fbctampa.org/wp-content/uploads/2025/01/ministrial-staff-trent.jpg
END:VEVENT
BEGIN:VEVENT
DTSTART;TZID=America/New_York:20250305T194500
DTEND;TZID=America/New_York:20250305T210000
DTSTAMP:20260424T084242
CREATED:20250217T163020Z
LAST-MODIFIED:20250417T163025Z
UID:10001136-1741203900-1741208400@fbctampa.org
SUMMARY:Choir Practice
DESCRIPTION:Join us for choir practice on Wednesdays at 7:45pm\, where we come together to rehearse and prepare for upcoming worship services. This time is dedicated to refining our voices and deepening our musical ministry as we seek to honor God through song.
URL:https://fbctampa.org/event/choir-practice/2025-03-05/
LOCATION:Sanctuary\, 302 W Kennedy Blvd\, Tampa\, FL\, 33606\, United States
ATTACH;FMTTYPE=image/jpeg:https://fbctampa.org/wp-content/uploads/2025/02/homepage-slider-image-1.jpg
END:VEVENT
BEGIN:VEVENT
DTSTART;TZID=America/New_York:20250226T194500
DTEND;TZID=America/New_York:20250226T210000
DTSTAMP:20260424T084242
CREATED:20250217T163020Z
LAST-MODIFIED:20250417T163025Z
UID:10001135-1740599100-1740603600@fbctampa.org
SUMMARY:Choir Practice
DESCRIPTION:Join us for choir practice on Wednesdays at 7:45pm\, where we come together to rehearse and prepare for upcoming worship services. This time is dedicated to refining our voices and deepening our musical ministry as we seek to honor God through song.
URL:https://fbctampa.org/event/choir-practice/2025-02-26/
LOCATION:Sanctuary\, 302 W Kennedy Blvd\, Tampa\, FL\, 33606\, United States
ATTACH;FMTTYPE=image/jpeg:https://fbctampa.org/wp-content/uploads/2025/02/homepage-slider-image-1.jpg
END:VEVENT
BEGIN:VEVENT
DTSTART;TZID=America/New_York:20250223T170000
DTEND;TZID=America/New_York:20250223T183000
DTSTAMP:20260424T084242
CREATED:20250217T171835Z
LAST-MODIFIED:20250217T184124Z
UID:10001202-1740330000-1740335400@fbctampa.org
SUMMARY:Redeemer City Worship Gathering
DESCRIPTION:The Redeemer City Worship Gathering is our church plant gathering\, where we come together for worship\, fellowship\, and to grow as a new church community.
URL:https://fbctampa.org/event/redeemer-city-worship-gathering/2025-02-23/
LOCATION:FL
ATTACH;FMTTYPE=image/jpeg:https://fbctampa.org/wp-content/uploads/2025/01/ministrial-staff-trent.jpg
END:VEVENT
BEGIN:VEVENT
DTSTART;TZID=America/New_York:20250219T194500
DTEND;TZID=America/New_York:20250219T210000
DTSTAMP:20260424T084242
CREATED:20250217T163020Z
LAST-MODIFIED:20250417T163025Z
UID:10001134-1739994300-1739998800@fbctampa.org
SUMMARY:Choir Practice
DESCRIPTION:Join us for choir practice on Wednesdays at 7:45pm\, where we come together to rehearse and prepare for upcoming worship services. This time is dedicated to refining our voices and deepening our musical ministry as we seek to honor God through song.
URL:https://fbctampa.org/event/choir-practice/2025-02-19/
LOCATION:Sanctuary\, 302 W Kennedy Blvd\, Tampa\, FL\, 33606\, United States
ATTACH;FMTTYPE=image/jpeg:https://fbctampa.org/wp-content/uploads/2025/02/homepage-slider-image-1.jpg
END:VEVENT
END:VCALENDAR