BEGIN:VCALENDAR
VERSION:2.0
PRODID:-//FBC Tampa - ECPv6.15.11//NONSGML v1.0//EN
CALSCALE:GREGORIAN
METHOD:PUBLISH
X-WR-CALNAME:FBC Tampa
X-ORIGINAL-URL:https://fbctampa.org
X-WR-CALDESC:Events for FBC Tampa
REFRESH-INTERVAL;VALUE=DURATION:PT1H
X-Robots-Tag:noindex
X-PUBLISHED-TTL:PT1H
BEGIN:VTIMEZONE
TZID:America/New_York
BEGIN:DAYLIGHT
TZOFFSETFROM:-0500
TZOFFSETTO:-0400
TZNAME:EDT
DTSTART:20250309T070000
END:DAYLIGHT
BEGIN:STANDARD
TZOFFSETFROM:-0400
TZOFFSETTO:-0500
TZNAME:EST
DTSTART:20251102T060000
END:STANDARD
BEGIN:DAYLIGHT
TZOFFSETFROM:-0500
TZOFFSETTO:-0400
TZNAME:EDT
DTSTART:20260308T070000
END:DAYLIGHT
BEGIN:STANDARD
TZOFFSETFROM:-0400
TZOFFSETTO:-0500
TZNAME:EST
DTSTART:20261101T060000
END:STANDARD
BEGIN:DAYLIGHT
TZOFFSETFROM:-0500
TZOFFSETTO:-0400
TZNAME:EDT
DTSTART:20270314T070000
END:DAYLIGHT
BEGIN:STANDARD
TZOFFSETFROM:-0400
TZOFFSETTO:-0500
TZNAME:EST
DTSTART:20271107T060000
END:STANDARD
END:VTIMEZONE
BEGIN:VEVENT
DTSTART;TZID=America/New_York:20261013T190000
DTEND;TZID=America/New_York:20261013T203000
DTSTAMP:20260425T115658
CREATED:20251217T195203Z
LAST-MODIFIED:20260312T184840Z
UID:10014980-1791918000-1791923400@fbctampa.org
SUMMARY:The Collective - Young Adult Worship
DESCRIPTION:The Collective on Tuesday nights is a gathering for young adults to worship\, dive into the Word\, and grow in fellowship. We also host guest Q&A sessions to deepen our faith and understanding. If you’re college-aged (18-26)\, come join us at 7pm as we seek to grow in Christ together!
URL:https://fbctampa.org/event/the-collective-tuesday-nights-2-2/2026-10-13/
ATTACH;FMTTYPE=image/png:https://fbctampa.org/wp-content/uploads/2025/02/TheCollectiveCollage.png
END:VEVENT
BEGIN:VEVENT
DTSTART;TZID=America/New_York:20261014T183000
DTEND;TZID=America/New_York:20261014T193000
DTSTAMP:20260425T115658
CREATED:20260302T194523Z
LAST-MODIFIED:20260309T150450Z
UID:10014834-1792002600-1792006200@fbctampa.org
SUMMARY:Discipleship Classes
DESCRIPTION:Our discipleship classes meet Wednesdays at 6:30 PM\, offering biblical teaching and practical guidance to help you grow in your faith. With classes for all ages and spiritual levels\, we encourage deeper study\, community\, and discipleship in Christ. To see what classes we have available\, follow the link below! \nDiscipleship Classes
URL:https://fbctampa.org/event/discipleship-classes/2026-10-14/
ATTACH;FMTTYPE=image/jpeg:https://fbctampa.org/wp-content/uploads/2025/02/wed-night-discipleship.jpg
END:VEVENT
BEGIN:VEVENT
DTSTART;TZID=America/New_York:20261014T193000
DTEND;TZID=America/New_York:20261014T203000
DTSTAMP:20260425T115658
CREATED:20250730T172357Z
LAST-MODIFIED:20260105T194326Z
UID:10013988-1792006200-1792009800@fbctampa.org
SUMMARY:Missions Committee
DESCRIPTION:The Missions Committee will meet to discuss upcoming mission projects\, outreach opportunities\, and ways to support both local and global ministries.
URL:https://fbctampa.org/event/missions-committee-3/2026-10-14/
LOCATION:4th Floor Loft\, 302 W Kennedy Blvd\, Tampa\, FL\, 33606\, United States
ATTACH;FMTTYPE=image/png:https://fbctampa.org/wp-content/uploads/2025/02/Untitled-design-55.png
END:VEVENT
BEGIN:VEVENT
DTSTART;TZID=America/New_York:20261015T190000
DTEND;TZID=America/New_York:20261015T210000
DTSTAMP:20260425T115658
CREATED:20260203T192840Z
LAST-MODIFIED:20260219T182337Z
UID:10014257-1792090800-1792098000@fbctampa.org
SUMMARY:Worship Band Practice
DESCRIPTION:The worship band gathers to rehearse in preparation for Sunday services.
URL:https://fbctampa.org/event/worship-band-practice-2/2026-10-15/
LOCATION:Sanctuary\, 302 W Kennedy Blvd\, Tampa\, FL\, 33606\, United States
ATTACH;FMTTYPE=image/jpeg:https://fbctampa.org/wp-content/uploads/2026/02/DSC05454-scaled.jpg
END:VEVENT
BEGIN:VEVENT
DTSTART;TZID=America/New_York:20261018T083000
DTEND;TZID=America/New_York:20261018T091500
DTSTAMP:20260425T115658
CREATED:20260203T190547Z
LAST-MODIFIED:20260219T183702Z
UID:10012723-1792312200-1792314900@fbctampa.org
SUMMARY:Sunday morning Thrive Cafe
DESCRIPTION:We offer a delicious and affordable breakfast every Sunday morning from 8:30 to 9:15 AM. It’s a great way to start the day before heading to Sunday Core Groups\, which meet from 9:30 to 10:30 AM.
URL:https://fbctampa.org/event/sunday-morning-thrive-cafe-2/2026-10-18/
ATTACH;FMTTYPE=image/jpeg:https://fbctampa.org/wp-content/uploads/2026/02/Thrive-Cafe-Slide-2026.jpg
END:VEVENT
BEGIN:VEVENT
DTSTART;TZID=America/New_York:20261018T093000
DTEND;TZID=America/New_York:20261018T103000
DTSTAMP:20260425T115658
CREATED:20260204T175714Z
LAST-MODIFIED:20260204T175714Z
UID:10000578-1792315800-1792319400@fbctampa.org
SUMMARY:Core Groups (Sunday School)
DESCRIPTION:Core Groups are where faith and community come together. These small gatherings provide a place to study God’s Word\, build relationships\, and grow spiritually. Whether you’re new to church or have been following Christ for years\, there’s a group for you!
URL:https://fbctampa.org/event/core-groups-sunday-school-2/2026-10-18/
ATTACH;FMTTYPE=image/jpeg:https://fbctampa.org/wp-content/uploads/2025/02/sunday-core-header.jpg
END:VEVENT
BEGIN:VEVENT
DTSTART;TZID=America/New_York:20261018T104500
DTEND;TZID=America/New_York:20261018T121500
DTSTAMP:20260425T115658
CREATED:20260204T175209Z
LAST-MODIFIED:20260204T175209Z
UID:10001429-1792320300-1792325700@fbctampa.org
SUMMARY:Corporate Worship
DESCRIPTION:Join us every Sunday morning as we gather to worship\, grow in God’s Word\, and encourage one another in faith. Our service includes Christ-centered worship\, biblical teaching\, and a welcoming community where you can connect and belong. Our gathering begins at 10:45am at 302 W Kennedy Blvd.
URL:https://fbctampa.org/event/sunday-morning-gathering-2-2/2026-10-18/
ATTACH;FMTTYPE=image/jpeg:https://fbctampa.org/wp-content/uploads/2025/02/new-here-header.jpg
END:VEVENT
BEGIN:VEVENT
DTSTART;TZID=America/New_York:20261018T123000
DTEND;TZID=America/New_York:20261018T133000
DTSTAMP:20260425T115658
CREATED:20250730T172542Z
LAST-MODIFIED:20260105T195812Z
UID:10014020-1792326600-1792330200@fbctampa.org
SUMMARY:Stewardship Committee
DESCRIPTION:The Stewardship Committee will meet to discuss financial planning\, budgeting\, and ways to encourage faithful giving and stewardship within the church.
URL:https://fbctampa.org/event/stewardship-committee-2/2026-10-18/
LOCATION:4th Floor Loft\, 302 W Kennedy Blvd\, Tampa\, FL\, 33606\, United States
ATTACH;FMTTYPE=image/png:https://fbctampa.org/wp-content/uploads/2025/02/Untitled-design-55.png
END:VEVENT
BEGIN:VEVENT
DTSTART;TZID=America/New_York:20261020T190000
DTEND;TZID=America/New_York:20261020T203000
DTSTAMP:20260425T115658
CREATED:20251217T195203Z
LAST-MODIFIED:20260312T184840Z
UID:10014981-1792522800-1792528200@fbctampa.org
SUMMARY:The Collective - Young Adult Worship
DESCRIPTION:The Collective on Tuesday nights is a gathering for young adults to worship\, dive into the Word\, and grow in fellowship. We also host guest Q&A sessions to deepen our faith and understanding. If you’re college-aged (18-26)\, come join us at 7pm as we seek to grow in Christ together!
URL:https://fbctampa.org/event/the-collective-tuesday-nights-2-2/2026-10-20/
ATTACH;FMTTYPE=image/png:https://fbctampa.org/wp-content/uploads/2025/02/TheCollectiveCollage.png
END:VEVENT
BEGIN:VEVENT
DTSTART;TZID=America/New_York:20261021T183000
DTEND;TZID=America/New_York:20261021T193000
DTSTAMP:20260425T115658
CREATED:20260302T194523Z
LAST-MODIFIED:20260309T150450Z
UID:10014835-1792607400-1792611000@fbctampa.org
SUMMARY:Discipleship Classes
DESCRIPTION:Our discipleship classes meet Wednesdays at 6:30 PM\, offering biblical teaching and practical guidance to help you grow in your faith. With classes for all ages and spiritual levels\, we encourage deeper study\, community\, and discipleship in Christ. To see what classes we have available\, follow the link below! \nDiscipleship Classes
URL:https://fbctampa.org/event/discipleship-classes/2026-10-21/
ATTACH;FMTTYPE=image/jpeg:https://fbctampa.org/wp-content/uploads/2025/02/wed-night-discipleship.jpg
END:VEVENT
BEGIN:VEVENT
DTSTART;TZID=America/New_York:20261021T193000
DTEND;TZID=America/New_York:20261021T203000
DTSTAMP:20260425T115658
CREATED:20250217T170633Z
LAST-MODIFIED:20260105T195023Z
UID:10014001-1792611000-1792614600@fbctampa.org
SUMMARY:Personnel Committee Meeting
DESCRIPTION:The Personnel Committee meeting will be held to discuss staffing\, volunteer needs\, and any other personnel matters.
URL:https://fbctampa.org/event/personnel-committee-meeting/2026-10-21/
LOCATION:4th Floor Loft\, 302 W Kennedy Blvd\, Tampa\, FL\, 33606\, United States
ATTACH;FMTTYPE=image/png:https://fbctampa.org/wp-content/uploads/2025/02/Untitled-design-55.png
END:VEVENT
BEGIN:VEVENT
DTSTART;TZID=America/New_York:20261022T190000
DTEND;TZID=America/New_York:20261022T210000
DTSTAMP:20260425T115658
CREATED:20260203T192840Z
LAST-MODIFIED:20260219T182337Z
UID:10014258-1792695600-1792702800@fbctampa.org
SUMMARY:Worship Band Practice
DESCRIPTION:The worship band gathers to rehearse in preparation for Sunday services.
URL:https://fbctampa.org/event/worship-band-practice-2/2026-10-22/
LOCATION:Sanctuary\, 302 W Kennedy Blvd\, Tampa\, FL\, 33606\, United States
ATTACH;FMTTYPE=image/jpeg:https://fbctampa.org/wp-content/uploads/2026/02/DSC05454-scaled.jpg
END:VEVENT
BEGIN:VEVENT
DTSTART;TZID=America/New_York:20261025T083000
DTEND;TZID=America/New_York:20261025T091500
DTSTAMP:20260425T115658
CREATED:20260203T190547Z
LAST-MODIFIED:20260219T183702Z
UID:10012724-1792917000-1792919700@fbctampa.org
SUMMARY:Sunday morning Thrive Cafe
DESCRIPTION:We offer a delicious and affordable breakfast every Sunday morning from 8:30 to 9:15 AM. It’s a great way to start the day before heading to Sunday Core Groups\, which meet from 9:30 to 10:30 AM.
URL:https://fbctampa.org/event/sunday-morning-thrive-cafe-2/2026-10-25/
ATTACH;FMTTYPE=image/jpeg:https://fbctampa.org/wp-content/uploads/2026/02/Thrive-Cafe-Slide-2026.jpg
END:VEVENT
BEGIN:VEVENT
DTSTART;TZID=America/New_York:20261025T093000
DTEND;TZID=America/New_York:20261025T103000
DTSTAMP:20260425T115658
CREATED:20260204T175714Z
LAST-MODIFIED:20260204T175714Z
UID:10000579-1792920600-1792924200@fbctampa.org
SUMMARY:Core Groups (Sunday School)
DESCRIPTION:Core Groups are where faith and community come together. These small gatherings provide a place to study God’s Word\, build relationships\, and grow spiritually. Whether you’re new to church or have been following Christ for years\, there’s a group for you!
URL:https://fbctampa.org/event/core-groups-sunday-school-2/2026-10-25/
ATTACH;FMTTYPE=image/jpeg:https://fbctampa.org/wp-content/uploads/2025/02/sunday-core-header.jpg
END:VEVENT
BEGIN:VEVENT
DTSTART;TZID=America/New_York:20261025T104500
DTEND;TZID=America/New_York:20261025T121500
DTSTAMP:20260425T115658
CREATED:20260204T175209Z
LAST-MODIFIED:20260204T175209Z
UID:10001430-1792925100-1792930500@fbctampa.org
SUMMARY:Corporate Worship
DESCRIPTION:Join us every Sunday morning as we gather to worship\, grow in God’s Word\, and encourage one another in faith. Our service includes Christ-centered worship\, biblical teaching\, and a welcoming community where you can connect and belong. Our gathering begins at 10:45am at 302 W Kennedy Blvd.
URL:https://fbctampa.org/event/sunday-morning-gathering-2-2/2026-10-25/
ATTACH;FMTTYPE=image/jpeg:https://fbctampa.org/wp-content/uploads/2025/02/new-here-header.jpg
END:VEVENT
BEGIN:VEVENT
DTSTART;TZID=America/New_York:20261027T190000
DTEND;TZID=America/New_York:20261027T203000
DTSTAMP:20260425T115658
CREATED:20251217T195203Z
LAST-MODIFIED:20260312T184840Z
UID:10014982-1793127600-1793133000@fbctampa.org
SUMMARY:The Collective - Young Adult Worship
DESCRIPTION:The Collective on Tuesday nights is a gathering for young adults to worship\, dive into the Word\, and grow in fellowship. We also host guest Q&A sessions to deepen our faith and understanding. If you’re college-aged (18-26)\, come join us at 7pm as we seek to grow in Christ together!
URL:https://fbctampa.org/event/the-collective-tuesday-nights-2-2/2026-10-27/
ATTACH;FMTTYPE=image/png:https://fbctampa.org/wp-content/uploads/2025/02/TheCollectiveCollage.png
END:VEVENT
BEGIN:VEVENT
DTSTART;TZID=America/New_York:20261028T183000
DTEND;TZID=America/New_York:20261028T193000
DTSTAMP:20260425T115658
CREATED:20260302T194523Z
LAST-MODIFIED:20260309T150450Z
UID:10014836-1793212200-1793215800@fbctampa.org
SUMMARY:Discipleship Classes
DESCRIPTION:Our discipleship classes meet Wednesdays at 6:30 PM\, offering biblical teaching and practical guidance to help you grow in your faith. With classes for all ages and spiritual levels\, we encourage deeper study\, community\, and discipleship in Christ. To see what classes we have available\, follow the link below! \nDiscipleship Classes
URL:https://fbctampa.org/event/discipleship-classes/2026-10-28/
ATTACH;FMTTYPE=image/jpeg:https://fbctampa.org/wp-content/uploads/2025/02/wed-night-discipleship.jpg
END:VEVENT
BEGIN:VEVENT
DTSTART;TZID=America/New_York:20261028T193000
DTEND;TZID=America/New_York:20261028T203000
DTSTAMP:20260425T115658
CREATED:20250217T181132Z
LAST-MODIFIED:20260107T172114Z
UID:10014056-1793215800-1793219400@fbctampa.org
SUMMARY:Property Committee Meeting
DESCRIPTION:The Property Committee will meet to discuss the maintenance\, improvements\, and needs of the church property.
URL:https://fbctampa.org/event/property-committee-meeting/2026-10-28/
LOCATION:4th Floor Loft\, 302 W Kennedy Blvd\, Tampa\, FL\, 33606\, United States
ATTACH;FMTTYPE=image/png:https://fbctampa.org/wp-content/uploads/2025/02/Untitled-design-55.png
END:VEVENT
BEGIN:VEVENT
DTSTART;TZID=America/New_York:20261029T190000
DTEND;TZID=America/New_York:20261029T210000
DTSTAMP:20260425T115658
CREATED:20260203T192840Z
LAST-MODIFIED:20260219T182337Z
UID:10014259-1793300400-1793307600@fbctampa.org
SUMMARY:Worship Band Practice
DESCRIPTION:The worship band gathers to rehearse in preparation for Sunday services.
URL:https://fbctampa.org/event/worship-band-practice-2/2026-10-29/
LOCATION:Sanctuary\, 302 W Kennedy Blvd\, Tampa\, FL\, 33606\, United States
ATTACH;FMTTYPE=image/jpeg:https://fbctampa.org/wp-content/uploads/2026/02/DSC05454-scaled.jpg
END:VEVENT
BEGIN:VEVENT
DTSTART;TZID=America/New_York:20261101T083000
DTEND;TZID=America/New_York:20261101T091500
DTSTAMP:20260425T115658
CREATED:20260203T190547Z
LAST-MODIFIED:20260219T183702Z
UID:10012725-1793521800-1793524500@fbctampa.org
SUMMARY:Sunday morning Thrive Cafe
DESCRIPTION:We offer a delicious and affordable breakfast every Sunday morning from 8:30 to 9:15 AM. It’s a great way to start the day before heading to Sunday Core Groups\, which meet from 9:30 to 10:30 AM.
URL:https://fbctampa.org/event/sunday-morning-thrive-cafe-2/2026-11-01/
ATTACH;FMTTYPE=image/jpeg:https://fbctampa.org/wp-content/uploads/2026/02/Thrive-Cafe-Slide-2026.jpg
END:VEVENT
BEGIN:VEVENT
DTSTART;TZID=America/New_York:20261101T093000
DTEND;TZID=America/New_York:20261101T103000
DTSTAMP:20260425T115658
CREATED:20260204T175714Z
LAST-MODIFIED:20260204T175714Z
UID:10000580-1793525400-1793529000@fbctampa.org
SUMMARY:Core Groups (Sunday School)
DESCRIPTION:Core Groups are where faith and community come together. These small gatherings provide a place to study God’s Word\, build relationships\, and grow spiritually. Whether you’re new to church or have been following Christ for years\, there’s a group for you!
URL:https://fbctampa.org/event/core-groups-sunday-school-2/2026-11-01/
ATTACH;FMTTYPE=image/jpeg:https://fbctampa.org/wp-content/uploads/2025/02/sunday-core-header.jpg
END:VEVENT
BEGIN:VEVENT
DTSTART;TZID=America/New_York:20261101T104500
DTEND;TZID=America/New_York:20261101T121500
DTSTAMP:20260425T115658
CREATED:20260204T175209Z
LAST-MODIFIED:20260204T175209Z
UID:10001431-1793529900-1793535300@fbctampa.org
SUMMARY:Corporate Worship
DESCRIPTION:Join us every Sunday morning as we gather to worship\, grow in God’s Word\, and encourage one another in faith. Our service includes Christ-centered worship\, biblical teaching\, and a welcoming community where you can connect and belong. Our gathering begins at 10:45am at 302 W Kennedy Blvd.
URL:https://fbctampa.org/event/sunday-morning-gathering-2-2/2026-11-01/
ATTACH;FMTTYPE=image/jpeg:https://fbctampa.org/wp-content/uploads/2025/02/new-here-header.jpg
END:VEVENT
BEGIN:VEVENT
DTSTART;TZID=America/New_York:20261103T190000
DTEND;TZID=America/New_York:20261103T203000
DTSTAMP:20260425T115658
CREATED:20251217T195203Z
LAST-MODIFIED:20260312T184840Z
UID:10014983-1793732400-1793737800@fbctampa.org
SUMMARY:The Collective - Young Adult Worship
DESCRIPTION:The Collective on Tuesday nights is a gathering for young adults to worship\, dive into the Word\, and grow in fellowship. We also host guest Q&A sessions to deepen our faith and understanding. If you’re college-aged (18-26)\, come join us at 7pm as we seek to grow in Christ together!
URL:https://fbctampa.org/event/the-collective-tuesday-nights-2-2/2026-11-03/
ATTACH;FMTTYPE=image/png:https://fbctampa.org/wp-content/uploads/2025/02/TheCollectiveCollage.png
END:VEVENT
BEGIN:VEVENT
DTSTART;TZID=America/New_York:20261104T183000
DTEND;TZID=America/New_York:20261104T193000
DTSTAMP:20260425T115658
CREATED:20260302T194523Z
LAST-MODIFIED:20260309T150450Z
UID:10014837-1793817000-1793820600@fbctampa.org
SUMMARY:Discipleship Classes
DESCRIPTION:Our discipleship classes meet Wednesdays at 6:30 PM\, offering biblical teaching and practical guidance to help you grow in your faith. With classes for all ages and spiritual levels\, we encourage deeper study\, community\, and discipleship in Christ. To see what classes we have available\, follow the link below! \nDiscipleship Classes
URL:https://fbctampa.org/event/discipleship-classes/2026-11-04/
ATTACH;FMTTYPE=image/jpeg:https://fbctampa.org/wp-content/uploads/2025/02/wed-night-discipleship.jpg
END:VEVENT
BEGIN:VEVENT
DTSTART;TZID=America/New_York:20261104T193000
DTEND;TZID=America/New_York:20261104T203000
DTSTAMP:20260425T115658
CREATED:20260105T200509Z
LAST-MODIFIED:20260107T164349Z
UID:10014046-1793820600-1793824200@fbctampa.org
SUMMARY:Deacon's Meeting
DESCRIPTION:The Deacons will meet to discuss church needs\, support efforts\, and ministry opportunities. This time is dedicated to serving and caring for the congregation and community.
URL:https://fbctampa.org/event/deacons-meeting-2/2026-11-04/
LOCATION:4th Floor Loft\, 302 W Kennedy Blvd\, Tampa\, FL\, 33606\, United States
ATTACH;FMTTYPE=image/jpeg:https://fbctampa.org/wp-content/uploads/2025/02/DeaconsMeeting-750x500-1.jpg
END:VEVENT
BEGIN:VEVENT
DTSTART;TZID=America/New_York:20261105T190000
DTEND;TZID=America/New_York:20261105T210000
DTSTAMP:20260425T115658
CREATED:20260203T192840Z
LAST-MODIFIED:20260219T182337Z
UID:10014260-1793905200-1793912400@fbctampa.org
SUMMARY:Worship Band Practice
DESCRIPTION:The worship band gathers to rehearse in preparation for Sunday services.
URL:https://fbctampa.org/event/worship-band-practice-2/2026-11-05/
LOCATION:Sanctuary\, 302 W Kennedy Blvd\, Tampa\, FL\, 33606\, United States
ATTACH;FMTTYPE=image/jpeg:https://fbctampa.org/wp-content/uploads/2026/02/DSC05454-scaled.jpg
END:VEVENT
BEGIN:VEVENT
DTSTART;TZID=America/New_York:20261108T083000
DTEND;TZID=America/New_York:20261108T091500
DTSTAMP:20260425T115658
CREATED:20260203T190547Z
LAST-MODIFIED:20260219T183702Z
UID:10012726-1794126600-1794129300@fbctampa.org
SUMMARY:Sunday morning Thrive Cafe
DESCRIPTION:We offer a delicious and affordable breakfast every Sunday morning from 8:30 to 9:15 AM. It’s a great way to start the day before heading to Sunday Core Groups\, which meet from 9:30 to 10:30 AM.
URL:https://fbctampa.org/event/sunday-morning-thrive-cafe-2/2026-11-08/
ATTACH;FMTTYPE=image/jpeg:https://fbctampa.org/wp-content/uploads/2026/02/Thrive-Cafe-Slide-2026.jpg
END:VEVENT
BEGIN:VEVENT
DTSTART;TZID=America/New_York:20261108T093000
DTEND;TZID=America/New_York:20261108T103000
DTSTAMP:20260425T115658
CREATED:20260204T175714Z
LAST-MODIFIED:20260204T175714Z
UID:10000581-1794130200-1794133800@fbctampa.org
SUMMARY:Core Groups (Sunday School)
DESCRIPTION:Core Groups are where faith and community come together. These small gatherings provide a place to study God’s Word\, build relationships\, and grow spiritually. Whether you’re new to church or have been following Christ for years\, there’s a group for you!
URL:https://fbctampa.org/event/core-groups-sunday-school-2/2026-11-08/
ATTACH;FMTTYPE=image/jpeg:https://fbctampa.org/wp-content/uploads/2025/02/sunday-core-header.jpg
END:VEVENT
BEGIN:VEVENT
DTSTART;TZID=America/New_York:20261108T104500
DTEND;TZID=America/New_York:20261108T121500
DTSTAMP:20260425T115658
CREATED:20260204T175209Z
LAST-MODIFIED:20260204T175209Z
UID:10001432-1794134700-1794140100@fbctampa.org
SUMMARY:Corporate Worship
DESCRIPTION:Join us every Sunday morning as we gather to worship\, grow in God’s Word\, and encourage one another in faith. Our service includes Christ-centered worship\, biblical teaching\, and a welcoming community where you can connect and belong. Our gathering begins at 10:45am at 302 W Kennedy Blvd.
URL:https://fbctampa.org/event/sunday-morning-gathering-2-2/2026-11-08/
ATTACH;FMTTYPE=image/jpeg:https://fbctampa.org/wp-content/uploads/2025/02/new-here-header.jpg
END:VEVENT
BEGIN:VEVENT
DTSTART;TZID=America/New_York:20261110T103000
DTEND;TZID=America/New_York:20261110T113000
DTSTAMP:20260425T115658
CREATED:20251103T164913Z
LAST-MODIFIED:20251103T164913Z
UID:10010596-1794306600-1794310200@fbctampa.org
SUMMARY:Women On Mission
DESCRIPTION:The Women on Mission meet to focus on missions\, outreach\, and service opportunities. Join us as we come together to pray\, plan\, and support local and global mission efforts.
URL:https://fbctampa.org/event/women-on-mission-3-2-2/2026-11-10/
LOCATION:4th Floor Loft\, 302 W Kennedy Blvd\, Tampa\, FL\, 33606\, United States
ATTACH;FMTTYPE=image/png:https://fbctampa.org/wp-content/uploads/2025/02/NewWOMSlide25.png
END:VEVENT
END:VCALENDAR