BEGIN:VCALENDAR
VERSION:2.0
PRODID:-//FBC Tampa - ECPv6.15.11//NONSGML v1.0//EN
CALSCALE:GREGORIAN
METHOD:PUBLISH
X-ORIGINAL-URL:https://fbctampa.org
X-WR-CALDESC:Events for FBC Tampa
REFRESH-INTERVAL;VALUE=DURATION:PT1H
X-Robots-Tag:noindex
X-PUBLISHED-TTL:PT1H
BEGIN:VTIMEZONE
TZID:America/New_York
BEGIN:DAYLIGHT
TZOFFSETFROM:-0500
TZOFFSETTO:-0400
TZNAME:EDT
DTSTART:20250309T070000
END:DAYLIGHT
BEGIN:STANDARD
TZOFFSETFROM:-0400
TZOFFSETTO:-0500
TZNAME:EST
DTSTART:20251102T060000
END:STANDARD
BEGIN:DAYLIGHT
TZOFFSETFROM:-0500
TZOFFSETTO:-0400
TZNAME:EDT
DTSTART:20260308T070000
END:DAYLIGHT
BEGIN:STANDARD
TZOFFSETFROM:-0400
TZOFFSETTO:-0500
TZNAME:EST
DTSTART:20261101T060000
END:STANDARD
BEGIN:DAYLIGHT
TZOFFSETFROM:-0500
TZOFFSETTO:-0400
TZNAME:EDT
DTSTART:20270314T070000
END:DAYLIGHT
BEGIN:STANDARD
TZOFFSETFROM:-0400
TZOFFSETTO:-0500
TZNAME:EST
DTSTART:20271107T060000
END:STANDARD
BEGIN:DAYLIGHT
TZOFFSETFROM:-0500
TZOFFSETTO:-0400
TZNAME:EDT
DTSTART:20280312T070000
END:DAYLIGHT
BEGIN:STANDARD
TZOFFSETFROM:-0400
TZOFFSETTO:-0500
TZNAME:EST
DTSTART:20281105T060000
END:STANDARD
END:VTIMEZONE
BEGIN:VEVENT
DTSTART;TZID=America/New_York:20261230T183000
DTEND;TZID=America/New_York:20261230T193000
DTSTAMP:20260425T174907
CREATED:20260302T194523Z
LAST-MODIFIED:20260309T150450Z
UID:10014845-1798655400-1798659000@fbctampa.org
SUMMARY:Discipleship Classes
DESCRIPTION:Our discipleship classes meet Wednesdays at 6:30 PM\, offering biblical teaching and practical guidance to help you grow in your faith. With classes for all ages and spiritual levels\, we encourage deeper study\, community\, and discipleship in Christ. To see what classes we have available\, follow the link below! \nDiscipleship Classes
URL:https://fbctampa.org/event/discipleship-classes/2026-12-30/
LOCATION:FL
ATTACH;FMTTYPE=image/jpeg:https://fbctampa.org/wp-content/uploads/2025/02/wed-night-discipleship.jpg
END:VEVENT
BEGIN:VEVENT
DTSTART;TZID=America/New_York:20270103T083000
DTEND;TZID=America/New_York:20270103T091500
DTSTAMP:20260425T174907
CREATED:20260203T190547Z
LAST-MODIFIED:20260219T183702Z
UID:10012734-1798965000-1798967700@fbctampa.org
SUMMARY:Sunday morning Thrive Cafe
DESCRIPTION:We offer a delicious and affordable breakfast every Sunday morning from 8:30 to 9:15 AM. It’s a great way to start the day before heading to Sunday Core Groups\, which meet from 9:30 to 10:30 AM.
URL:https://fbctampa.org/event/sunday-morning-thrive-cafe-2/2027-01-03/
LOCATION:FL
ATTACH;FMTTYPE=image/jpeg:https://fbctampa.org/wp-content/uploads/2026/02/Thrive-Cafe-Slide-2026.jpg
END:VEVENT
BEGIN:VEVENT
DTSTART;TZID=America/New_York:20270103T093000
DTEND;TZID=America/New_York:20270103T103000
DTSTAMP:20260425T174907
CREATED:20260204T175714Z
LAST-MODIFIED:20260204T175714Z
UID:10000589-1798968600-1798972200@fbctampa.org
SUMMARY:Core Groups (Sunday School)
DESCRIPTION:Core Groups are where faith and community come together. These small gatherings provide a place to study God’s Word\, build relationships\, and grow spiritually. Whether you’re new to church or have been following Christ for years\, there’s a group for you!
URL:https://fbctampa.org/event/core-groups-sunday-school-2/2027-01-03/
LOCATION:FL
ATTACH;FMTTYPE=image/jpeg:https://fbctampa.org/wp-content/uploads/2025/02/sunday-core-header.jpg
END:VEVENT
BEGIN:VEVENT
DTSTART;TZID=America/New_York:20270103T104500
DTEND;TZID=America/New_York:20270103T121500
DTSTAMP:20260425T174907
CREATED:20260204T175209Z
LAST-MODIFIED:20260204T175209Z
UID:10001440-1798973100-1798978500@fbctampa.org
SUMMARY:Corporate Worship
DESCRIPTION:Join us every Sunday morning as we gather to worship\, grow in God’s Word\, and encourage one another in faith. Our service includes Christ-centered worship\, biblical teaching\, and a welcoming community where you can connect and belong. Our gathering begins at 10:45am at 302 W Kennedy Blvd.
URL:https://fbctampa.org/event/sunday-morning-gathering-2-2/2027-01-03/
LOCATION:FL
ATTACH;FMTTYPE=image/jpeg:https://fbctampa.org/wp-content/uploads/2025/02/new-here-header.jpg
END:VEVENT
BEGIN:VEVENT
DTSTART;TZID=America/New_York:20270105T190000
DTEND;TZID=America/New_York:20270105T203000
DTSTAMP:20260425T174907
CREATED:20251217T195203Z
LAST-MODIFIED:20260312T184840Z
UID:10014992-1799175600-1799181000@fbctampa.org
SUMMARY:The Collective - Young Adult Worship
DESCRIPTION:The Collective on Tuesday nights is a gathering for young adults to worship\, dive into the Word\, and grow in fellowship. We also host guest Q&A sessions to deepen our faith and understanding. If you’re college-aged (18-26)\, come join us at 7pm as we seek to grow in Christ together!
URL:https://fbctampa.org/event/the-collective-tuesday-nights-2-2/2027-01-05/
LOCATION:FL
ATTACH;FMTTYPE=image/png:https://fbctampa.org/wp-content/uploads/2025/02/TheCollectiveCollage.png
END:VEVENT
BEGIN:VEVENT
DTSTART;TZID=America/New_York:20270106T183000
DTEND;TZID=America/New_York:20270106T193000
DTSTAMP:20260425T174907
CREATED:20260302T194523Z
LAST-MODIFIED:20260309T150450Z
UID:10014846-1799260200-1799263800@fbctampa.org
SUMMARY:Discipleship Classes
DESCRIPTION:Our discipleship classes meet Wednesdays at 6:30 PM\, offering biblical teaching and practical guidance to help you grow in your faith. With classes for all ages and spiritual levels\, we encourage deeper study\, community\, and discipleship in Christ. To see what classes we have available\, follow the link below! \nDiscipleship Classes
URL:https://fbctampa.org/event/discipleship-classes/2027-01-06/
LOCATION:FL
ATTACH;FMTTYPE=image/jpeg:https://fbctampa.org/wp-content/uploads/2025/02/wed-night-discipleship.jpg
END:VEVENT
BEGIN:VEVENT
DTSTART;TZID=America/New_York:20270106T193000
DTEND;TZID=America/New_York:20270106T203000
DTSTAMP:20260425T174907
CREATED:20260105T200509Z
LAST-MODIFIED:20260107T164349Z
UID:10014048-1799263800-1799267400@fbctampa.org
SUMMARY:Deacon's Meeting
DESCRIPTION:The Deacons will meet to discuss church needs\, support efforts\, and ministry opportunities. This time is dedicated to serving and caring for the congregation and community.
URL:https://fbctampa.org/event/deacons-meeting-2/2027-01-06/
LOCATION:4th Floor Loft\, 302 W Kennedy Blvd\, Tampa\, FL\, 33606\, United States
ATTACH;FMTTYPE=image/jpeg:https://fbctampa.org/wp-content/uploads/2025/02/DeaconsMeeting-750x500-1.jpg
END:VEVENT
BEGIN:VEVENT
DTSTART;TZID=America/New_York:20270110T083000
DTEND;TZID=America/New_York:20270110T091500
DTSTAMP:20260425T174907
CREATED:20260203T190547Z
LAST-MODIFIED:20260219T183702Z
UID:10012735-1799569800-1799572500@fbctampa.org
SUMMARY:Sunday morning Thrive Cafe
DESCRIPTION:We offer a delicious and affordable breakfast every Sunday morning from 8:30 to 9:15 AM. It’s a great way to start the day before heading to Sunday Core Groups\, which meet from 9:30 to 10:30 AM.
URL:https://fbctampa.org/event/sunday-morning-thrive-cafe-2/2027-01-10/
LOCATION:FL
ATTACH;FMTTYPE=image/jpeg:https://fbctampa.org/wp-content/uploads/2026/02/Thrive-Cafe-Slide-2026.jpg
END:VEVENT
BEGIN:VEVENT
DTSTART;TZID=America/New_York:20270110T093000
DTEND;TZID=America/New_York:20270110T103000
DTSTAMP:20260425T174907
CREATED:20260204T175714Z
LAST-MODIFIED:20260204T175714Z
UID:10000590-1799573400-1799577000@fbctampa.org
SUMMARY:Core Groups (Sunday School)
DESCRIPTION:Core Groups are where faith and community come together. These small gatherings provide a place to study God’s Word\, build relationships\, and grow spiritually. Whether you’re new to church or have been following Christ for years\, there’s a group for you!
URL:https://fbctampa.org/event/core-groups-sunday-school-2/2027-01-10/
LOCATION:FL
ATTACH;FMTTYPE=image/jpeg:https://fbctampa.org/wp-content/uploads/2025/02/sunday-core-header.jpg
END:VEVENT
BEGIN:VEVENT
DTSTART;TZID=America/New_York:20270110T104500
DTEND;TZID=America/New_York:20270110T121500
DTSTAMP:20260425T174907
CREATED:20260204T175209Z
LAST-MODIFIED:20260204T175209Z
UID:10001441-1799577900-1799583300@fbctampa.org
SUMMARY:Corporate Worship
DESCRIPTION:Join us every Sunday morning as we gather to worship\, grow in God’s Word\, and encourage one another in faith. Our service includes Christ-centered worship\, biblical teaching\, and a welcoming community where you can connect and belong. Our gathering begins at 10:45am at 302 W Kennedy Blvd.
URL:https://fbctampa.org/event/sunday-morning-gathering-2-2/2027-01-10/
LOCATION:FL
ATTACH;FMTTYPE=image/jpeg:https://fbctampa.org/wp-content/uploads/2025/02/new-here-header.jpg
END:VEVENT
BEGIN:VEVENT
DTSTART;TZID=America/New_York:20270112T103000
DTEND;TZID=America/New_York:20270112T113000
DTSTAMP:20260425T174907
CREATED:20251103T164913Z
LAST-MODIFIED:20251103T164913Z
UID:10010598-1799749800-1799753400@fbctampa.org
SUMMARY:Women On Mission
DESCRIPTION:The Women on Mission meet to focus on missions\, outreach\, and service opportunities. Join us as we come together to pray\, plan\, and support local and global mission efforts.
URL:https://fbctampa.org/event/women-on-mission-3-2-2/2027-01-12/
LOCATION:4th Floor Loft\, 302 W Kennedy Blvd\, Tampa\, FL\, 33606\, United States
ATTACH;FMTTYPE=image/png:https://fbctampa.org/wp-content/uploads/2025/02/NewWOMSlide25.png
END:VEVENT
BEGIN:VEVENT
DTSTART;TZID=America/New_York:20270112T190000
DTEND;TZID=America/New_York:20270112T203000
DTSTAMP:20260425T174907
CREATED:20251217T195203Z
LAST-MODIFIED:20260312T184840Z
UID:10014993-1799780400-1799785800@fbctampa.org
SUMMARY:The Collective - Young Adult Worship
DESCRIPTION:The Collective on Tuesday nights is a gathering for young adults to worship\, dive into the Word\, and grow in fellowship. We also host guest Q&A sessions to deepen our faith and understanding. If you’re college-aged (18-26)\, come join us at 7pm as we seek to grow in Christ together!
URL:https://fbctampa.org/event/the-collective-tuesday-nights-2-2/2027-01-12/
LOCATION:FL
ATTACH;FMTTYPE=image/png:https://fbctampa.org/wp-content/uploads/2025/02/TheCollectiveCollage.png
END:VEVENT
BEGIN:VEVENT
DTSTART;TZID=America/New_York:20270113T183000
DTEND;TZID=America/New_York:20270113T193000
DTSTAMP:20260425T174907
CREATED:20260302T194523Z
LAST-MODIFIED:20260309T150450Z
UID:10014847-1799865000-1799868600@fbctampa.org
SUMMARY:Discipleship Classes
DESCRIPTION:Our discipleship classes meet Wednesdays at 6:30 PM\, offering biblical teaching and practical guidance to help you grow in your faith. With classes for all ages and spiritual levels\, we encourage deeper study\, community\, and discipleship in Christ. To see what classes we have available\, follow the link below! \nDiscipleship Classes
URL:https://fbctampa.org/event/discipleship-classes/2027-01-13/
LOCATION:FL
ATTACH;FMTTYPE=image/jpeg:https://fbctampa.org/wp-content/uploads/2025/02/wed-night-discipleship.jpg
END:VEVENT
BEGIN:VEVENT
DTSTART;TZID=America/New_York:20270113T193000
DTEND;TZID=America/New_York:20270113T203000
DTSTAMP:20260425T174907
CREATED:20250730T172357Z
LAST-MODIFIED:20260105T194326Z
UID:10013991-1799868600-1799872200@fbctampa.org
SUMMARY:Missions Committee
DESCRIPTION:The Missions Committee will meet to discuss upcoming mission projects\, outreach opportunities\, and ways to support both local and global ministries.
URL:https://fbctampa.org/event/missions-committee-3/2027-01-13/
LOCATION:4th Floor Loft\, 302 W Kennedy Blvd\, Tampa\, FL\, 33606\, United States
ATTACH;FMTTYPE=image/png:https://fbctampa.org/wp-content/uploads/2025/02/Untitled-design-55.png
END:VEVENT
BEGIN:VEVENT
DTSTART;TZID=America/New_York:20270114T080000
DTEND;TZID=America/New_York:20270114T210000
DTSTAMP:20260425T174907
CREATED:20260209T190226Z
LAST-MODIFIED:20260209T190226Z
UID:10006439-1799913600-1799960400@fbctampa.org
SUMMARY:Men's Prayer Breakfast
DESCRIPTION:The Men’s Prayer Breakfast meets at Pach’s Place in the Tahitian Inn\, on the second Thursday of each month for fellowship\, prayer\, and encouragement. Join us as we gather to lift each other up in faith over a hearty breakfast. \n601 South Dale Mabry Hwy Tampa 33609
URL:https://fbctampa.org/event/mens-prayer-breakfast-3-2-2-3/2027-01-14/
LOCATION:FL
ATTACH;FMTTYPE=image/png:https://fbctampa.org/wp-content/uploads/2025/02/mens-brunch.png
END:VEVENT
BEGIN:VEVENT
DTSTART;TZID=America/New_York:20270117T083000
DTEND;TZID=America/New_York:20270117T091500
DTSTAMP:20260425T174907
CREATED:20260203T190547Z
LAST-MODIFIED:20260219T183702Z
UID:10012736-1800174600-1800177300@fbctampa.org
SUMMARY:Sunday morning Thrive Cafe
DESCRIPTION:We offer a delicious and affordable breakfast every Sunday morning from 8:30 to 9:15 AM. It’s a great way to start the day before heading to Sunday Core Groups\, which meet from 9:30 to 10:30 AM.
URL:https://fbctampa.org/event/sunday-morning-thrive-cafe-2/2027-01-17/
LOCATION:FL
ATTACH;FMTTYPE=image/jpeg:https://fbctampa.org/wp-content/uploads/2026/02/Thrive-Cafe-Slide-2026.jpg
END:VEVENT
BEGIN:VEVENT
DTSTART;TZID=America/New_York:20270117T093000
DTEND;TZID=America/New_York:20270117T103000
DTSTAMP:20260425T174907
CREATED:20260204T175714Z
LAST-MODIFIED:20260204T175714Z
UID:10000591-1800178200-1800181800@fbctampa.org
SUMMARY:Core Groups (Sunday School)
DESCRIPTION:Core Groups are where faith and community come together. These small gatherings provide a place to study God’s Word\, build relationships\, and grow spiritually. Whether you’re new to church or have been following Christ for years\, there’s a group for you!
URL:https://fbctampa.org/event/core-groups-sunday-school-2/2027-01-17/
LOCATION:FL
ATTACH;FMTTYPE=image/jpeg:https://fbctampa.org/wp-content/uploads/2025/02/sunday-core-header.jpg
END:VEVENT
BEGIN:VEVENT
DTSTART;TZID=America/New_York:20270117T104500
DTEND;TZID=America/New_York:20270117T121500
DTSTAMP:20260425T174907
CREATED:20260204T175209Z
LAST-MODIFIED:20260204T175209Z
UID:10001442-1800182700-1800188100@fbctampa.org
SUMMARY:Corporate Worship
DESCRIPTION:Join us every Sunday morning as we gather to worship\, grow in God’s Word\, and encourage one another in faith. Our service includes Christ-centered worship\, biblical teaching\, and a welcoming community where you can connect and belong. Our gathering begins at 10:45am at 302 W Kennedy Blvd.
URL:https://fbctampa.org/event/sunday-morning-gathering-2-2/2027-01-17/
LOCATION:FL
ATTACH;FMTTYPE=image/jpeg:https://fbctampa.org/wp-content/uploads/2025/02/new-here-header.jpg
END:VEVENT
BEGIN:VEVENT
DTSTART;TZID=America/New_York:20270117T123000
DTEND;TZID=America/New_York:20270117T133000
DTSTAMP:20260425T174907
CREATED:20250730T172542Z
LAST-MODIFIED:20260105T195812Z
UID:10014023-1800189000-1800192600@fbctampa.org
SUMMARY:Stewardship Committee
DESCRIPTION:The Stewardship Committee will meet to discuss financial planning\, budgeting\, and ways to encourage faithful giving and stewardship within the church.
URL:https://fbctampa.org/event/stewardship-committee-2/2027-01-17/
LOCATION:4th Floor Loft\, 302 W Kennedy Blvd\, Tampa\, FL\, 33606\, United States
ATTACH;FMTTYPE=image/png:https://fbctampa.org/wp-content/uploads/2025/02/Untitled-design-55.png
END:VEVENT
BEGIN:VEVENT
DTSTART;TZID=America/New_York:20270119T190000
DTEND;TZID=America/New_York:20270119T203000
DTSTAMP:20260425T174907
CREATED:20251217T195203Z
LAST-MODIFIED:20260312T184840Z
UID:10014994-1800385200-1800390600@fbctampa.org
SUMMARY:The Collective - Young Adult Worship
DESCRIPTION:The Collective on Tuesday nights is a gathering for young adults to worship\, dive into the Word\, and grow in fellowship. We also host guest Q&A sessions to deepen our faith and understanding. If you’re college-aged (18-26)\, come join us at 7pm as we seek to grow in Christ together!
URL:https://fbctampa.org/event/the-collective-tuesday-nights-2-2/2027-01-19/
LOCATION:FL
ATTACH;FMTTYPE=image/png:https://fbctampa.org/wp-content/uploads/2025/02/TheCollectiveCollage.png
END:VEVENT
BEGIN:VEVENT
DTSTART;TZID=America/New_York:20270120T183000
DTEND;TZID=America/New_York:20270120T193000
DTSTAMP:20260425T174907
CREATED:20260302T194523Z
LAST-MODIFIED:20260309T150450Z
UID:10014848-1800469800-1800473400@fbctampa.org
SUMMARY:Discipleship Classes
DESCRIPTION:Our discipleship classes meet Wednesdays at 6:30 PM\, offering biblical teaching and practical guidance to help you grow in your faith. With classes for all ages and spiritual levels\, we encourage deeper study\, community\, and discipleship in Christ. To see what classes we have available\, follow the link below! \nDiscipleship Classes
URL:https://fbctampa.org/event/discipleship-classes/2027-01-20/
LOCATION:FL
ATTACH;FMTTYPE=image/jpeg:https://fbctampa.org/wp-content/uploads/2025/02/wed-night-discipleship.jpg
END:VEVENT
BEGIN:VEVENT
DTSTART;TZID=America/New_York:20270120T193000
DTEND;TZID=America/New_York:20270120T203000
DTSTAMP:20260425T174907
CREATED:20250217T170633Z
LAST-MODIFIED:20260105T195023Z
UID:10014004-1800473400-1800477000@fbctampa.org
SUMMARY:Personnel Committee Meeting
DESCRIPTION:The Personnel Committee meeting will be held to discuss staffing\, volunteer needs\, and any other personnel matters.
URL:https://fbctampa.org/event/personnel-committee-meeting/2027-01-20/
LOCATION:4th Floor Loft\, 302 W Kennedy Blvd\, Tampa\, FL\, 33606\, United States
ATTACH;FMTTYPE=image/png:https://fbctampa.org/wp-content/uploads/2025/02/Untitled-design-55.png
END:VEVENT
BEGIN:VEVENT
DTSTART;TZID=America/New_York:20270124T083000
DTEND;TZID=America/New_York:20270124T091500
DTSTAMP:20260425T174907
CREATED:20260203T190547Z
LAST-MODIFIED:20260219T183702Z
UID:10012737-1800779400-1800782100@fbctampa.org
SUMMARY:Sunday morning Thrive Cafe
DESCRIPTION:We offer a delicious and affordable breakfast every Sunday morning from 8:30 to 9:15 AM. It’s a great way to start the day before heading to Sunday Core Groups\, which meet from 9:30 to 10:30 AM.
URL:https://fbctampa.org/event/sunday-morning-thrive-cafe-2/2027-01-24/
LOCATION:FL
ATTACH;FMTTYPE=image/jpeg:https://fbctampa.org/wp-content/uploads/2026/02/Thrive-Cafe-Slide-2026.jpg
END:VEVENT
BEGIN:VEVENT
DTSTART;TZID=America/New_York:20270124T093000
DTEND;TZID=America/New_York:20270124T103000
DTSTAMP:20260425T174907
CREATED:20260204T175714Z
LAST-MODIFIED:20260204T175714Z
UID:10000592-1800783000-1800786600@fbctampa.org
SUMMARY:Core Groups (Sunday School)
DESCRIPTION:Core Groups are where faith and community come together. These small gatherings provide a place to study God’s Word\, build relationships\, and grow spiritually. Whether you’re new to church or have been following Christ for years\, there’s a group for you!
URL:https://fbctampa.org/event/core-groups-sunday-school-2/2027-01-24/
LOCATION:FL
ATTACH;FMTTYPE=image/jpeg:https://fbctampa.org/wp-content/uploads/2025/02/sunday-core-header.jpg
END:VEVENT
BEGIN:VEVENT
DTSTART;TZID=America/New_York:20270124T104500
DTEND;TZID=America/New_York:20270124T121500
DTSTAMP:20260425T174907
CREATED:20260204T175209Z
LAST-MODIFIED:20260204T175209Z
UID:10001443-1800787500-1800792900@fbctampa.org
SUMMARY:Corporate Worship
DESCRIPTION:Join us every Sunday morning as we gather to worship\, grow in God’s Word\, and encourage one another in faith. Our service includes Christ-centered worship\, biblical teaching\, and a welcoming community where you can connect and belong. Our gathering begins at 10:45am at 302 W Kennedy Blvd.
URL:https://fbctampa.org/event/sunday-morning-gathering-2-2/2027-01-24/
LOCATION:FL
ATTACH;FMTTYPE=image/jpeg:https://fbctampa.org/wp-content/uploads/2025/02/new-here-header.jpg
END:VEVENT
BEGIN:VEVENT
DTSTART;TZID=America/New_York:20270126T190000
DTEND;TZID=America/New_York:20270126T203000
DTSTAMP:20260425T174907
CREATED:20251217T195203Z
LAST-MODIFIED:20260312T184840Z
UID:10014995-1800990000-1800995400@fbctampa.org
SUMMARY:The Collective - Young Adult Worship
DESCRIPTION:The Collective on Tuesday nights is a gathering for young adults to worship\, dive into the Word\, and grow in fellowship. We also host guest Q&A sessions to deepen our faith and understanding. If you’re college-aged (18-26)\, come join us at 7pm as we seek to grow in Christ together!
URL:https://fbctampa.org/event/the-collective-tuesday-nights-2-2/2027-01-26/
LOCATION:FL
ATTACH;FMTTYPE=image/png:https://fbctampa.org/wp-content/uploads/2025/02/TheCollectiveCollage.png
END:VEVENT
BEGIN:VEVENT
DTSTART;TZID=America/New_York:20270127T183000
DTEND;TZID=America/New_York:20270127T193000
DTSTAMP:20260425T174907
CREATED:20260302T194523Z
LAST-MODIFIED:20260309T150450Z
UID:10014849-1801074600-1801078200@fbctampa.org
SUMMARY:Discipleship Classes
DESCRIPTION:Our discipleship classes meet Wednesdays at 6:30 PM\, offering biblical teaching and practical guidance to help you grow in your faith. With classes for all ages and spiritual levels\, we encourage deeper study\, community\, and discipleship in Christ. To see what classes we have available\, follow the link below! \nDiscipleship Classes
URL:https://fbctampa.org/event/discipleship-classes/2027-01-27/
LOCATION:FL
ATTACH;FMTTYPE=image/jpeg:https://fbctampa.org/wp-content/uploads/2025/02/wed-night-discipleship.jpg
END:VEVENT
BEGIN:VEVENT
DTSTART;TZID=America/New_York:20270127T193000
DTEND;TZID=America/New_York:20270127T203000
DTSTAMP:20260425T174907
CREATED:20260107T173441Z
LAST-MODIFIED:20260107T173920Z
UID:10014142-1801078200-1801081800@fbctampa.org
SUMMARY:320 Building Committe Meeting
DESCRIPTION:The 320 Committee Building will meet to discuss the maintenance\, improvements\, and needs of the property.
URL:https://fbctampa.org/event/320-building-committe-meeting-2/2027-01-27/
LOCATION:4th Floor Loft\, 302 W Kennedy Blvd\, Tampa\, FL\, 33606\, United States
END:VEVENT
BEGIN:VEVENT
DTSTART;TZID=America/New_York:20270130T080000
DTEND;TZID=America/New_York:20270205T170000
DTSTAMP:20260425T174907
CREATED:20260423T180528Z
LAST-MODIFIED:20260423T180633Z
UID:10015030-1801296000-1801846800@fbctampa.org
SUMMARY:Dominican Republic Mission Trip
DESCRIPTION:Join us in 2027 for a mission trip to the Dominican Republic from January 30 – February 5! It’s always a blessed time to share the Gospel\, build meaningful connections\, and use our God-given gifts to serve others abroad. \nMore details will be shared in the coming months—we hope you’ll prayerfully consider being part of this impactful journey!
URL:https://fbctampa.org/event/dominican-republic-mission-trip/
LOCATION:FL
ATTACH;FMTTYPE=image/svg+xml:https://fbctampa.org/wp-content/uploads/2025/02/dominican-republic-outline.svg
END:VEVENT
BEGIN:VEVENT
DTSTART;TZID=America/New_York:20270131T083000
DTEND;TZID=America/New_York:20270131T091500
DTSTAMP:20260425T174907
CREATED:20260203T190547Z
LAST-MODIFIED:20260219T183702Z
UID:10012738-1801384200-1801386900@fbctampa.org
SUMMARY:Sunday morning Thrive Cafe
DESCRIPTION:We offer a delicious and affordable breakfast every Sunday morning from 8:30 to 9:15 AM. It’s a great way to start the day before heading to Sunday Core Groups\, which meet from 9:30 to 10:30 AM.
URL:https://fbctampa.org/event/sunday-morning-thrive-cafe-2/2027-01-31/
LOCATION:FL
ATTACH;FMTTYPE=image/jpeg:https://fbctampa.org/wp-content/uploads/2026/02/Thrive-Cafe-Slide-2026.jpg
END:VEVENT
END:VCALENDAR