BEGIN:VCALENDAR
VERSION:2.0
PRODID:-//FBC Tampa - ECPv6.15.11//NONSGML v1.0//EN
CALSCALE:GREGORIAN
METHOD:PUBLISH
X-WR-CALNAME:FBC Tampa
X-ORIGINAL-URL:https://fbctampa.org
X-WR-CALDESC:Events for FBC Tampa
REFRESH-INTERVAL;VALUE=DURATION:PT1H
X-Robots-Tag:noindex
X-PUBLISHED-TTL:PT1H
BEGIN:VTIMEZONE
TZID:America/New_York
BEGIN:DAYLIGHT
TZOFFSETFROM:-0500
TZOFFSETTO:-0400
TZNAME:EDT
DTSTART:20260308T070000
END:DAYLIGHT
BEGIN:STANDARD
TZOFFSETFROM:-0400
TZOFFSETTO:-0500
TZNAME:EST
DTSTART:20261101T060000
END:STANDARD
BEGIN:DAYLIGHT
TZOFFSETFROM:-0500
TZOFFSETTO:-0400
TZNAME:EDT
DTSTART:20270314T070000
END:DAYLIGHT
BEGIN:STANDARD
TZOFFSETFROM:-0400
TZOFFSETTO:-0500
TZNAME:EST
DTSTART:20271107T060000
END:STANDARD
BEGIN:DAYLIGHT
TZOFFSETFROM:-0500
TZOFFSETTO:-0400
TZNAME:EDT
DTSTART:20280312T070000
END:DAYLIGHT
BEGIN:STANDARD
TZOFFSETFROM:-0400
TZOFFSETTO:-0500
TZNAME:EST
DTSTART:20281105T060000
END:STANDARD
END:VTIMEZONE
BEGIN:VEVENT
DTSTART;TZID=America/New_York:20270408T080000
DTEND;TZID=America/New_York:20270408T210000
DTSTAMP:20260425T221723
CREATED:20260209T190226Z
LAST-MODIFIED:20260209T190226Z
UID:10006442-1807171200-1807218000@fbctampa.org
SUMMARY:Men's Prayer Breakfast
DESCRIPTION:The Men’s Prayer Breakfast meets at Pach’s Place in the Tahitian Inn\, on the second Thursday of each month for fellowship\, prayer\, and encouragement. Join us as we gather to lift each other up in faith over a hearty breakfast. \n601 South Dale Mabry Hwy Tampa 33609
URL:https://fbctampa.org/event/mens-prayer-breakfast-3-2-2-3/2027-04-08/
ATTACH;FMTTYPE=image/png:https://fbctampa.org/wp-content/uploads/2025/02/mens-brunch.png
END:VEVENT
BEGIN:VEVENT
DTSTART;TZID=America/New_York:20270411T083000
DTEND;TZID=America/New_York:20270411T091500
DTSTAMP:20260425T221723
CREATED:20260203T190547Z
LAST-MODIFIED:20260219T183702Z
UID:10012748-1807432200-1807434900@fbctampa.org
SUMMARY:Sunday morning Thrive Cafe
DESCRIPTION:We offer a delicious and affordable breakfast every Sunday morning from 8:30 to 9:15 AM. It’s a great way to start the day before heading to Sunday Core Groups\, which meet from 9:30 to 10:30 AM.
URL:https://fbctampa.org/event/sunday-morning-thrive-cafe-2/2027-04-11/
ATTACH;FMTTYPE=image/jpeg:https://fbctampa.org/wp-content/uploads/2026/02/Thrive-Cafe-Slide-2026.jpg
END:VEVENT
BEGIN:VEVENT
DTSTART;TZID=America/New_York:20270411T093000
DTEND;TZID=America/New_York:20270411T103000
DTSTAMP:20260425T221723
CREATED:20260204T175714Z
LAST-MODIFIED:20260204T175714Z
UID:10000603-1807435800-1807439400@fbctampa.org
SUMMARY:Core Groups (Sunday School)
DESCRIPTION:Core Groups are where faith and community come together. These small gatherings provide a place to study God’s Word\, build relationships\, and grow spiritually. Whether you’re new to church or have been following Christ for years\, there’s a group for you!
URL:https://fbctampa.org/event/core-groups-sunday-school-2/2027-04-11/
ATTACH;FMTTYPE=image/jpeg:https://fbctampa.org/wp-content/uploads/2025/02/sunday-core-header.jpg
END:VEVENT
BEGIN:VEVENT
DTSTART;TZID=America/New_York:20270411T104500
DTEND;TZID=America/New_York:20270411T121500
DTSTAMP:20260425T221723
CREATED:20260204T175209Z
LAST-MODIFIED:20260204T175209Z
UID:10001454-1807440300-1807445700@fbctampa.org
SUMMARY:Corporate Worship
DESCRIPTION:Join us every Sunday morning as we gather to worship\, grow in God’s Word\, and encourage one another in faith. Our service includes Christ-centered worship\, biblical teaching\, and a welcoming community where you can connect and belong. Our gathering begins at 10:45am at 302 W Kennedy Blvd.
URL:https://fbctampa.org/event/sunday-morning-gathering-2-2/2027-04-11/
ATTACH;FMTTYPE=image/jpeg:https://fbctampa.org/wp-content/uploads/2025/02/new-here-header.jpg
END:VEVENT
BEGIN:VEVENT
DTSTART;TZID=America/New_York:20270413T103000
DTEND;TZID=America/New_York:20270413T113000
DTSTAMP:20260425T221723
CREATED:20251103T164913Z
LAST-MODIFIED:20251103T164913Z
UID:10010601-1807612200-1807615800@fbctampa.org
SUMMARY:Women On Mission
DESCRIPTION:The Women on Mission meet to focus on missions\, outreach\, and service opportunities. Join us as we come together to pray\, plan\, and support local and global mission efforts.
URL:https://fbctampa.org/event/women-on-mission-3-2-2/2027-04-13/
LOCATION:4th Floor Loft\, 302 W Kennedy Blvd\, Tampa\, FL\, 33606\, United States
ATTACH;FMTTYPE=image/png:https://fbctampa.org/wp-content/uploads/2025/02/NewWOMSlide25.png
END:VEVENT
BEGIN:VEVENT
DTSTART;TZID=America/New_York:20270413T190000
DTEND;TZID=America/New_York:20270413T203000
DTSTAMP:20260425T221723
CREATED:20251217T195203Z
LAST-MODIFIED:20260312T184840Z
UID:10015006-1807642800-1807648200@fbctampa.org
SUMMARY:The Collective - Young Adult Worship
DESCRIPTION:The Collective on Tuesday nights is a gathering for young adults to worship\, dive into the Word\, and grow in fellowship. We also host guest Q&A sessions to deepen our faith and understanding. If you’re college-aged (18-26)\, come join us at 7pm as we seek to grow in Christ together!
URL:https://fbctampa.org/event/the-collective-tuesday-nights-2-2/2027-04-13/
ATTACH;FMTTYPE=image/png:https://fbctampa.org/wp-content/uploads/2025/02/TheCollectiveCollage.png
END:VEVENT
BEGIN:VEVENT
DTSTART;TZID=America/New_York:20270414T183000
DTEND;TZID=America/New_York:20270414T193000
DTSTAMP:20260425T221723
CREATED:20260302T194523Z
LAST-MODIFIED:20260309T150450Z
UID:10014860-1807727400-1807731000@fbctampa.org
SUMMARY:Discipleship Classes
DESCRIPTION:Our discipleship classes meet Wednesdays at 6:30 PM\, offering biblical teaching and practical guidance to help you grow in your faith. With classes for all ages and spiritual levels\, we encourage deeper study\, community\, and discipleship in Christ. To see what classes we have available\, follow the link below! \nDiscipleship Classes
URL:https://fbctampa.org/event/discipleship-classes/2027-04-14/
ATTACH;FMTTYPE=image/jpeg:https://fbctampa.org/wp-content/uploads/2025/02/wed-night-discipleship.jpg
END:VEVENT
BEGIN:VEVENT
DTSTART;TZID=America/New_York:20270418T083000
DTEND;TZID=America/New_York:20270418T091500
DTSTAMP:20260425T221723
CREATED:20260203T190547Z
LAST-MODIFIED:20260219T183702Z
UID:10012749-1808037000-1808039700@fbctampa.org
SUMMARY:Sunday morning Thrive Cafe
DESCRIPTION:We offer a delicious and affordable breakfast every Sunday morning from 8:30 to 9:15 AM. It’s a great way to start the day before heading to Sunday Core Groups\, which meet from 9:30 to 10:30 AM.
URL:https://fbctampa.org/event/sunday-morning-thrive-cafe-2/2027-04-18/
ATTACH;FMTTYPE=image/jpeg:https://fbctampa.org/wp-content/uploads/2026/02/Thrive-Cafe-Slide-2026.jpg
END:VEVENT
BEGIN:VEVENT
DTSTART;TZID=America/New_York:20270418T093000
DTEND;TZID=America/New_York:20270418T103000
DTSTAMP:20260425T221723
CREATED:20260204T175714Z
LAST-MODIFIED:20260204T175714Z
UID:10000604-1808040600-1808044200@fbctampa.org
SUMMARY:Core Groups (Sunday School)
DESCRIPTION:Core Groups are where faith and community come together. These small gatherings provide a place to study God’s Word\, build relationships\, and grow spiritually. Whether you’re new to church or have been following Christ for years\, there’s a group for you!
URL:https://fbctampa.org/event/core-groups-sunday-school-2/2027-04-18/
ATTACH;FMTTYPE=image/jpeg:https://fbctampa.org/wp-content/uploads/2025/02/sunday-core-header.jpg
END:VEVENT
BEGIN:VEVENT
DTSTART;TZID=America/New_York:20270418T104500
DTEND;TZID=America/New_York:20270418T121500
DTSTAMP:20260425T221723
CREATED:20260204T175209Z
LAST-MODIFIED:20260204T175209Z
UID:10001455-1808045100-1808050500@fbctampa.org
SUMMARY:Corporate Worship
DESCRIPTION:Join us every Sunday morning as we gather to worship\, grow in God’s Word\, and encourage one another in faith. Our service includes Christ-centered worship\, biblical teaching\, and a welcoming community where you can connect and belong. Our gathering begins at 10:45am at 302 W Kennedy Blvd.
URL:https://fbctampa.org/event/sunday-morning-gathering-2-2/2027-04-18/
ATTACH;FMTTYPE=image/jpeg:https://fbctampa.org/wp-content/uploads/2025/02/new-here-header.jpg
END:VEVENT
BEGIN:VEVENT
DTSTART;TZID=America/New_York:20270420T190000
DTEND;TZID=America/New_York:20270420T203000
DTSTAMP:20260425T221723
CREATED:20251217T195203Z
LAST-MODIFIED:20260312T184840Z
UID:10015007-1808247600-1808253000@fbctampa.org
SUMMARY:The Collective - Young Adult Worship
DESCRIPTION:The Collective on Tuesday nights is a gathering for young adults to worship\, dive into the Word\, and grow in fellowship. We also host guest Q&A sessions to deepen our faith and understanding. If you’re college-aged (18-26)\, come join us at 7pm as we seek to grow in Christ together!
URL:https://fbctampa.org/event/the-collective-tuesday-nights-2-2/2027-04-20/
ATTACH;FMTTYPE=image/png:https://fbctampa.org/wp-content/uploads/2025/02/TheCollectiveCollage.png
END:VEVENT
BEGIN:VEVENT
DTSTART;TZID=America/New_York:20270421T183000
DTEND;TZID=America/New_York:20270421T193000
DTSTAMP:20260425T221723
CREATED:20260302T194523Z
LAST-MODIFIED:20260309T150450Z
UID:10014861-1808332200-1808335800@fbctampa.org
SUMMARY:Discipleship Classes
DESCRIPTION:Our discipleship classes meet Wednesdays at 6:30 PM\, offering biblical teaching and practical guidance to help you grow in your faith. With classes for all ages and spiritual levels\, we encourage deeper study\, community\, and discipleship in Christ. To see what classes we have available\, follow the link below! \nDiscipleship Classes
URL:https://fbctampa.org/event/discipleship-classes/2027-04-21/
ATTACH;FMTTYPE=image/jpeg:https://fbctampa.org/wp-content/uploads/2025/02/wed-night-discipleship.jpg
END:VEVENT
BEGIN:VEVENT
DTSTART;TZID=America/New_York:20270425T083000
DTEND;TZID=America/New_York:20270425T091500
DTSTAMP:20260425T221723
CREATED:20260203T190547Z
LAST-MODIFIED:20260219T183702Z
UID:10012750-1808641800-1808644500@fbctampa.org
SUMMARY:Sunday morning Thrive Cafe
DESCRIPTION:We offer a delicious and affordable breakfast every Sunday morning from 8:30 to 9:15 AM. It’s a great way to start the day before heading to Sunday Core Groups\, which meet from 9:30 to 10:30 AM.
URL:https://fbctampa.org/event/sunday-morning-thrive-cafe-2/2027-04-25/
ATTACH;FMTTYPE=image/jpeg:https://fbctampa.org/wp-content/uploads/2026/02/Thrive-Cafe-Slide-2026.jpg
END:VEVENT
BEGIN:VEVENT
DTSTART;TZID=America/New_York:20270425T093000
DTEND;TZID=America/New_York:20270425T103000
DTSTAMP:20260425T221723
CREATED:20260204T175714Z
LAST-MODIFIED:20260204T175714Z
UID:10000605-1808645400-1808649000@fbctampa.org
SUMMARY:Core Groups (Sunday School)
DESCRIPTION:Core Groups are where faith and community come together. These small gatherings provide a place to study God’s Word\, build relationships\, and grow spiritually. Whether you’re new to church or have been following Christ for years\, there’s a group for you!
URL:https://fbctampa.org/event/core-groups-sunday-school-2/2027-04-25/
ATTACH;FMTTYPE=image/jpeg:https://fbctampa.org/wp-content/uploads/2025/02/sunday-core-header.jpg
END:VEVENT
BEGIN:VEVENT
DTSTART;TZID=America/New_York:20270425T104500
DTEND;TZID=America/New_York:20270425T121500
DTSTAMP:20260425T221723
CREATED:20260204T175209Z
LAST-MODIFIED:20260204T175209Z
UID:10001456-1808649900-1808655300@fbctampa.org
SUMMARY:Corporate Worship
DESCRIPTION:Join us every Sunday morning as we gather to worship\, grow in God’s Word\, and encourage one another in faith. Our service includes Christ-centered worship\, biblical teaching\, and a welcoming community where you can connect and belong. Our gathering begins at 10:45am at 302 W Kennedy Blvd.
URL:https://fbctampa.org/event/sunday-morning-gathering-2-2/2027-04-25/
ATTACH;FMTTYPE=image/jpeg:https://fbctampa.org/wp-content/uploads/2025/02/new-here-header.jpg
END:VEVENT
BEGIN:VEVENT
DTSTART;TZID=America/New_York:20270427T190000
DTEND;TZID=America/New_York:20270427T203000
DTSTAMP:20260425T221723
CREATED:20251217T195203Z
LAST-MODIFIED:20260312T184840Z
UID:10015008-1808852400-1808857800@fbctampa.org
SUMMARY:The Collective - Young Adult Worship
DESCRIPTION:The Collective on Tuesday nights is a gathering for young adults to worship\, dive into the Word\, and grow in fellowship. We also host guest Q&A sessions to deepen our faith and understanding. If you’re college-aged (18-26)\, come join us at 7pm as we seek to grow in Christ together!
URL:https://fbctampa.org/event/the-collective-tuesday-nights-2-2/2027-04-27/
ATTACH;FMTTYPE=image/png:https://fbctampa.org/wp-content/uploads/2025/02/TheCollectiveCollage.png
END:VEVENT
BEGIN:VEVENT
DTSTART;TZID=America/New_York:20270428T183000
DTEND;TZID=America/New_York:20270428T193000
DTSTAMP:20260425T221723
CREATED:20260302T194523Z
LAST-MODIFIED:20260309T150450Z
UID:10014862-1808937000-1808940600@fbctampa.org
SUMMARY:Discipleship Classes
DESCRIPTION:Our discipleship classes meet Wednesdays at 6:30 PM\, offering biblical teaching and practical guidance to help you grow in your faith. With classes for all ages and spiritual levels\, we encourage deeper study\, community\, and discipleship in Christ. To see what classes we have available\, follow the link below! \nDiscipleship Classes
URL:https://fbctampa.org/event/discipleship-classes/2027-04-28/
ATTACH;FMTTYPE=image/jpeg:https://fbctampa.org/wp-content/uploads/2025/02/wed-night-discipleship.jpg
END:VEVENT
BEGIN:VEVENT
DTSTART;TZID=America/New_York:20270428T193000
DTEND;TZID=America/New_York:20270428T203000
DTSTAMP:20260425T221723
CREATED:20250217T181132Z
LAST-MODIFIED:20260107T172114Z
UID:10014060-1808940600-1808944200@fbctampa.org
SUMMARY:Property Committee Meeting
DESCRIPTION:The Property Committee will meet to discuss the maintenance\, improvements\, and needs of the church property.
URL:https://fbctampa.org/event/property-committee-meeting/2027-04-28/
LOCATION:4th Floor Loft\, 302 W Kennedy Blvd\, Tampa\, FL\, 33606\, United States
ATTACH;FMTTYPE=image/png:https://fbctampa.org/wp-content/uploads/2025/02/Untitled-design-55.png
END:VEVENT
BEGIN:VEVENT
DTSTART;TZID=America/New_York:20270501T080000
DTEND;TZID=America/New_York:20270501T170000
DTSTAMP:20260425T221723
CREATED:20260423T185049Z
LAST-MODIFIED:20260423T190733Z
UID:10015031-1809158400-1809190800@fbctampa.org
SUMMARY:Honduras Mission Trip May 2027
DESCRIPTION:A team of our church members and staff will be traveling to Honduras in May 2027 for a mission trip centered on sharing the love and hope of Jesus. While there\, they will partner with local churches and ministries to serve communities through evangelism\, discipleship\, and practical outreach. \nAdditional details about the trip will be shared in the coming months—please stay tuned for updates and ways you can get involved.
URL:https://fbctampa.org/event/honduras-mission-trip-may-2027/
ATTACH;FMTTYPE=image/png:https://fbctampa.org/wp-content/uploads/2026/04/Picture1.png
END:VEVENT
BEGIN:VEVENT
DTSTART;TZID=America/New_York:20270502T083000
DTEND;TZID=America/New_York:20270502T091500
DTSTAMP:20260425T221723
CREATED:20260203T190547Z
LAST-MODIFIED:20260219T183702Z
UID:10012751-1809246600-1809249300@fbctampa.org
SUMMARY:Sunday morning Thrive Cafe
DESCRIPTION:We offer a delicious and affordable breakfast every Sunday morning from 8:30 to 9:15 AM. It’s a great way to start the day before heading to Sunday Core Groups\, which meet from 9:30 to 10:30 AM.
URL:https://fbctampa.org/event/sunday-morning-thrive-cafe-2/2027-05-02/
ATTACH;FMTTYPE=image/jpeg:https://fbctampa.org/wp-content/uploads/2026/02/Thrive-Cafe-Slide-2026.jpg
END:VEVENT
BEGIN:VEVENT
DTSTART;TZID=America/New_York:20270502T093000
DTEND;TZID=America/New_York:20270502T103000
DTSTAMP:20260425T221723
CREATED:20260204T175714Z
LAST-MODIFIED:20260204T175714Z
UID:10000606-1809250200-1809253800@fbctampa.org
SUMMARY:Core Groups (Sunday School)
DESCRIPTION:Core Groups are where faith and community come together. These small gatherings provide a place to study God’s Word\, build relationships\, and grow spiritually. Whether you’re new to church or have been following Christ for years\, there’s a group for you!
URL:https://fbctampa.org/event/core-groups-sunday-school-2/2027-05-02/
ATTACH;FMTTYPE=image/jpeg:https://fbctampa.org/wp-content/uploads/2025/02/sunday-core-header.jpg
END:VEVENT
BEGIN:VEVENT
DTSTART;TZID=America/New_York:20270502T104500
DTEND;TZID=America/New_York:20270502T121500
DTSTAMP:20260425T221723
CREATED:20260204T175209Z
LAST-MODIFIED:20260204T175209Z
UID:10001457-1809254700-1809260100@fbctampa.org
SUMMARY:Corporate Worship
DESCRIPTION:Join us every Sunday morning as we gather to worship\, grow in God’s Word\, and encourage one another in faith. Our service includes Christ-centered worship\, biblical teaching\, and a welcoming community where you can connect and belong. Our gathering begins at 10:45am at 302 W Kennedy Blvd.
URL:https://fbctampa.org/event/sunday-morning-gathering-2-2/2027-05-02/
ATTACH;FMTTYPE=image/jpeg:https://fbctampa.org/wp-content/uploads/2025/02/new-here-header.jpg
END:VEVENT
BEGIN:VEVENT
DTSTART;TZID=America/New_York:20270505T183000
DTEND;TZID=America/New_York:20270505T193000
DTSTAMP:20260425T221723
CREATED:20260302T194523Z
LAST-MODIFIED:20260309T150450Z
UID:10014863-1809541800-1809545400@fbctampa.org
SUMMARY:Discipleship Classes
DESCRIPTION:Our discipleship classes meet Wednesdays at 6:30 PM\, offering biblical teaching and practical guidance to help you grow in your faith. With classes for all ages and spiritual levels\, we encourage deeper study\, community\, and discipleship in Christ. To see what classes we have available\, follow the link below! \nDiscipleship Classes
URL:https://fbctampa.org/event/discipleship-classes/2027-05-05/
ATTACH;FMTTYPE=image/jpeg:https://fbctampa.org/wp-content/uploads/2025/02/wed-night-discipleship.jpg
END:VEVENT
BEGIN:VEVENT
DTSTART;TZID=America/New_York:20270509T083000
DTEND;TZID=America/New_York:20270509T091500
DTSTAMP:20260425T221723
CREATED:20260203T190547Z
LAST-MODIFIED:20260219T183702Z
UID:10012752-1809851400-1809854100@fbctampa.org
SUMMARY:Sunday morning Thrive Cafe
DESCRIPTION:We offer a delicious and affordable breakfast every Sunday morning from 8:30 to 9:15 AM. It’s a great way to start the day before heading to Sunday Core Groups\, which meet from 9:30 to 10:30 AM.
URL:https://fbctampa.org/event/sunday-morning-thrive-cafe-2/2027-05-09/
ATTACH;FMTTYPE=image/jpeg:https://fbctampa.org/wp-content/uploads/2026/02/Thrive-Cafe-Slide-2026.jpg
END:VEVENT
BEGIN:VEVENT
DTSTART;TZID=America/New_York:20270509T093000
DTEND;TZID=America/New_York:20270509T103000
DTSTAMP:20260425T221723
CREATED:20260204T175714Z
LAST-MODIFIED:20260204T175714Z
UID:10000607-1809855000-1809858600@fbctampa.org
SUMMARY:Core Groups (Sunday School)
DESCRIPTION:Core Groups are where faith and community come together. These small gatherings provide a place to study God’s Word\, build relationships\, and grow spiritually. Whether you’re new to church or have been following Christ for years\, there’s a group for you!
URL:https://fbctampa.org/event/core-groups-sunday-school-2/2027-05-09/
ATTACH;FMTTYPE=image/jpeg:https://fbctampa.org/wp-content/uploads/2025/02/sunday-core-header.jpg
END:VEVENT
BEGIN:VEVENT
DTSTART;TZID=America/New_York:20270509T104500
DTEND;TZID=America/New_York:20270509T121500
DTSTAMP:20260425T221723
CREATED:20260204T175209Z
LAST-MODIFIED:20260204T175209Z
UID:10001458-1809859500-1809864900@fbctampa.org
SUMMARY:Corporate Worship
DESCRIPTION:Join us every Sunday morning as we gather to worship\, grow in God’s Word\, and encourage one another in faith. Our service includes Christ-centered worship\, biblical teaching\, and a welcoming community where you can connect and belong. Our gathering begins at 10:45am at 302 W Kennedy Blvd.
URL:https://fbctampa.org/event/sunday-morning-gathering-2-2/2027-05-09/
ATTACH;FMTTYPE=image/jpeg:https://fbctampa.org/wp-content/uploads/2025/02/new-here-header.jpg
END:VEVENT
BEGIN:VEVENT
DTSTART;TZID=America/New_York:20270511T103000
DTEND;TZID=America/New_York:20270511T113000
DTSTAMP:20260425T221723
CREATED:20251103T164913Z
LAST-MODIFIED:20251103T164913Z
UID:10010602-1810031400-1810035000@fbctampa.org
SUMMARY:Women On Mission
DESCRIPTION:The Women on Mission meet to focus on missions\, outreach\, and service opportunities. Join us as we come together to pray\, plan\, and support local and global mission efforts.
URL:https://fbctampa.org/event/women-on-mission-3-2-2/2027-05-11/
LOCATION:4th Floor Loft\, 302 W Kennedy Blvd\, Tampa\, FL\, 33606\, United States
ATTACH;FMTTYPE=image/png:https://fbctampa.org/wp-content/uploads/2025/02/NewWOMSlide25.png
END:VEVENT
BEGIN:VEVENT
DTSTART;TZID=America/New_York:20270512T183000
DTEND;TZID=America/New_York:20270512T193000
DTSTAMP:20260425T221723
CREATED:20260302T194523Z
LAST-MODIFIED:20260309T150450Z
UID:10014864-1810146600-1810150200@fbctampa.org
SUMMARY:Discipleship Classes
DESCRIPTION:Our discipleship classes meet Wednesdays at 6:30 PM\, offering biblical teaching and practical guidance to help you grow in your faith. With classes for all ages and spiritual levels\, we encourage deeper study\, community\, and discipleship in Christ. To see what classes we have available\, follow the link below! \nDiscipleship Classes
URL:https://fbctampa.org/event/discipleship-classes/2027-05-12/
ATTACH;FMTTYPE=image/jpeg:https://fbctampa.org/wp-content/uploads/2025/02/wed-night-discipleship.jpg
END:VEVENT
BEGIN:VEVENT
DTSTART;TZID=America/New_York:20270513T080000
DTEND;TZID=America/New_York:20270513T210000
DTSTAMP:20260425T221723
CREATED:20260209T190226Z
LAST-MODIFIED:20260209T190226Z
UID:10006443-1810195200-1810242000@fbctampa.org
SUMMARY:Men's Prayer Breakfast
DESCRIPTION:The Men’s Prayer Breakfast meets at Pach’s Place in the Tahitian Inn\, on the second Thursday of each month for fellowship\, prayer\, and encouragement. Join us as we gather to lift each other up in faith over a hearty breakfast. \n601 South Dale Mabry Hwy Tampa 33609
URL:https://fbctampa.org/event/mens-prayer-breakfast-3-2-2-3/2027-05-13/
ATTACH;FMTTYPE=image/png:https://fbctampa.org/wp-content/uploads/2025/02/mens-brunch.png
END:VEVENT
BEGIN:VEVENT
DTSTART;TZID=America/New_York:20270516T083000
DTEND;TZID=America/New_York:20270516T091500
DTSTAMP:20260425T221723
CREATED:20260203T190547Z
LAST-MODIFIED:20260219T183702Z
UID:10012753-1810456200-1810458900@fbctampa.org
SUMMARY:Sunday morning Thrive Cafe
DESCRIPTION:We offer a delicious and affordable breakfast every Sunday morning from 8:30 to 9:15 AM. It’s a great way to start the day before heading to Sunday Core Groups\, which meet from 9:30 to 10:30 AM.
URL:https://fbctampa.org/event/sunday-morning-thrive-cafe-2/2027-05-16/
ATTACH;FMTTYPE=image/jpeg:https://fbctampa.org/wp-content/uploads/2026/02/Thrive-Cafe-Slide-2026.jpg
END:VEVENT
END:VCALENDAR