BEGIN:VCALENDAR
VERSION:2.0
PRODID:-//FBC Tampa - ECPv6.15.11//NONSGML v1.0//EN
CALSCALE:GREGORIAN
METHOD:PUBLISH
X-WR-CALNAME:FBC Tampa
X-ORIGINAL-URL:https://fbctampa.org
X-WR-CALDESC:Events for FBC Tampa
REFRESH-INTERVAL;VALUE=DURATION:PT1H
X-Robots-Tag:noindex
X-PUBLISHED-TTL:PT1H
BEGIN:VTIMEZONE
TZID:America/New_York
BEGIN:DAYLIGHT
TZOFFSETFROM:-0500
TZOFFSETTO:-0400
TZNAME:EDT
DTSTART:20250309T070000
END:DAYLIGHT
BEGIN:STANDARD
TZOFFSETFROM:-0400
TZOFFSETTO:-0500
TZNAME:EST
DTSTART:20251102T060000
END:STANDARD
BEGIN:DAYLIGHT
TZOFFSETFROM:-0500
TZOFFSETTO:-0400
TZNAME:EDT
DTSTART:20260308T070000
END:DAYLIGHT
BEGIN:STANDARD
TZOFFSETFROM:-0400
TZOFFSETTO:-0500
TZNAME:EST
DTSTART:20261101T060000
END:STANDARD
BEGIN:DAYLIGHT
TZOFFSETFROM:-0500
TZOFFSETTO:-0400
TZNAME:EDT
DTSTART:20270314T070000
END:DAYLIGHT
BEGIN:STANDARD
TZOFFSETFROM:-0400
TZOFFSETTO:-0500
TZNAME:EST
DTSTART:20271107T060000
END:STANDARD
END:VTIMEZONE
BEGIN:VEVENT
DTSTART;TZID=America/New_York:20260117T090000
DTEND;TZID=America/New_York:20260214T120000
DTSTAMP:20260423T193534
CREATED:20260112T210631Z
LAST-MODIFIED:20260202T191637Z
UID:10014177-1768640400-1771070400@fbctampa.org
SUMMARY:5G Basketball
DESCRIPTION:6th Annual 5G Basketball League @ FBC Tampa\nWe are thrilled to announce that the 5G Basketball League is back for 2026! This youth league is designed for boys and girls ages 5–12 of all skill levels. Whether your child is a seasoned player or picking up a basketball for the first time\, they will find a welcoming\, high-energy environment here. \nPlease sign up here \nAt 5G\, we play for more than just the scoreboard. Our mission is to build character through the “5Gs” found in the Bible: \n\n\nGlorify God \n\n\nGratitude \n\n\nGod’s Grace \n\n\nGospel \n\n\nGrit \n\n\n\n📅 Key Information\n\n\nAges: 5–12 (All skill levels & beginners welcome!) \n\n\nRegistration Deadline: January 7\, 2026 \n\n\nLocation: FBC Tampa \n\n\nKickoff Event: Pre-Season “Basics of Basketball & Shooting Clinic” with Coach Teddy on January 10. \n\n\n\n🕒 2026 Season Schedule\n\n\n\n\n\n\n\nDate\nEvent\nTime Details\n\n\n\n\nJan 10\nPre-Season Clinic w/ Coach Teddy\n9:30 AM (Ages 9 & under) / 10:45 AM (Ages 10-12)\n\n\nJan 17\nWeek 1: Tip-Off Jamboree\nGame Day & Uniform Distribution\n\n\nJan 19\nPractice\n4:00 PM or 5:30 PM\n\n\nJan 24\nWeek 2: Games\nGame Day\n\n\nJan 26\nPractice\n4:00 PM or 5:30 PM\n\n\nJan 31\nWeek 3: Games\nGame Day\n\n\nFeb 2\nPractice\n4:00 PM or 5:30 PM\n\n\nFeb 7\nWeek 4: Games\nGame Day\n\n\nFeb 9\nPractice\n4:00 PM or 5:30 PM\n\n\nFeb 14\nWeek 5: Games\nGame Day\n\n\nFeb 21\nSeason Finale & BBQ Banquet\n10:00 AM – 12:00 PM
URL:https://fbctampa.org/event/5g-basketball/
LOCATION:Gymnasium\, 302 W Kennedy Blvd\, Tampa\, FL\, 33606\, United States
ATTACH;FMTTYPE=image/jpeg:https://fbctampa.org/wp-content/uploads/2026/01/5G-Basketball-2.jpg
END:VEVENT
BEGIN:VEVENT
DTSTART;TZID=America/New_York:20260201T093000
DTEND;TZID=America/New_York:20260201T103000
DTSTAMP:20260423T193534
CREATED:20250211T024320Z
LAST-MODIFIED:20250907T031407Z
UID:10000541-1769938200-1769941800@fbctampa.org
SUMMARY:Core Groups (Sunday School)
DESCRIPTION:Core Groups are where faith and community come together. These small gatherings provide a place to study God’s Word\, build relationships\, and grow spiritually. Whether you’re new to church or have been following Christ for years\, there’s a group for you!
URL:https://fbctampa.org/event/core-groups-sunday-school/2026-02-01/
ATTACH;FMTTYPE=image/jpeg:https://fbctampa.org/wp-content/uploads/2025/02/sunday-core-header.jpg
END:VEVENT
BEGIN:VEVENT
DTSTART;TZID=America/New_York:20260203T190000
DTEND;TZID=America/New_York:20260203T203000
DTSTAMP:20260423T193534
CREATED:20251217T195203Z
LAST-MODIFIED:20260312T184840Z
UID:10014183-1770145200-1770150600@fbctampa.org
SUMMARY:The Collective - Young Adult Worship
DESCRIPTION:The Collective on Tuesday nights is a gathering for young adults to worship\, dive into the Word\, and grow in fellowship. We also host guest Q&A sessions to deepen our faith and understanding. If you’re college-aged (18-26)\, come join us at 7pm as we seek to grow in Christ together!
URL:https://fbctampa.org/event/the-collective-tuesday-nights-2-2/2026-02-03/
ATTACH;FMTTYPE=image/png:https://fbctampa.org/wp-content/uploads/2025/02/TheCollectiveCollage.png
END:VEVENT
BEGIN:VEVENT
DTSTART;TZID=America/New_York:20260204T170000
DTEND;TZID=America/New_York:20260204T181500
DTSTAMP:20260423T193534
CREATED:20251211T160222Z
LAST-MODIFIED:20251211T160831Z
UID:10012949-1770224400-1770228900@fbctampa.org
SUMMARY:Wednesday Night Supper
DESCRIPTION:We offer delicious meals at an affordable price every Wednesday night\, making it easy for individuals and families to join our Midweek Ministries. This includes Discipleship Classes\, AWANA for children\, N1NE youth ministry\, and choir practice later in the evening. Our Midweek Ministries are a great opportunity to nourish both body and spirit!
URL:https://fbctampa.org/event/wednesday-night-supper-2-2/2026-02-04/
LOCATION:Dining Room\, 302 W Kennedy Blvd\, Tampa\, 33606\, United States
ATTACH;FMTTYPE=image/jpeg:https://fbctampa.org/wp-content/uploads/2025/02/dinner-fellowship-header.jpg
END:VEVENT
BEGIN:VEVENT
DTSTART;TZID=America/New_York:20260204T181500
DTEND;TZID=America/New_York:20260204T193000
DTSTAMP:20260423T193534
CREATED:20260309T152517Z
LAST-MODIFIED:20260309T152517Z
UID:10014944-1770228900-1770233400@fbctampa.org
SUMMARY:Awana
DESCRIPTION:AWANA is a fun and engaging discipleship program for kids that helps them grow in their faith through Bible memorization\, interactive lessons\, and exciting games. At our church\, AWANA meets on Wednesday nights at 6:15 PM\, providing a structured yet energetic environment where children can learn about God’s Word\, build friendships\, and develop a strong foundation in Christ. Our program is designed to equip kids with biblical knowledge while encouraging them to live out their faith in everyday life.
URL:https://fbctampa.org/event/awana-3/2026-02-04/
LOCATION:Gymnasium / Elementary Area / Kid Zone – All PreK Area / Suite 300\, 302 W Kennedy Blvd\, Tampa\, FL\, 33606\, United States
ATTACH;FMTTYPE=image/jpeg:https://fbctampa.org/wp-content/uploads/2026/02/Sermon-Slide-Announcement-2.jpg
END:VEVENT
BEGIN:VEVENT
DTSTART;TZID=America/New_York:20260204T181900
DTEND;TZID=America/New_York:20260204T193500
DTSTAMP:20260423T193534
CREATED:20251210T153015Z
LAST-MODIFIED:20260317T160240Z
UID:10001999-1770229140-1770233700@fbctampa.org
SUMMARY:N1NE Student Worship
DESCRIPTION:N1NE Student Worship is a vibrant\, high-energy gathering where students come together to worship\, connect\, and grow in their faith. Through passionate music\, relevant teaching\, and a welcoming community\, N1NE creates a space for 6th-12th graders to encounter God and deepen their relationship with Him. Join us as we lift up our voices and hearts in worship\, building a strong foundation for the next generation of believers.
URL:https://fbctampa.org/event/n1ne-student-worship-2/2026-02-04/
ATTACH;FMTTYPE=image/jpeg:https://fbctampa.org/wp-content/uploads/2025/03/20250219-IMG_6071-2-scaled.jpg
END:VEVENT
BEGIN:VEVENT
DTSTART;TZID=America/New_York:20260204T183000
DTEND;TZID=America/New_York:20260204T193000
DTSTAMP:20260423T193534
CREATED:20260302T194523Z
LAST-MODIFIED:20260309T150450Z
UID:10014798-1770229800-1770233400@fbctampa.org
SUMMARY:Discipleship Classes
DESCRIPTION:Our discipleship classes meet Wednesdays at 6:30 PM\, offering biblical teaching and practical guidance to help you grow in your faith. With classes for all ages and spiritual levels\, we encourage deeper study\, community\, and discipleship in Christ. To see what classes we have available\, follow the link below! \nDiscipleship Classes
URL:https://fbctampa.org/event/discipleship-classes/2026-02-04/
ATTACH;FMTTYPE=image/jpeg:https://fbctampa.org/wp-content/uploads/2025/02/wed-night-discipleship.jpg
END:VEVENT
BEGIN:VEVENT
DTSTART;TZID=America/New_York:20260204T193000
DTEND;TZID=America/New_York:20260204T203000
DTSTAMP:20260423T193534
CREATED:20260105T200509Z
LAST-MODIFIED:20260107T164349Z
UID:10014037-1770233400-1770237000@fbctampa.org
SUMMARY:Deacon's Meeting
DESCRIPTION:The Deacons will meet to discuss church needs\, support efforts\, and ministry opportunities. This time is dedicated to serving and caring for the congregation and community.
URL:https://fbctampa.org/event/deacons-meeting-2/2026-02-04/
LOCATION:4th Floor Loft\, 302 W Kennedy Blvd\, Tampa\, FL\, 33606\, United States
ATTACH;FMTTYPE=image/jpeg:https://fbctampa.org/wp-content/uploads/2025/02/DeaconsMeeting-750x500-1.jpg
END:VEVENT
BEGIN:VEVENT
DTSTART;TZID=America/New_York:20260205T190000
DTEND;TZID=America/New_York:20260205T210000
DTSTAMP:20260423T193534
CREATED:20260203T192840Z
LAST-MODIFIED:20260219T182337Z
UID:10014221-1770318000-1770325200@fbctampa.org
SUMMARY:Worship Band Practice
DESCRIPTION:The worship band gathers to rehearse in preparation for Sunday services.
URL:https://fbctampa.org/event/worship-band-practice-2/2026-02-05/
LOCATION:Sanctuary\, 302 W Kennedy Blvd\, Tampa\, FL\, 33606\, United States
ATTACH;FMTTYPE=image/jpeg:https://fbctampa.org/wp-content/uploads/2026/02/DSC05454-scaled.jpg
END:VEVENT
BEGIN:VEVENT
DTSTART;TZID=America/New_York:20260208T083000
DTEND;TZID=America/New_York:20260208T091500
DTSTAMP:20260423T193534
CREATED:20260203T190547Z
LAST-MODIFIED:20260219T183702Z
UID:10012687-1770539400-1770542100@fbctampa.org
SUMMARY:Sunday morning Thrive Cafe
DESCRIPTION:We offer a delicious and affordable breakfast every Sunday morning from 8:30 to 9:15 AM. It’s a great way to start the day before heading to Sunday Core Groups\, which meet from 9:30 to 10:30 AM.
URL:https://fbctampa.org/event/sunday-morning-thrive-cafe-2/2026-02-08/
ATTACH;FMTTYPE=image/jpeg:https://fbctampa.org/wp-content/uploads/2026/02/Thrive-Cafe-Slide-2026.jpg
END:VEVENT
BEGIN:VEVENT
DTSTART;TZID=America/New_York:20260208T093000
DTEND;TZID=America/New_York:20260208T103000
DTSTAMP:20260423T193534
CREATED:20260204T175714Z
LAST-MODIFIED:20260204T175714Z
UID:10000542-1770543000-1770546600@fbctampa.org
SUMMARY:Core Groups (Sunday School)
DESCRIPTION:Core Groups are where faith and community come together. These small gatherings provide a place to study God’s Word\, build relationships\, and grow spiritually. Whether you’re new to church or have been following Christ for years\, there’s a group for you!
URL:https://fbctampa.org/event/core-groups-sunday-school-2/2026-02-08/
ATTACH;FMTTYPE=image/jpeg:https://fbctampa.org/wp-content/uploads/2025/02/sunday-core-header.jpg
END:VEVENT
BEGIN:VEVENT
DTSTART;TZID=America/New_York:20260208T104500
DTEND;TZID=America/New_York:20260208T121500
DTSTAMP:20260423T193534
CREATED:20260204T175209Z
LAST-MODIFIED:20260204T175209Z
UID:10001393-1770547500-1770552900@fbctampa.org
SUMMARY:Corporate Worship
DESCRIPTION:Join us every Sunday morning as we gather to worship\, grow in God’s Word\, and encourage one another in faith. Our service includes Christ-centered worship\, biblical teaching\, and a welcoming community where you can connect and belong. Our gathering begins at 10:45am at 302 W Kennedy Blvd.
URL:https://fbctampa.org/event/sunday-morning-gathering-2-2/2026-02-08/
ATTACH;FMTTYPE=image/jpeg:https://fbctampa.org/wp-content/uploads/2025/02/new-here-header.jpg
END:VEVENT
BEGIN:VEVENT
DTSTART;TZID=America/New_York:20260209T180000
DTEND;TZID=America/New_York:20260209T200000
DTSTAMP:20260423T193534
CREATED:20260203T190207Z
LAST-MODIFIED:20260305T185340Z
UID:10013940-1770660000-1770667200@fbctampa.org
SUMMARY:Basketball for Adults
DESCRIPTION:Come out and join us for a fun\, friendly game of pickup basketball! This is a great chance for adults to get active\, enjoy some friendly competition\, and build community. All skill levels welcome!
URL:https://fbctampa.org/event/basketball-for-adults-2/2026-02-09/
ATTACH;FMTTYPE=image/png:https://fbctampa.org/wp-content/uploads/2026/02/For-adults-18-x-24-in-Presentation-2.png
END:VEVENT
BEGIN:VEVENT
DTSTART;TZID=America/New_York:20260210T190000
DTEND;TZID=America/New_York:20260210T203000
DTSTAMP:20260423T193534
CREATED:20251217T195203Z
LAST-MODIFIED:20260312T184840Z
UID:10014184-1770750000-1770755400@fbctampa.org
SUMMARY:The Collective - Young Adult Worship
DESCRIPTION:The Collective on Tuesday nights is a gathering for young adults to worship\, dive into the Word\, and grow in fellowship. We also host guest Q&A sessions to deepen our faith and understanding. If you’re college-aged (18-26)\, come join us at 7pm as we seek to grow in Christ together!
URL:https://fbctampa.org/event/the-collective-tuesday-nights-2-2/2026-02-10/
ATTACH;FMTTYPE=image/png:https://fbctampa.org/wp-content/uploads/2025/02/TheCollectiveCollage.png
END:VEVENT
BEGIN:VEVENT
DTSTART;TZID=America/New_York:20260211T170000
DTEND;TZID=America/New_York:20260211T181500
DTSTAMP:20260423T193534
CREATED:20251211T160222Z
LAST-MODIFIED:20251211T160831Z
UID:10012950-1770829200-1770833700@fbctampa.org
SUMMARY:Wednesday Night Supper
DESCRIPTION:We offer delicious meals at an affordable price every Wednesday night\, making it easy for individuals and families to join our Midweek Ministries. This includes Discipleship Classes\, AWANA for children\, N1NE youth ministry\, and choir practice later in the evening. Our Midweek Ministries are a great opportunity to nourish both body and spirit!
URL:https://fbctampa.org/event/wednesday-night-supper-2-2/2026-02-11/
LOCATION:Dining Room\, 302 W Kennedy Blvd\, Tampa\, 33606\, United States
ATTACH;FMTTYPE=image/jpeg:https://fbctampa.org/wp-content/uploads/2025/02/dinner-fellowship-header.jpg
END:VEVENT
BEGIN:VEVENT
DTSTART;TZID=America/New_York:20260211T181500
DTEND;TZID=America/New_York:20260211T193000
DTSTAMP:20260423T193534
CREATED:20260202T204628Z
LAST-MODIFIED:20260203T152304Z
UID:10014274-1770833700-1770838200@fbctampa.org
SUMMARY:Elementary Kid's Valentine Party
DESCRIPTION:Join us for our Elementary Kids’ Valentine’s Party in the gymnasium\,celebrating God’s love through fun\, friendship\, and fellowship.
URL:https://fbctampa.org/event/elementary-kids-valentine-party/
LOCATION:Gymnasium\, 302 W Kennedy Blvd\, Tampa\, FL\, 33606\, United States
ATTACH;FMTTYPE=image/svg+xml:https://fbctampa.org/wp-content/uploads/2025/01/fbc-kids-logo.svg
END:VEVENT
BEGIN:VEVENT
DTSTART;TZID=America/New_York:20260211T181500
DTEND;TZID=America/New_York:20260211T193000
DTSTAMP:20260423T193534
CREATED:20260309T152517Z
LAST-MODIFIED:20260309T152517Z
UID:10014945-1770833700-1770838200@fbctampa.org
SUMMARY:Awana
DESCRIPTION:AWANA is a fun and engaging discipleship program for kids that helps them grow in their faith through Bible memorization\, interactive lessons\, and exciting games. At our church\, AWANA meets on Wednesday nights at 6:15 PM\, providing a structured yet energetic environment where children can learn about God’s Word\, build friendships\, and develop a strong foundation in Christ. Our program is designed to equip kids with biblical knowledge while encouraging them to live out their faith in everyday life.
URL:https://fbctampa.org/event/awana-3/2026-02-11/
LOCATION:Gymnasium / Elementary Area / Kid Zone – All PreK Area / Suite 300\, 302 W Kennedy Blvd\, Tampa\, FL\, 33606\, United States
ATTACH;FMTTYPE=image/jpeg:https://fbctampa.org/wp-content/uploads/2026/02/Sermon-Slide-Announcement-2.jpg
END:VEVENT
BEGIN:VEVENT
DTSTART;TZID=America/New_York:20260211T181900
DTEND;TZID=America/New_York:20260211T193500
DTSTAMP:20260423T193534
CREATED:20251210T153015Z
LAST-MODIFIED:20260317T160240Z
UID:10002000-1770833940-1770838500@fbctampa.org
SUMMARY:N1NE Student Worship
DESCRIPTION:N1NE Student Worship is a vibrant\, high-energy gathering where students come together to worship\, connect\, and grow in their faith. Through passionate music\, relevant teaching\, and a welcoming community\, N1NE creates a space for 6th-12th graders to encounter God and deepen their relationship with Him. Join us as we lift up our voices and hearts in worship\, building a strong foundation for the next generation of believers.
URL:https://fbctampa.org/event/n1ne-student-worship-2/2026-02-11/
ATTACH;FMTTYPE=image/jpeg:https://fbctampa.org/wp-content/uploads/2025/03/20250219-IMG_6071-2-scaled.jpg
END:VEVENT
BEGIN:VEVENT
DTSTART;TZID=America/New_York:20260211T183000
DTEND;TZID=America/New_York:20260211T193000
DTSTAMP:20260423T193534
CREATED:20260302T194523Z
LAST-MODIFIED:20260309T150450Z
UID:10014799-1770834600-1770838200@fbctampa.org
SUMMARY:Discipleship Classes
DESCRIPTION:Our discipleship classes meet Wednesdays at 6:30 PM\, offering biblical teaching and practical guidance to help you grow in your faith. With classes for all ages and spiritual levels\, we encourage deeper study\, community\, and discipleship in Christ. To see what classes we have available\, follow the link below! \nDiscipleship Classes
URL:https://fbctampa.org/event/discipleship-classes/2026-02-11/
ATTACH;FMTTYPE=image/jpeg:https://fbctampa.org/wp-content/uploads/2025/02/wed-night-discipleship.jpg
END:VEVENT
BEGIN:VEVENT
DTSTART;TZID=America/New_York:20260211T193000
DTEND;TZID=America/New_York:20260211T203000
DTSTAMP:20260423T193534
CREATED:20250730T172357Z
LAST-MODIFIED:20260105T194326Z
UID:10013980-1770838200-1770841800@fbctampa.org
SUMMARY:Missions Committee
DESCRIPTION:The Missions Committee will meet to discuss upcoming mission projects\, outreach opportunities\, and ways to support both local and global ministries.
URL:https://fbctampa.org/event/missions-committee-3/2026-02-11/
LOCATION:4th Floor Loft\, 302 W Kennedy Blvd\, Tampa\, FL\, 33606\, United States
ATTACH;FMTTYPE=image/png:https://fbctampa.org/wp-content/uploads/2025/02/Untitled-design-55.png
END:VEVENT
BEGIN:VEVENT
DTSTART;TZID=America/New_York:20260212T190000
DTEND;TZID=America/New_York:20260212T210000
DTSTAMP:20260423T193534
CREATED:20260203T192840Z
LAST-MODIFIED:20260219T182337Z
UID:10014222-1770922800-1770930000@fbctampa.org
SUMMARY:Worship Band Practice
DESCRIPTION:The worship band gathers to rehearse in preparation for Sunday services.
URL:https://fbctampa.org/event/worship-band-practice-2/2026-02-12/
LOCATION:Sanctuary\, 302 W Kennedy Blvd\, Tampa\, FL\, 33606\, United States
ATTACH;FMTTYPE=image/jpeg:https://fbctampa.org/wp-content/uploads/2026/02/DSC05454-scaled.jpg
END:VEVENT
BEGIN:VEVENT
DTSTART;TZID=America/New_York:20260215T083000
DTEND;TZID=America/New_York:20260215T091500
DTSTAMP:20260423T193534
CREATED:20260203T190547Z
LAST-MODIFIED:20260219T183702Z
UID:10012688-1771144200-1771146900@fbctampa.org
SUMMARY:Sunday morning Thrive Cafe
DESCRIPTION:We offer a delicious and affordable breakfast every Sunday morning from 8:30 to 9:15 AM. It’s a great way to start the day before heading to Sunday Core Groups\, which meet from 9:30 to 10:30 AM.
URL:https://fbctampa.org/event/sunday-morning-thrive-cafe-2/2026-02-15/
ATTACH;FMTTYPE=image/jpeg:https://fbctampa.org/wp-content/uploads/2026/02/Thrive-Cafe-Slide-2026.jpg
END:VEVENT
BEGIN:VEVENT
DTSTART;TZID=America/New_York:20260215T093000
DTEND;TZID=America/New_York:20260215T103000
DTSTAMP:20260423T193534
CREATED:20260204T175714Z
LAST-MODIFIED:20260204T175714Z
UID:10000543-1771147800-1771151400@fbctampa.org
SUMMARY:Core Groups (Sunday School)
DESCRIPTION:Core Groups are where faith and community come together. These small gatherings provide a place to study God’s Word\, build relationships\, and grow spiritually. Whether you’re new to church or have been following Christ for years\, there’s a group for you!
URL:https://fbctampa.org/event/core-groups-sunday-school-2/2026-02-15/
ATTACH;FMTTYPE=image/jpeg:https://fbctampa.org/wp-content/uploads/2025/02/sunday-core-header.jpg
END:VEVENT
BEGIN:VEVENT
DTSTART;TZID=America/New_York:20260215T104500
DTEND;TZID=America/New_York:20260215T121500
DTSTAMP:20260423T193534
CREATED:20260204T175209Z
LAST-MODIFIED:20260204T175209Z
UID:10001394-1771152300-1771157700@fbctampa.org
SUMMARY:Corporate Worship
DESCRIPTION:Join us every Sunday morning as we gather to worship\, grow in God’s Word\, and encourage one another in faith. Our service includes Christ-centered worship\, biblical teaching\, and a welcoming community where you can connect and belong. Our gathering begins at 10:45am at 302 W Kennedy Blvd.
URL:https://fbctampa.org/event/sunday-morning-gathering-2-2/2026-02-15/
ATTACH;FMTTYPE=image/jpeg:https://fbctampa.org/wp-content/uploads/2025/02/new-here-header.jpg
END:VEVENT
BEGIN:VEVENT
DTSTART;TZID=America/New_York:20260215T123000
DTEND;TZID=America/New_York:20260215T133000
DTSTAMP:20260423T193534
CREATED:20260123T180346Z
LAST-MODIFIED:20260123T180346Z
UID:10014012-1771158600-1771162200@fbctampa.org
SUMMARY:Stewardship Committee
DESCRIPTION:The Stewardship Committee will meet to discuss financial planning\, budgeting\, and ways to encourage faithful giving and stewardship within the church.
URL:https://fbctampa.org/event/stewardship-committee-2-2/
ATTACH;FMTTYPE=image/png:https://fbctampa.org/wp-content/uploads/2025/02/Untitled-design-55.png
END:VEVENT
BEGIN:VEVENT
DTSTART;TZID=America/New_York:20260217T190000
DTEND;TZID=America/New_York:20260217T203000
DTSTAMP:20260423T193534
CREATED:20251217T195203Z
LAST-MODIFIED:20260312T184840Z
UID:10014950-1771354800-1771360200@fbctampa.org
SUMMARY:The Collective - Young Adult Worship
DESCRIPTION:The Collective on Tuesday nights is a gathering for young adults to worship\, dive into the Word\, and grow in fellowship. We also host guest Q&A sessions to deepen our faith and understanding. If you’re college-aged (18-26)\, come join us at 7pm as we seek to grow in Christ together!
URL:https://fbctampa.org/event/the-collective-tuesday-nights-2-2/2026-02-17/
ATTACH;FMTTYPE=image/png:https://fbctampa.org/wp-content/uploads/2025/02/TheCollectiveCollage.png
END:VEVENT
BEGIN:VEVENT
DTSTART;TZID=America/New_York:20260218T170000
DTEND;TZID=America/New_York:20260218T181500
DTSTAMP:20260423T193534
CREATED:20251211T160222Z
LAST-MODIFIED:20251211T160831Z
UID:10012951-1771434000-1771438500@fbctampa.org
SUMMARY:Wednesday Night Supper
DESCRIPTION:We offer delicious meals at an affordable price every Wednesday night\, making it easy for individuals and families to join our Midweek Ministries. This includes Discipleship Classes\, AWANA for children\, N1NE youth ministry\, and choir practice later in the evening. Our Midweek Ministries are a great opportunity to nourish both body and spirit!
URL:https://fbctampa.org/event/wednesday-night-supper-2-2/2026-02-18/
LOCATION:Dining Room\, 302 W Kennedy Blvd\, Tampa\, 33606\, United States
ATTACH;FMTTYPE=image/jpeg:https://fbctampa.org/wp-content/uploads/2025/02/dinner-fellowship-header.jpg
END:VEVENT
BEGIN:VEVENT
DTSTART;TZID=America/New_York:20260218T181500
DTEND;TZID=America/New_York:20260218T193000
DTSTAMP:20260423T193534
CREATED:20260309T152517Z
LAST-MODIFIED:20260309T152517Z
UID:10014946-1771438500-1771443000@fbctampa.org
SUMMARY:Awana
DESCRIPTION:AWANA is a fun and engaging discipleship program for kids that helps them grow in their faith through Bible memorization\, interactive lessons\, and exciting games. At our church\, AWANA meets on Wednesday nights at 6:15 PM\, providing a structured yet energetic environment where children can learn about God’s Word\, build friendships\, and develop a strong foundation in Christ. Our program is designed to equip kids with biblical knowledge while encouraging them to live out their faith in everyday life.
URL:https://fbctampa.org/event/awana-3/2026-02-18/
LOCATION:Gymnasium / Elementary Area / Kid Zone – All PreK Area / Suite 300\, 302 W Kennedy Blvd\, Tampa\, FL\, 33606\, United States
ATTACH;FMTTYPE=image/jpeg:https://fbctampa.org/wp-content/uploads/2026/02/Sermon-Slide-Announcement-2.jpg
END:VEVENT
BEGIN:VEVENT
DTSTART;TZID=America/New_York:20260218T181900
DTEND;TZID=America/New_York:20260218T193500
DTSTAMP:20260423T193534
CREATED:20251210T153015Z
LAST-MODIFIED:20260317T160240Z
UID:10002001-1771438740-1771443300@fbctampa.org
SUMMARY:N1NE Student Worship
DESCRIPTION:N1NE Student Worship is a vibrant\, high-energy gathering where students come together to worship\, connect\, and grow in their faith. Through passionate music\, relevant teaching\, and a welcoming community\, N1NE creates a space for 6th-12th graders to encounter God and deepen their relationship with Him. Join us as we lift up our voices and hearts in worship\, building a strong foundation for the next generation of believers.
URL:https://fbctampa.org/event/n1ne-student-worship-2/2026-02-18/
ATTACH;FMTTYPE=image/jpeg:https://fbctampa.org/wp-content/uploads/2025/03/20250219-IMG_6071-2-scaled.jpg
END:VEVENT
BEGIN:VEVENT
DTSTART;TZID=America/New_York:20260218T183000
DTEND;TZID=America/New_York:20260218T193000
DTSTAMP:20260423T193534
CREATED:20260302T194523Z
LAST-MODIFIED:20260309T150450Z
UID:10014800-1771439400-1771443000@fbctampa.org
SUMMARY:Discipleship Classes
DESCRIPTION:Our discipleship classes meet Wednesdays at 6:30 PM\, offering biblical teaching and practical guidance to help you grow in your faith. With classes for all ages and spiritual levels\, we encourage deeper study\, community\, and discipleship in Christ. To see what classes we have available\, follow the link below! \nDiscipleship Classes
URL:https://fbctampa.org/event/discipleship-classes/2026-02-18/
ATTACH;FMTTYPE=image/jpeg:https://fbctampa.org/wp-content/uploads/2025/02/wed-night-discipleship.jpg
END:VEVENT
END:VCALENDAR