BEGIN:VCALENDAR
VERSION:2.0
PRODID:-//FBC Tampa - ECPv6.15.11//NONSGML v1.0//EN
CALSCALE:GREGORIAN
METHOD:PUBLISH
X-WR-CALNAME:FBC Tampa
X-ORIGINAL-URL:https://fbctampa.org
X-WR-CALDESC:Events for FBC Tampa
REFRESH-INTERVAL;VALUE=DURATION:PT1H
X-Robots-Tag:noindex
X-PUBLISHED-TTL:PT1H
BEGIN:VTIMEZONE
TZID:America/New_York
BEGIN:DAYLIGHT
TZOFFSETFROM:-0500
TZOFFSETTO:-0400
TZNAME:EDT
DTSTART:20250309T070000
END:DAYLIGHT
BEGIN:STANDARD
TZOFFSETFROM:-0400
TZOFFSETTO:-0500
TZNAME:EST
DTSTART:20251102T060000
END:STANDARD
BEGIN:DAYLIGHT
TZOFFSETFROM:-0500
TZOFFSETTO:-0400
TZNAME:EDT
DTSTART:20260308T070000
END:DAYLIGHT
BEGIN:STANDARD
TZOFFSETFROM:-0400
TZOFFSETTO:-0500
TZNAME:EST
DTSTART:20261101T060000
END:STANDARD
BEGIN:DAYLIGHT
TZOFFSETFROM:-0500
TZOFFSETTO:-0400
TZNAME:EDT
DTSTART:20270314T070000
END:DAYLIGHT
BEGIN:STANDARD
TZOFFSETFROM:-0400
TZOFFSETTO:-0500
TZNAME:EST
DTSTART:20271107T060000
END:STANDARD
END:VTIMEZONE
BEGIN:VEVENT
DTSTART;TZID=America/New_York:20260604T190000
DTEND;TZID=America/New_York:20260604T210000
DTSTAMP:20260423T195215
CREATED:20260203T192840Z
LAST-MODIFIED:20260219T182337Z
UID:10014238-1780599600-1780606800@fbctampa.org
SUMMARY:Worship Band Practice
DESCRIPTION:The worship band gathers to rehearse in preparation for Sunday services.
URL:https://fbctampa.org/event/worship-band-practice-2/2026-06-04/
LOCATION:Sanctuary\, 302 W Kennedy Blvd\, Tampa\, FL\, 33606\, United States
ATTACH;FMTTYPE=image/jpeg:https://fbctampa.org/wp-content/uploads/2026/02/DSC05454-scaled.jpg
END:VEVENT
BEGIN:VEVENT
DTSTART;TZID=America/New_York:20260604T183000
DTEND;TZID=America/New_York:20260604T193000
DTSTAMP:20260423T195215
CREATED:20250529T140214Z
LAST-MODIFIED:20260108T195607Z
UID:10002273-1780597800-1780601400@fbctampa.org
SUMMARY:VBS Family Night
DESCRIPTION:Join us for VBS Family Night as we celebrate all that the kids have learned throughout the week! Families are invited to come see the songs\, lessons\, and fun their kids experienced during VBS. Stick around afterward for a time of community\, connection\, and a sweet treat from the Kona Ice truck. Everyone is welcome!
URL:https://fbctampa.org/event/vbs-family-night/
LOCATION:Sanctuary\, 302 W Kennedy Blvd\, Tampa\, FL\, 33606\, United States
ATTACH;FMTTYPE=image/jpeg:https://fbctampa.org/wp-content/uploads/2025/05/20230608-IMG_0687-scaled.jpg
END:VEVENT
BEGIN:VEVENT
DTSTART;TZID=America/New_York:20260603T193000
DTEND;TZID=America/New_York:20260603T203000
DTSTAMP:20260423T195215
CREATED:20260105T200509Z
LAST-MODIFIED:20260107T164349Z
UID:10014041-1780515000-1780518600@fbctampa.org
SUMMARY:Deacon's Meeting
DESCRIPTION:The Deacons will meet to discuss church needs\, support efforts\, and ministry opportunities. This time is dedicated to serving and caring for the congregation and community.
URL:https://fbctampa.org/event/deacons-meeting-2/2026-06-03/
LOCATION:4th Floor Loft\, 302 W Kennedy Blvd\, Tampa\, FL\, 33606\, United States
ATTACH;FMTTYPE=image/jpeg:https://fbctampa.org/wp-content/uploads/2025/02/DeaconsMeeting-750x500-1.jpg
END:VEVENT
BEGIN:VEVENT
DTSTART;TZID=America/New_York:20260603T183000
DTEND;TZID=America/New_York:20260603T193000
DTSTAMP:20260423T195215
CREATED:20260302T194523Z
LAST-MODIFIED:20260309T150450Z
UID:10014815-1780511400-1780515000@fbctampa.org
SUMMARY:Discipleship Classes
DESCRIPTION:Our discipleship classes meet Wednesdays at 6:30 PM\, offering biblical teaching and practical guidance to help you grow in your faith. With classes for all ages and spiritual levels\, we encourage deeper study\, community\, and discipleship in Christ. To see what classes we have available\, follow the link below! \nDiscipleship Classes
URL:https://fbctampa.org/event/discipleship-classes/2026-06-03/
ATTACH;FMTTYPE=image/jpeg:https://fbctampa.org/wp-content/uploads/2025/02/wed-night-discipleship.jpg
END:VEVENT
BEGIN:VEVENT
DTSTART;TZID=America/New_York:20260602T190000
DTEND;TZID=America/New_York:20260602T203000
DTSTAMP:20260423T195215
CREATED:20251217T195203Z
LAST-MODIFIED:20260312T184840Z
UID:10014961-1780426800-1780432200@fbctampa.org
SUMMARY:The Collective - Young Adult Worship
DESCRIPTION:The Collective on Tuesday nights is a gathering for young adults to worship\, dive into the Word\, and grow in fellowship. We also host guest Q&A sessions to deepen our faith and understanding. If you’re college-aged (18-26)\, come join us at 7pm as we seek to grow in Christ together!
URL:https://fbctampa.org/event/the-collective-tuesday-nights-2-2/2026-06-02/
ATTACH;FMTTYPE=image/png:https://fbctampa.org/wp-content/uploads/2025/02/TheCollectiveCollage.png
END:VEVENT
BEGIN:VEVENT
DTSTART;TZID=America/New_York:20260601T180000
DTEND;TZID=America/New_York:20260601T200000
DTSTAMP:20260423T195215
CREATED:20260203T190207Z
LAST-MODIFIED:20260305T185340Z
UID:10013956-1780336800-1780344000@fbctampa.org
SUMMARY:Basketball for Adults
DESCRIPTION:Come out and join us for a fun\, friendly game of pickup basketball! This is a great chance for adults to get active\, enjoy some friendly competition\, and build community. All skill levels welcome!
URL:https://fbctampa.org/event/basketball-for-adults-2/2026-06-01/
ATTACH;FMTTYPE=image/png:https://fbctampa.org/wp-content/uploads/2026/02/For-adults-18-x-24-in-Presentation-2.png
END:VEVENT
BEGIN:VEVENT
DTSTART;TZID=America/New_York:20260531T104500
DTEND;TZID=America/New_York:20260531T121500
DTSTAMP:20260423T195215
CREATED:20260204T175209Z
LAST-MODIFIED:20260204T175209Z
UID:10001409-1780224300-1780229700@fbctampa.org
SUMMARY:Corporate Worship
DESCRIPTION:Join us every Sunday morning as we gather to worship\, grow in God’s Word\, and encourage one another in faith. Our service includes Christ-centered worship\, biblical teaching\, and a welcoming community where you can connect and belong. Our gathering begins at 10:45am at 302 W Kennedy Blvd.
URL:https://fbctampa.org/event/sunday-morning-gathering-2-2/2026-05-31/
ATTACH;FMTTYPE=image/jpeg:https://fbctampa.org/wp-content/uploads/2025/02/new-here-header.jpg
END:VEVENT
BEGIN:VEVENT
DTSTART;TZID=America/New_York:20260531T093000
DTEND;TZID=America/New_York:20260531T103000
DTSTAMP:20260423T195215
CREATED:20260204T175714Z
LAST-MODIFIED:20260204T175714Z
UID:10000558-1780219800-1780223400@fbctampa.org
SUMMARY:Core Groups (Sunday School)
DESCRIPTION:Core Groups are where faith and community come together. These small gatherings provide a place to study God’s Word\, build relationships\, and grow spiritually. Whether you’re new to church or have been following Christ for years\, there’s a group for you!
URL:https://fbctampa.org/event/core-groups-sunday-school-2/2026-05-31/
ATTACH;FMTTYPE=image/jpeg:https://fbctampa.org/wp-content/uploads/2025/02/sunday-core-header.jpg
END:VEVENT
BEGIN:VEVENT
DTSTART;TZID=America/New_York:20260531T083000
DTEND;TZID=America/New_York:20260531T091500
DTSTAMP:20260423T195215
CREATED:20260203T190547Z
LAST-MODIFIED:20260219T183702Z
UID:10012703-1780216200-1780218900@fbctampa.org
SUMMARY:Sunday morning Thrive Cafe
DESCRIPTION:We offer a delicious and affordable breakfast every Sunday morning from 8:30 to 9:15 AM. It’s a great way to start the day before heading to Sunday Core Groups\, which meet from 9:30 to 10:30 AM.
URL:https://fbctampa.org/event/sunday-morning-thrive-cafe-2/2026-05-31/
ATTACH;FMTTYPE=image/jpeg:https://fbctampa.org/wp-content/uploads/2026/02/Thrive-Cafe-Slide-2026.jpg
END:VEVENT
BEGIN:VEVENT
DTSTART;TZID=America/New_York:20260528T190000
DTEND;TZID=America/New_York:20260528T210000
DTSTAMP:20260423T195215
CREATED:20260203T192840Z
LAST-MODIFIED:20260219T182337Z
UID:10014237-1779994800-1780002000@fbctampa.org
SUMMARY:Worship Band Practice
DESCRIPTION:The worship band gathers to rehearse in preparation for Sunday services.
URL:https://fbctampa.org/event/worship-band-practice-2/2026-05-28/
LOCATION:Sanctuary\, 302 W Kennedy Blvd\, Tampa\, FL\, 33606\, United States
ATTACH;FMTTYPE=image/jpeg:https://fbctampa.org/wp-content/uploads/2026/02/DSC05454-scaled.jpg
END:VEVENT
BEGIN:VEVENT
DTSTART;TZID=America/New_York:20260527T193000
DTEND;TZID=America/New_York:20260527T203000
DTSTAMP:20260423T195215
CREATED:20260107T173441Z
LAST-MODIFIED:20260107T173920Z
UID:10014138-1779910200-1779913800@fbctampa.org
SUMMARY:320 Building Committe Meeting
DESCRIPTION:The 320 Committee Building will meet to discuss the maintenance\, improvements\, and needs of the property.
URL:https://fbctampa.org/event/320-building-committe-meeting-2/2026-05-27/
LOCATION:4th Floor Loft\, 302 W Kennedy Blvd\, Tampa\, FL\, 33606\, United States
END:VEVENT
BEGIN:VEVENT
DTSTART;TZID=America/New_York:20260527T183000
DTEND;TZID=America/New_York:20260527T193000
DTSTAMP:20260423T195215
CREATED:20260302T194523Z
LAST-MODIFIED:20260309T150450Z
UID:10014814-1779906600-1779910200@fbctampa.org
SUMMARY:Discipleship Classes
DESCRIPTION:Our discipleship classes meet Wednesdays at 6:30 PM\, offering biblical teaching and practical guidance to help you grow in your faith. With classes for all ages and spiritual levels\, we encourage deeper study\, community\, and discipleship in Christ. To see what classes we have available\, follow the link below! \nDiscipleship Classes
URL:https://fbctampa.org/event/discipleship-classes/2026-05-27/
ATTACH;FMTTYPE=image/jpeg:https://fbctampa.org/wp-content/uploads/2025/02/wed-night-discipleship.jpg
END:VEVENT
BEGIN:VEVENT
DTSTART;TZID=America/New_York:20260527T183000
DTEND;TZID=America/New_York:20260527T193000
DTSTAMP:20260423T195215
CREATED:20260107T170125Z
LAST-MODIFIED:20260107T174441Z
UID:10014050-1779906600-1779910200@fbctampa.org
SUMMARY:Quarterly Member's Meeting
DESCRIPTION:Join us for our Quarterly Member’s Meeting where we’ll review church updates\, financial reports\, and discuss upcoming plans. This is a time to stay informed and engaged in the life of our church community.
URL:https://fbctampa.org/event/members-meeting-2/
LOCATION:Dining Room\, 302 W Kennedy Blvd\, Tampa\, 33606\, United States
ATTACH;FMTTYPE=image/png:https://fbctampa.org/wp-content/uploads/2025/02/Members-Meeting-2.png
END:VEVENT
BEGIN:VEVENT
DTSTART;TZID=America/New_York:20260527T181900
DTEND;TZID=America/New_York:20260527T193500
DTSTAMP:20260423T195215
CREATED:20251210T153015Z
LAST-MODIFIED:20260317T160240Z
UID:10002015-1779905940-1779910500@fbctampa.org
SUMMARY:N1NE Student Worship
DESCRIPTION:N1NE Student Worship is a vibrant\, high-energy gathering where students come together to worship\, connect\, and grow in their faith. Through passionate music\, relevant teaching\, and a welcoming community\, N1NE creates a space for 6th-12th graders to encounter God and deepen their relationship with Him. Join us as we lift up our voices and hearts in worship\, building a strong foundation for the next generation of believers.
URL:https://fbctampa.org/event/n1ne-student-worship-2/2026-05-27/
ATTACH;FMTTYPE=image/jpeg:https://fbctampa.org/wp-content/uploads/2025/03/20250219-IMG_6071-2-scaled.jpg
END:VEVENT
BEGIN:VEVENT
DTSTART;TZID=America/New_York:20260527T170000
DTEND;TZID=America/New_York:20260527T181500
DTSTAMP:20260423T195215
CREATED:20251211T160222Z
LAST-MODIFIED:20251211T160831Z
UID:10012965-1779901200-1779905700@fbctampa.org
SUMMARY:Wednesday Night Supper
DESCRIPTION:We offer delicious meals at an affordable price every Wednesday night\, making it easy for individuals and families to join our Midweek Ministries. This includes Discipleship Classes\, AWANA for children\, N1NE youth ministry\, and choir practice later in the evening. Our Midweek Ministries are a great opportunity to nourish both body and spirit!
URL:https://fbctampa.org/event/wednesday-night-supper-2-2/2026-05-27/
LOCATION:Dining Room\, 302 W Kennedy Blvd\, Tampa\, 33606\, United States
ATTACH;FMTTYPE=image/jpeg:https://fbctampa.org/wp-content/uploads/2025/02/dinner-fellowship-header.jpg
END:VEVENT
BEGIN:VEVENT
DTSTART;TZID=America/New_York:20260526T190000
DTEND;TZID=America/New_York:20260526T203000
DTSTAMP:20260423T195215
CREATED:20251217T195203Z
LAST-MODIFIED:20260312T184840Z
UID:10014960-1779822000-1779827400@fbctampa.org
SUMMARY:The Collective - Young Adult Worship
DESCRIPTION:The Collective on Tuesday nights is a gathering for young adults to worship\, dive into the Word\, and grow in fellowship. We also host guest Q&A sessions to deepen our faith and understanding. If you’re college-aged (18-26)\, come join us at 7pm as we seek to grow in Christ together!
URL:https://fbctampa.org/event/the-collective-tuesday-nights-2-2/2026-05-26/
ATTACH;FMTTYPE=image/png:https://fbctampa.org/wp-content/uploads/2025/02/TheCollectiveCollage.png
END:VEVENT
BEGIN:VEVENT
DTSTART;TZID=America/New_York:20260525T180000
DTEND;TZID=America/New_York:20260525T200000
DTSTAMP:20260423T195215
CREATED:20260203T190207Z
LAST-MODIFIED:20260305T185340Z
UID:10013955-1779732000-1779739200@fbctampa.org
SUMMARY:Basketball for Adults
DESCRIPTION:Come out and join us for a fun\, friendly game of pickup basketball! This is a great chance for adults to get active\, enjoy some friendly competition\, and build community. All skill levels welcome!
URL:https://fbctampa.org/event/basketball-for-adults-2/2026-05-25/
ATTACH;FMTTYPE=image/png:https://fbctampa.org/wp-content/uploads/2026/02/For-adults-18-x-24-in-Presentation-2.png
END:VEVENT
BEGIN:VEVENT
DTSTART;TZID=America/New_York:20260524T170000
DTEND;TZID=America/New_York:20260524T200000
DTSTAMP:20260423T195215
CREATED:20260407T164434Z
LAST-MODIFIED:20260407T164434Z
UID:10015021-1779642000-1779652800@fbctampa.org
SUMMARY:First Steps Class
DESCRIPTION:Please join us in the Loft on Sunday\, May 24th from 5:00–8:00 PM for a special time to ask questions\, meet our ministerial staff\, and learn more about what First Baptist Church of Tampa is all about. Discover how you can get connected and become a member—we’d love to see you there!
URL:https://fbctampa.org/event/first-steps-class/
LOCATION:4th Floor Loft\, 302 W Kennedy Blvd\, Tampa\, FL\, 33606\, United States
ATTACH;FMTTYPE=image/png:https://fbctampa.org/wp-content/uploads/2025/02/FirstSteps-8.png
END:VEVENT
BEGIN:VEVENT
DTSTART;TZID=America/New_York:20260524T104500
DTEND;TZID=America/New_York:20260524T121500
DTSTAMP:20260423T195215
CREATED:20260204T175209Z
LAST-MODIFIED:20260204T175209Z
UID:10001408-1779619500-1779624900@fbctampa.org
SUMMARY:Corporate Worship
DESCRIPTION:Join us every Sunday morning as we gather to worship\, grow in God’s Word\, and encourage one another in faith. Our service includes Christ-centered worship\, biblical teaching\, and a welcoming community where you can connect and belong. Our gathering begins at 10:45am at 302 W Kennedy Blvd.
URL:https://fbctampa.org/event/sunday-morning-gathering-2-2/2026-05-24/
ATTACH;FMTTYPE=image/jpeg:https://fbctampa.org/wp-content/uploads/2025/02/new-here-header.jpg
END:VEVENT
BEGIN:VEVENT
DTSTART;TZID=America/New_York:20260524T093000
DTEND;TZID=America/New_York:20260524T103000
DTSTAMP:20260423T195215
CREATED:20260204T175714Z
LAST-MODIFIED:20260204T175714Z
UID:10000557-1779615000-1779618600@fbctampa.org
SUMMARY:Core Groups (Sunday School)
DESCRIPTION:Core Groups are where faith and community come together. These small gatherings provide a place to study God’s Word\, build relationships\, and grow spiritually. Whether you’re new to church or have been following Christ for years\, there’s a group for you!
URL:https://fbctampa.org/event/core-groups-sunday-school-2/2026-05-24/
ATTACH;FMTTYPE=image/jpeg:https://fbctampa.org/wp-content/uploads/2025/02/sunday-core-header.jpg
END:VEVENT
BEGIN:VEVENT
DTSTART;TZID=America/New_York:20260524T083000
DTEND;TZID=America/New_York:20260524T091500
DTSTAMP:20260423T195215
CREATED:20260203T190547Z
LAST-MODIFIED:20260219T183702Z
UID:10012702-1779611400-1779614100@fbctampa.org
SUMMARY:Sunday morning Thrive Cafe
DESCRIPTION:We offer a delicious and affordable breakfast every Sunday morning from 8:30 to 9:15 AM. It’s a great way to start the day before heading to Sunday Core Groups\, which meet from 9:30 to 10:30 AM.
URL:https://fbctampa.org/event/sunday-morning-thrive-cafe-2/2026-05-24/
ATTACH;FMTTYPE=image/jpeg:https://fbctampa.org/wp-content/uploads/2026/02/Thrive-Cafe-Slide-2026.jpg
END:VEVENT
BEGIN:VEVENT
DTSTART;TZID=America/New_York:20260521T190000
DTEND;TZID=America/New_York:20260521T210000
DTSTAMP:20260423T195215
CREATED:20260203T192840Z
LAST-MODIFIED:20260219T182337Z
UID:10014236-1779390000-1779397200@fbctampa.org
SUMMARY:Worship Band Practice
DESCRIPTION:The worship band gathers to rehearse in preparation for Sunday services.
URL:https://fbctampa.org/event/worship-band-practice-2/2026-05-21/
LOCATION:Sanctuary\, 302 W Kennedy Blvd\, Tampa\, FL\, 33606\, United States
ATTACH;FMTTYPE=image/jpeg:https://fbctampa.org/wp-content/uploads/2026/02/DSC05454-scaled.jpg
END:VEVENT
BEGIN:VEVENT
DTSTART;TZID=America/New_York:20260520T193000
DTEND;TZID=America/New_York:20260520T203000
DTSTAMP:20260423T195215
CREATED:20250217T170633Z
LAST-MODIFIED:20260105T195023Z
UID:10013996-1779305400-1779309000@fbctampa.org
SUMMARY:Personnel Committee Meeting
DESCRIPTION:The Personnel Committee meeting will be held to discuss staffing\, volunteer needs\, and any other personnel matters.
URL:https://fbctampa.org/event/personnel-committee-meeting/2026-05-20/
LOCATION:4th Floor Loft\, 302 W Kennedy Blvd\, Tampa\, FL\, 33606\, United States
ATTACH;FMTTYPE=image/png:https://fbctampa.org/wp-content/uploads/2025/02/Untitled-design-55.png
END:VEVENT
BEGIN:VEVENT
DTSTART;TZID=America/New_York:20260520T183000
DTEND;TZID=America/New_York:20260520T193000
DTSTAMP:20260423T195215
CREATED:20260302T194523Z
LAST-MODIFIED:20260309T150450Z
UID:10014813-1779301800-1779305400@fbctampa.org
SUMMARY:Discipleship Classes
DESCRIPTION:Our discipleship classes meet Wednesdays at 6:30 PM\, offering biblical teaching and practical guidance to help you grow in your faith. With classes for all ages and spiritual levels\, we encourage deeper study\, community\, and discipleship in Christ. To see what classes we have available\, follow the link below! \nDiscipleship Classes
URL:https://fbctampa.org/event/discipleship-classes/2026-05-20/
ATTACH;FMTTYPE=image/jpeg:https://fbctampa.org/wp-content/uploads/2025/02/wed-night-discipleship.jpg
END:VEVENT
BEGIN:VEVENT
DTSTART;TZID=America/New_York:20260520T181900
DTEND;TZID=America/New_York:20260520T193500
DTSTAMP:20260423T195215
CREATED:20251210T153015Z
LAST-MODIFIED:20260317T160240Z
UID:10002014-1779301140-1779305700@fbctampa.org
SUMMARY:N1NE Student Worship
DESCRIPTION:N1NE Student Worship is a vibrant\, high-energy gathering where students come together to worship\, connect\, and grow in their faith. Through passionate music\, relevant teaching\, and a welcoming community\, N1NE creates a space for 6th-12th graders to encounter God and deepen their relationship with Him. Join us as we lift up our voices and hearts in worship\, building a strong foundation for the next generation of believers.
URL:https://fbctampa.org/event/n1ne-student-worship-2/2026-05-20/
ATTACH;FMTTYPE=image/jpeg:https://fbctampa.org/wp-content/uploads/2025/03/20250219-IMG_6071-2-scaled.jpg
END:VEVENT
BEGIN:VEVENT
DTSTART;TZID=America/New_York:20260520T170000
DTEND;TZID=America/New_York:20260520T181500
DTSTAMP:20260423T195215
CREATED:20251211T160222Z
LAST-MODIFIED:20251211T160831Z
UID:10012964-1779296400-1779300900@fbctampa.org
SUMMARY:Wednesday Night Supper
DESCRIPTION:We offer delicious meals at an affordable price every Wednesday night\, making it easy for individuals and families to join our Midweek Ministries. This includes Discipleship Classes\, AWANA for children\, N1NE youth ministry\, and choir practice later in the evening. Our Midweek Ministries are a great opportunity to nourish both body and spirit!
URL:https://fbctampa.org/event/wednesday-night-supper-2-2/2026-05-20/
LOCATION:Dining Room\, 302 W Kennedy Blvd\, Tampa\, 33606\, United States
ATTACH;FMTTYPE=image/jpeg:https://fbctampa.org/wp-content/uploads/2025/02/dinner-fellowship-header.jpg
END:VEVENT
BEGIN:VEVENT
DTSTART;TZID=America/New_York:20260519T190000
DTEND;TZID=America/New_York:20260519T203000
DTSTAMP:20260423T195215
CREATED:20251217T195203Z
LAST-MODIFIED:20260312T184840Z
UID:10014959-1779217200-1779222600@fbctampa.org
SUMMARY:The Collective - Young Adult Worship
DESCRIPTION:The Collective on Tuesday nights is a gathering for young adults to worship\, dive into the Word\, and grow in fellowship. We also host guest Q&A sessions to deepen our faith and understanding. If you’re college-aged (18-26)\, come join us at 7pm as we seek to grow in Christ together!
URL:https://fbctampa.org/event/the-collective-tuesday-nights-2-2/2026-05-19/
ATTACH;FMTTYPE=image/png:https://fbctampa.org/wp-content/uploads/2025/02/TheCollectiveCollage.png
END:VEVENT
BEGIN:VEVENT
DTSTART;TZID=America/New_York:20260518T180000
DTEND;TZID=America/New_York:20260518T200000
DTSTAMP:20260423T195215
CREATED:20260203T190207Z
LAST-MODIFIED:20260305T185340Z
UID:10013954-1779127200-1779134400@fbctampa.org
SUMMARY:Basketball for Adults
DESCRIPTION:Come out and join us for a fun\, friendly game of pickup basketball! This is a great chance for adults to get active\, enjoy some friendly competition\, and build community. All skill levels welcome!
URL:https://fbctampa.org/event/basketball-for-adults-2/2026-05-18/
ATTACH;FMTTYPE=image/png:https://fbctampa.org/wp-content/uploads/2026/02/For-adults-18-x-24-in-Presentation-2.png
END:VEVENT
BEGIN:VEVENT
DTSTART;TZID=America/New_York:20260517T123000
DTEND;TZID=America/New_York:20260517T133000
DTSTAMP:20260423T195215
CREATED:20250730T172542Z
LAST-MODIFIED:20260105T195812Z
UID:10014015-1779021000-1779024600@fbctampa.org
SUMMARY:Stewardship Committee
DESCRIPTION:The Stewardship Committee will meet to discuss financial planning\, budgeting\, and ways to encourage faithful giving and stewardship within the church.
URL:https://fbctampa.org/event/stewardship-committee-2/2026-05-17/
LOCATION:4th Floor Loft\, 302 W Kennedy Blvd\, Tampa\, FL\, 33606\, United States
ATTACH;FMTTYPE=image/png:https://fbctampa.org/wp-content/uploads/2025/02/Untitled-design-55.png
END:VEVENT
BEGIN:VEVENT
DTSTART;TZID=America/New_York:20260517T120000
DTEND;TZID=America/New_York:20260517T140000
DTSTAMP:20260423T195215
CREATED:20260407T163049Z
LAST-MODIFIED:20260416T160711Z
UID:10015020-1779019200-1779026400@fbctampa.org
SUMMARY:Graduation Celebration
DESCRIPTION:Come join us in celebrating the 2026 high school\, college\, and career graduates! \nJoin us in the church dining room from 12:00 PM to 2:00 PM as we honor their hard work\, dedication\, and achievements. Let’s come together to congratulate them and wish them the Lord’s blessings as they step into their bright futures.
URL:https://fbctampa.org/event/graduation-celebration/
LOCATION:Dining Room\, 302 W Kennedy Blvd\, Tampa\, 33606\, United States
ATTACH;FMTTYPE=image/jpeg:https://fbctampa.org/wp-content/uploads/2026/04/Untitled-design-9.jpg
END:VEVENT
END:VCALENDAR