BEGIN:VCALENDAR
VERSION:2.0
PRODID:-//FBC Tampa - ECPv6.15.11//NONSGML v1.0//EN
CALSCALE:GREGORIAN
METHOD:PUBLISH
X-ORIGINAL-URL:https://fbctampa.org
X-WR-CALDESC:Events for FBC Tampa
REFRESH-INTERVAL;VALUE=DURATION:PT1H
X-Robots-Tag:noindex
X-PUBLISHED-TTL:PT1H
BEGIN:VTIMEZONE
TZID:America/New_York
BEGIN:DAYLIGHT
TZOFFSETFROM:-0500
TZOFFSETTO:-0400
TZNAME:EDT
DTSTART:20250309T070000
END:DAYLIGHT
BEGIN:STANDARD
TZOFFSETFROM:-0400
TZOFFSETTO:-0500
TZNAME:EST
DTSTART:20251102T060000
END:STANDARD
BEGIN:DAYLIGHT
TZOFFSETFROM:-0500
TZOFFSETTO:-0400
TZNAME:EDT
DTSTART:20260308T070000
END:DAYLIGHT
BEGIN:STANDARD
TZOFFSETFROM:-0400
TZOFFSETTO:-0500
TZNAME:EST
DTSTART:20261101T060000
END:STANDARD
BEGIN:DAYLIGHT
TZOFFSETFROM:-0500
TZOFFSETTO:-0400
TZNAME:EDT
DTSTART:20270314T070000
END:DAYLIGHT
BEGIN:STANDARD
TZOFFSETFROM:-0400
TZOFFSETTO:-0500
TZNAME:EST
DTSTART:20271107T060000
END:STANDARD
END:VTIMEZONE
BEGIN:VEVENT
DTSTART;TZID=America/New_York:20260604T080000
DTEND;TZID=America/New_York:20260617T170000
DTSTAMP:20260423T181444
CREATED:20260407T165056Z
LAST-MODIFIED:20260407T170239Z
UID:10015022-1780560000-1781715600@fbctampa.org
SUMMARY:Kenya Mission Trip
DESCRIPTION:We’re going on a mission trip to Kenya\, Africa—and you’re invited to be part of it! \nCome experience the beauty of the African continent\, share the Gospel\, and reach out to others from June 4th–June 17th. This is a unique opportunity to serve\, grow in your faith\, and be a blessing to others—you’ll be blessed in return. \nJoin us for this incredible journey!
URL:https://fbctampa.org/event/kenya-mission-trip/
ATTACH;FMTTYPE=image/svg+xml:https://fbctampa.org/wp-content/uploads/2025/02/africa.svg
END:VEVENT
BEGIN:VEVENT
DTSTART;VALUE=DATE:20260615
DTEND;VALUE=DATE:20260620
DTSTAMP:20260423T181444
CREATED:20250530T171944Z
LAST-MODIFIED:20260407T170941Z
UID:10002276-1781481600-1781913599@fbctampa.org
SUMMARY:CentriKid Camp
DESCRIPTION:It’s time for one of the biggest weeks of the summer—CentriKid Camp is here! Our kids will be heading off for a week packed with high-energy worship\, exciting games\, awesome Bible study\, and unforgettable fun with friends and leaders. At CentriKid\, kids grow closer to God and each other while discovering what it means to have a faith of their own.
URL:https://fbctampa.org/event/centrikid-camp/
ATTACH;FMTTYPE=image/png:https://fbctampa.org/wp-content/uploads/2025/05/Untitled-design-66.png
END:VEVENT
BEGIN:VEVENT
DTSTART;TZID=America/New_York:20260616T190000
DTEND;TZID=America/New_York:20260616T203000
DTSTAMP:20260423T181444
CREATED:20251217T195203Z
LAST-MODIFIED:20260312T184840Z
UID:10014963-1781636400-1781641800@fbctampa.org
SUMMARY:The Collective - Young Adult Worship
DESCRIPTION:The Collective on Tuesday nights is a gathering for young adults to worship\, dive into the Word\, and grow in fellowship. We also host guest Q&A sessions to deepen our faith and understanding. If you’re college-aged (18-26)\, come join us at 7pm as we seek to grow in Christ together!
URL:https://fbctampa.org/event/the-collective-tuesday-nights-2-2/2026-06-16/
ATTACH;FMTTYPE=image/png:https://fbctampa.org/wp-content/uploads/2025/02/TheCollectiveCollage.png
END:VEVENT
END:VCALENDAR