BEGIN:VCALENDAR
VERSION:2.0
PRODID:-//FBC Tampa - ECPv6.15.11//NONSGML v1.0//EN
CALSCALE:GREGORIAN
METHOD:PUBLISH
X-WR-CALNAME:FBC Tampa
X-ORIGINAL-URL:https://fbctampa.org
X-WR-CALDESC:Events for FBC Tampa
REFRESH-INTERVAL;VALUE=DURATION:PT1H
X-Robots-Tag:noindex
X-PUBLISHED-TTL:PT1H
BEGIN:VTIMEZONE
TZID:America/New_York
BEGIN:DAYLIGHT
TZOFFSETFROM:-0500
TZOFFSETTO:-0400
TZNAME:EDT
DTSTART:20250309T070000
END:DAYLIGHT
BEGIN:STANDARD
TZOFFSETFROM:-0400
TZOFFSETTO:-0500
TZNAME:EST
DTSTART:20251102T060000
END:STANDARD
BEGIN:DAYLIGHT
TZOFFSETFROM:-0500
TZOFFSETTO:-0400
TZNAME:EDT
DTSTART:20260308T070000
END:DAYLIGHT
BEGIN:STANDARD
TZOFFSETFROM:-0400
TZOFFSETTO:-0500
TZNAME:EST
DTSTART:20261101T060000
END:STANDARD
BEGIN:DAYLIGHT
TZOFFSETFROM:-0500
TZOFFSETTO:-0400
TZNAME:EDT
DTSTART:20270314T070000
END:DAYLIGHT
BEGIN:STANDARD
TZOFFSETFROM:-0400
TZOFFSETTO:-0500
TZNAME:EST
DTSTART:20271107T060000
END:STANDARD
END:VTIMEZONE
BEGIN:VEVENT
DTSTART;TZID=America/New_York:20260604T080000
DTEND;TZID=America/New_York:20260617T170000
DTSTAMP:20260423T193119
CREATED:20260407T165056Z
LAST-MODIFIED:20260407T170239Z
UID:10015022-1780560000-1781715600@fbctampa.org
SUMMARY:Kenya Mission Trip
DESCRIPTION:We’re going on a mission trip to Kenya\, Africa—and you’re invited to be part of it! \nCome experience the beauty of the African continent\, share the Gospel\, and reach out to others from June 4th–June 17th. This is a unique opportunity to serve\, grow in your faith\, and be a blessing to others—you’ll be blessed in return. \nJoin us for this incredible journey!
URL:https://fbctampa.org/event/kenya-mission-trip/
ATTACH;FMTTYPE=image/svg+xml:https://fbctampa.org/wp-content/uploads/2025/02/africa.svg
END:VEVENT
BEGIN:VEVENT
DTSTART;TZID=America/New_York:20260611T080000
DTEND;TZID=America/New_York:20260611T210000
DTSTAMP:20260423T193119
CREATED:20260209T190226Z
LAST-MODIFIED:20260209T190226Z
UID:10006432-1781164800-1781211600@fbctampa.org
SUMMARY:Men's Prayer Breakfast
DESCRIPTION:The Men’s Prayer Breakfast meets at Pach’s Place in the Tahitian Inn\, on the second Thursday of each month for fellowship\, prayer\, and encouragement. Join us as we gather to lift each other up in faith over a hearty breakfast. \n601 South Dale Mabry Hwy Tampa 33609
URL:https://fbctampa.org/event/mens-prayer-breakfast-3-2-2-3/2026-06-11/
ATTACH;FMTTYPE=image/png:https://fbctampa.org/wp-content/uploads/2025/02/mens-brunch.png
END:VEVENT
BEGIN:VEVENT
DTSTART;TZID=America/New_York:20260611T190000
DTEND;TZID=America/New_York:20260611T210000
DTSTAMP:20260423T193119
CREATED:20260203T192840Z
LAST-MODIFIED:20260219T182337Z
UID:10014239-1781204400-1781211600@fbctampa.org
SUMMARY:Worship Band Practice
DESCRIPTION:The worship band gathers to rehearse in preparation for Sunday services.
URL:https://fbctampa.org/event/worship-band-practice-2/2026-06-11/
LOCATION:Sanctuary\, 302 W Kennedy Blvd\, Tampa\, FL\, 33606\, United States
ATTACH;FMTTYPE=image/jpeg:https://fbctampa.org/wp-content/uploads/2026/02/DSC05454-scaled.jpg
END:VEVENT
END:VCALENDAR