BEGIN:VCALENDAR
VERSION:2.0
PRODID:-//FBC Tampa - ECPv6.15.11//NONSGML v1.0//EN
CALSCALE:GREGORIAN
METHOD:PUBLISH
X-WR-CALNAME:FBC Tampa
X-ORIGINAL-URL:https://fbctampa.org
X-WR-CALDESC:Events for FBC Tampa
REFRESH-INTERVAL;VALUE=DURATION:PT1H
X-Robots-Tag:noindex
X-PUBLISHED-TTL:PT1H
BEGIN:VTIMEZONE
TZID:America/New_York
BEGIN:DAYLIGHT
TZOFFSETFROM:-0500
TZOFFSETTO:-0400
TZNAME:EDT
DTSTART:20250309T070000
END:DAYLIGHT
BEGIN:STANDARD
TZOFFSETFROM:-0400
TZOFFSETTO:-0500
TZNAME:EST
DTSTART:20251102T060000
END:STANDARD
BEGIN:DAYLIGHT
TZOFFSETFROM:-0500
TZOFFSETTO:-0400
TZNAME:EDT
DTSTART:20260308T070000
END:DAYLIGHT
BEGIN:STANDARD
TZOFFSETFROM:-0400
TZOFFSETTO:-0500
TZNAME:EST
DTSTART:20261101T060000
END:STANDARD
BEGIN:DAYLIGHT
TZOFFSETFROM:-0500
TZOFFSETTO:-0400
TZNAME:EDT
DTSTART:20270314T070000
END:DAYLIGHT
BEGIN:STANDARD
TZOFFSETFROM:-0400
TZOFFSETTO:-0500
TZNAME:EST
DTSTART:20271107T060000
END:STANDARD
END:VTIMEZONE
BEGIN:VEVENT
DTSTART;TZID=America/New_York:20260412T083000
DTEND;TZID=America/New_York:20260503T170000
DTSTAMP:20260423T152528
CREATED:20260409T165159Z
LAST-MODIFIED:20260416T160918Z
UID:10015023-1775982600-1777827600@fbctampa.org
SUMMARY:New Life Solutions / Lullaby Ministries Drive
DESCRIPTION:New Life Solutions Drive: Throughout the month of April we will be accepting donations of new baby items to bless and support moms in need.  From diapers and clothing to baby gear and essentials\, each gift helps provide comfort\, care\, and encouragement to new mamas who could use a helping hand. Our mission is simple: to share hope\, spread joy\, and make sure no mom feels alone on her journey. April 12th-May 3rd. \nLullaby Ministry: Throughout the month of April we will be accepting donations of diapers\, wipes\, and gently used clothing (sizes 3T and smaller). Our mission is simple: to spread joy and support new mamas by sharing these essentials with those who could use a helping hand. Every contribution makes a difference! April 12th-May 3rd. \nYou can donate and get more information by clicking : Here
URL:https://fbctampa.org/event/new-life-solutions-lullaby-ministries-drive/
CATEGORIES:Popular
ATTACH;FMTTYPE=image/jpeg:https://fbctampa.org/wp-content/uploads/2026/04/Diaper-DriveNewLifeBaby-Shower.jpg
END:VEVENT
BEGIN:VEVENT
DTSTART;VALUE=DATE:20260502
DTEND;VALUE=DATE:20260503
DTSTAMP:20260423T152528
CREATED:20260216T202846Z
LAST-MODIFIED:20260421T152649Z
UID:10014378-1777680000-1777766399@fbctampa.org
SUMMARY:The Collective:  Beach Day!
DESCRIPTION:🌊☀️ You’re Invited! ☀️🌊 \nJoin us on May 2nd for a fun and refreshing beach day as we soak up the sun and enjoy God’s beautiful creation together! \nWhether you’re coming to relax\, swim\, play games\, or just spend time in fellowship\, there’s something for everyone. \n📍 Location & Time: TBD\nStay tuned for more details—it’s going to be an amazing day! \nFeel free to invite a friend—we can’t wait to see you there!
URL:https://fbctampa.org/event/the-collective-kayaking/
END:VEVENT
BEGIN:VEVENT
DTSTART;TZID=America/New_York:20260502T080000
DTEND;TZID=America/New_York:20260502T110000
DTSTAMP:20260423T152528
CREATED:20250422T193755Z
LAST-MODIFIED:20260414T154925Z
UID:10002217-1777708800-1777719600@fbctampa.org
SUMMARY:Walk For Life 2026
DESCRIPTION:​Come join us in support of our mission partners! The Walk for Life in St. Petersburg is an annual spring fundraiser hosted by New Life Solutions\, dedicated to supporting individuals and families facing unplanned pregnancies. The 2026 event is scheduled for Saturday\, May 2\, at North Shore Park in St. Petersburg . Bring your friends\, your church\, and your passion for life — every step makes a difference! \nParticipants can join at North Shore Park\, located at 901 North Shore Drive Northeast in St. Petersburg\, FL 33701\, with check-in beginning at 8:00 AM\, and the walk starting at 9:00 AM.  There will be vendors at the park with food and beverages available for purchase before and after the walk \nhttps://www.newlifesolutions.org/walk-for-life
URL:https://fbctampa.org/event/walk-for-life-2025/
ATTACH;FMTTYPE=image/png:https://fbctampa.org/wp-content/uploads/2025/04/NLS_WalkforLife.png
END:VEVENT
END:VCALENDAR