BEGIN:VCALENDAR
VERSION:2.0
PRODID:-//FBC Tampa - ECPv6.15.11//NONSGML v1.0//EN
CALSCALE:GREGORIAN
METHOD:PUBLISH
X-ORIGINAL-URL:https://fbctampa.org
X-WR-CALDESC:Events for FBC Tampa
REFRESH-INTERVAL;VALUE=DURATION:PT1H
X-Robots-Tag:noindex
X-PUBLISHED-TTL:PT1H
BEGIN:VTIMEZONE
TZID:America/New_York
BEGIN:DAYLIGHT
TZOFFSETFROM:-0500
TZOFFSETTO:-0400
TZNAME:EDT
DTSTART:20250309T070000
END:DAYLIGHT
BEGIN:STANDARD
TZOFFSETFROM:-0400
TZOFFSETTO:-0500
TZNAME:EST
DTSTART:20251102T060000
END:STANDARD
BEGIN:DAYLIGHT
TZOFFSETFROM:-0500
TZOFFSETTO:-0400
TZNAME:EDT
DTSTART:20260308T070000
END:DAYLIGHT
BEGIN:STANDARD
TZOFFSETFROM:-0400
TZOFFSETTO:-0500
TZNAME:EST
DTSTART:20261101T060000
END:STANDARD
BEGIN:DAYLIGHT
TZOFFSETFROM:-0500
TZOFFSETTO:-0400
TZNAME:EDT
DTSTART:20270314T070000
END:DAYLIGHT
BEGIN:STANDARD
TZOFFSETFROM:-0400
TZOFFSETTO:-0500
TZNAME:EST
DTSTART:20271107T060000
END:STANDARD
END:VTIMEZONE
BEGIN:VEVENT
DTSTART;TZID=America/New_York:20260412T083000
DTEND;TZID=America/New_York:20260412T091500
DTSTAMP:20260423T152731
CREATED:20260203T190547Z
LAST-MODIFIED:20260219T183702Z
UID:10012696-1775982600-1775985300@fbctampa.org
SUMMARY:Sunday morning Thrive Cafe
DESCRIPTION:We offer a delicious and affordable breakfast every Sunday morning from 8:30 to 9:15 AM. It’s a great way to start the day before heading to Sunday Core Groups\, which meet from 9:30 to 10:30 AM.
URL:https://fbctampa.org/event/sunday-morning-thrive-cafe-2/2026-04-12/
ATTACH;FMTTYPE=image/jpeg:https://fbctampa.org/wp-content/uploads/2026/02/Thrive-Cafe-Slide-2026.jpg
END:VEVENT
BEGIN:VEVENT
DTSTART;TZID=America/New_York:20260412T083000
DTEND;TZID=America/New_York:20260503T170000
DTSTAMP:20260423T152731
CREATED:20260409T165159Z
LAST-MODIFIED:20260416T160918Z
UID:10015023-1775982600-1777827600@fbctampa.org
SUMMARY:New Life Solutions / Lullaby Ministries Drive
DESCRIPTION:New Life Solutions Drive: Throughout the month of April we will be accepting donations of new baby items to bless and support moms in need.  From diapers and clothing to baby gear and essentials\, each gift helps provide comfort\, care\, and encouragement to new mamas who could use a helping hand. Our mission is simple: to share hope\, spread joy\, and make sure no mom feels alone on her journey. April 12th-May 3rd. \nLullaby Ministry: Throughout the month of April we will be accepting donations of diapers\, wipes\, and gently used clothing (sizes 3T and smaller). Our mission is simple: to spread joy and support new mamas by sharing these essentials with those who could use a helping hand. Every contribution makes a difference! April 12th-May 3rd. \nYou can donate and get more information by clicking : Here
URL:https://fbctampa.org/event/new-life-solutions-lullaby-ministries-drive/
CATEGORIES:Popular
ATTACH;FMTTYPE=image/jpeg:https://fbctampa.org/wp-content/uploads/2026/04/Diaper-DriveNewLifeBaby-Shower.jpg
END:VEVENT
BEGIN:VEVENT
DTSTART;TZID=America/New_York:20260412T093000
DTEND;TZID=America/New_York:20260412T103000
DTSTAMP:20260423T152731
CREATED:20260204T175714Z
LAST-MODIFIED:20260204T175714Z
UID:10000551-1775986200-1775989800@fbctampa.org
SUMMARY:Core Groups (Sunday School)
DESCRIPTION:Core Groups are where faith and community come together. These small gatherings provide a place to study God’s Word\, build relationships\, and grow spiritually. Whether you’re new to church or have been following Christ for years\, there’s a group for you!
URL:https://fbctampa.org/event/core-groups-sunday-school-2/2026-04-12/
ATTACH;FMTTYPE=image/jpeg:https://fbctampa.org/wp-content/uploads/2025/02/sunday-core-header.jpg
END:VEVENT
END:VCALENDAR