BEGIN:VCALENDAR
VERSION:2.0
PRODID:-//FBC Tampa - ECPv6.15.11//NONSGML v1.0//EN
CALSCALE:GREGORIAN
METHOD:PUBLISH
X-ORIGINAL-URL:https://fbctampa.org
X-WR-CALDESC:Events for FBC Tampa
REFRESH-INTERVAL;VALUE=DURATION:PT1H
X-Robots-Tag:noindex
X-PUBLISHED-TTL:PT1H
BEGIN:VTIMEZONE
TZID:America/New_York
BEGIN:DAYLIGHT
TZOFFSETFROM:-0500
TZOFFSETTO:-0400
TZNAME:EDT
DTSTART:20250309T070000
END:DAYLIGHT
BEGIN:STANDARD
TZOFFSETFROM:-0400
TZOFFSETTO:-0500
TZNAME:EST
DTSTART:20251102T060000
END:STANDARD
BEGIN:DAYLIGHT
TZOFFSETFROM:-0500
TZOFFSETTO:-0400
TZNAME:EDT
DTSTART:20260308T070000
END:DAYLIGHT
BEGIN:STANDARD
TZOFFSETFROM:-0400
TZOFFSETTO:-0500
TZNAME:EST
DTSTART:20261101T060000
END:STANDARD
BEGIN:DAYLIGHT
TZOFFSETFROM:-0500
TZOFFSETTO:-0400
TZNAME:EDT
DTSTART:20270314T070000
END:DAYLIGHT
BEGIN:STANDARD
TZOFFSETFROM:-0400
TZOFFSETTO:-0500
TZNAME:EST
DTSTART:20271107T060000
END:STANDARD
END:VTIMEZONE
BEGIN:VEVENT
DTSTART;VALUE=DATE:20260112
DTEND;VALUE=DATE:20260201
DTSTAMP:20260423T193412
CREATED:20260112T211552Z
LAST-MODIFIED:20260119T200856Z
UID:10014178-1768176000-1769903999@fbctampa.org
SUMMARY:Business & Professional Directory Submission
DESCRIPTION:We’re excited to introduce a new Church Family Business & Professional Directory designed to support & connect our church family. This directory will serve as a resource for finding trusted services within our congregation while supporting the businesses and professions of our members.\n\nIf you own a business\, are self-employed\, or offer professional services and would like to be included\, we invite you to submit your information using the link below.\n\nhttps://docs.google.com/forms/d/12bgcoMHid4C7ZfnJjiPnKexlNP8Y86bS7-6AWPb_uT0/edit?usp=drive_web&ouid=111872035001616222703\n\nParticipation is completely optional\, and inclusion in the directory does not imply endorsement by the church. This directory is simply a community resource made available to help serve and support our church family.\nOnce compiled\, the directory will be shared with the congregation as a helpful resource.
URL:https://fbctampa.org/event/business-professional-directory-submission/
ATTACH;FMTTYPE=image/jpeg:https://fbctampa.org/wp-content/uploads/2026/01/Directory-Presentation.jpg
END:VEVENT
BEGIN:VEVENT
DTSTART;TZID=America/New_York:20260117T090000
DTEND;TZID=America/New_York:20260214T120000
DTSTAMP:20260423T193412
CREATED:20260112T210631Z
LAST-MODIFIED:20260202T191637Z
UID:10014177-1768640400-1771070400@fbctampa.org
SUMMARY:5G Basketball
DESCRIPTION:6th Annual 5G Basketball League @ FBC Tampa\nWe are thrilled to announce that the 5G Basketball League is back for 2026! This youth league is designed for boys and girls ages 5–12 of all skill levels. Whether your child is a seasoned player or picking up a basketball for the first time\, they will find a welcoming\, high-energy environment here. \nPlease sign up here \nAt 5G\, we play for more than just the scoreboard. Our mission is to build character through the “5Gs” found in the Bible: \n\n\nGlorify God \n\n\nGratitude \n\n\nGod’s Grace \n\n\nGospel \n\n\nGrit \n\n\n\n📅 Key Information\n\n\nAges: 5–12 (All skill levels & beginners welcome!) \n\n\nRegistration Deadline: January 7\, 2026 \n\n\nLocation: FBC Tampa \n\n\nKickoff Event: Pre-Season “Basics of Basketball & Shooting Clinic” with Coach Teddy on January 10. \n\n\n\n🕒 2026 Season Schedule\n\n\n\n\n\n\n\nDate\nEvent\nTime Details\n\n\n\n\nJan 10\nPre-Season Clinic w/ Coach Teddy\n9:30 AM (Ages 9 & under) / 10:45 AM (Ages 10-12)\n\n\nJan 17\nWeek 1: Tip-Off Jamboree\nGame Day & Uniform Distribution\n\n\nJan 19\nPractice\n4:00 PM or 5:30 PM\n\n\nJan 24\nWeek 2: Games\nGame Day\n\n\nJan 26\nPractice\n4:00 PM or 5:30 PM\n\n\nJan 31\nWeek 3: Games\nGame Day\n\n\nFeb 2\nPractice\n4:00 PM or 5:30 PM\n\n\nFeb 7\nWeek 4: Games\nGame Day\n\n\nFeb 9\nPractice\n4:00 PM or 5:30 PM\n\n\nFeb 14\nWeek 5: Games\nGame Day\n\n\nFeb 21\nSeason Finale & BBQ Banquet\n10:00 AM – 12:00 PM
URL:https://fbctampa.org/event/5g-basketball/
LOCATION:Gymnasium\, 302 W Kennedy Blvd\, Tampa\, FL\, 33606\, United States
ATTACH;FMTTYPE=image/jpeg:https://fbctampa.org/wp-content/uploads/2026/01/5G-Basketball-2.jpg
END:VEVENT
BEGIN:VEVENT
DTSTART;TZID=America/New_York:20260118T093000
DTEND;TZID=America/New_York:20260118T103000
DTSTAMP:20260423T193412
CREATED:20250211T024320Z
LAST-MODIFIED:20250907T031407Z
UID:10000539-1768728600-1768732200@fbctampa.org
SUMMARY:Core Groups (Sunday School)
DESCRIPTION:Core Groups are where faith and community come together. These small gatherings provide a place to study God’s Word\, build relationships\, and grow spiritually. Whether you’re new to church or have been following Christ for years\, there’s a group for you!
URL:https://fbctampa.org/event/core-groups-sunday-school/2026-01-18/
ATTACH;FMTTYPE=image/jpeg:https://fbctampa.org/wp-content/uploads/2025/02/sunday-core-header.jpg
END:VEVENT
BEGIN:VEVENT
DTSTART;TZID=America/New_York:20260118T123000
DTEND;TZID=America/New_York:20260118T133000
DTSTAMP:20260423T193412
CREATED:20250730T172542Z
LAST-MODIFIED:20260105T195812Z
UID:10002274-1768739400-1768743000@fbctampa.org
SUMMARY:Stewardship Committee
DESCRIPTION:The Stewardship Committee will meet to discuss financial planning\, budgeting\, and ways to encourage faithful giving and stewardship within the church.
URL:https://fbctampa.org/event/stewardship-committee-2/2026-01-18/
LOCATION:4th Floor Loft\, 302 W Kennedy Blvd\, Tampa\, FL\, 33606\, United States
ATTACH;FMTTYPE=image/png:https://fbctampa.org/wp-content/uploads/2025/02/Untitled-design-55.png
END:VEVENT
END:VCALENDAR