BEGIN:VCALENDAR
VERSION:2.0
PRODID:-//FBC Tampa - ECPv6.15.11//NONSGML v1.0//EN
CALSCALE:GREGORIAN
METHOD:PUBLISH
X-WR-CALNAME:FBC Tampa
X-ORIGINAL-URL:https://fbctampa.org
X-WR-CALDESC:Events for FBC Tampa
REFRESH-INTERVAL;VALUE=DURATION:PT1H
X-Robots-Tag:noindex
X-PUBLISHED-TTL:PT1H
BEGIN:VTIMEZONE
TZID:America/New_York
BEGIN:DAYLIGHT
TZOFFSETFROM:-0500
TZOFFSETTO:-0400
TZNAME:EDT
DTSTART:20250309T070000
END:DAYLIGHT
BEGIN:STANDARD
TZOFFSETFROM:-0400
TZOFFSETTO:-0500
TZNAME:EST
DTSTART:20251102T060000
END:STANDARD
BEGIN:DAYLIGHT
TZOFFSETFROM:-0500
TZOFFSETTO:-0400
TZNAME:EDT
DTSTART:20260308T070000
END:DAYLIGHT
BEGIN:STANDARD
TZOFFSETFROM:-0400
TZOFFSETTO:-0500
TZNAME:EST
DTSTART:20261101T060000
END:STANDARD
BEGIN:DAYLIGHT
TZOFFSETFROM:-0500
TZOFFSETTO:-0400
TZNAME:EDT
DTSTART:20270314T070000
END:DAYLIGHT
BEGIN:STANDARD
TZOFFSETFROM:-0400
TZOFFSETTO:-0500
TZNAME:EST
DTSTART:20271107T060000
END:STANDARD
END:VTIMEZONE
BEGIN:VEVENT
DTSTART;TZID=America/New_York:20260108T090000
DTEND;TZID=America/New_York:20260108T160000
DTSTAMP:20260423T193102
CREATED:20251009T153854Z
LAST-MODIFIED:20260107T154730Z
UID:10007527-1767862800-1767888000@fbctampa.org
SUMMARY:Will and Estate Planning
DESCRIPTION:You will learn about Wills and Living Trusts and how to protect your assets for the people and ministries you care about –all from a Biblical perspective. FBF will also offer individual appointments in the weeks following the presentation. If you so choose\, they will meet with you to review your estate planning needs and goals. \nPlease sign up here for the Will and Estate Planning \nhttps://fbctampa.breezechms.com/form/ee23b1
URL:https://fbctampa.org/event/will-and-estate-planning/
LOCATION:Dining Room\, 302 W Kennedy Blvd\, Tampa\, 33606\, United States
ATTACH;FMTTYPE=application/pdf:https://fbctampa.org/wp-content/uploads/2025/10/Will-and-Estate.pdf
END:VEVENT
END:VCALENDAR